BEGIN:VCALENDAR
VERSION:2.0
PRODID:-//QuickScores.com//BQ Dynamic iCal Creator//EN
METHOD:PUBLISH
X-WR-CALNAME:Roselle - Dodgers - Degrado - Youth Baseball - 10u - Fall 2025
X-WR-CALDESC:QuickScores game calendar
X-PUBLISHED-TTL:PT24H
REFRESH-INTERVAL;VALUE=DURATION:PT24H
CALSCALE:GREGORIAN
BEGIN:VTIMEZONE
TZID:America/Chicago
X-LIC-LOCATION:America/Chicago
BEGIN:DAYLIGHT
TZNAME:CDT
TZOFFSETFROM:-0600
TZOFFSETTO:-0500
DTSTART:19700308T020000
RRULE:FREQ=YEARLY;BYMONTH=3;BYDAY=2SU
END:DAYLIGHT
BEGIN:STANDARD
TZNAME:CST
TZOFFSETFROM:-0500
TZOFFSETTO:-0600
DTSTART:19701101T020000
RRULE:FREQ=YEARLY;BYMONTH=11;BYDAY=1SU
END:STANDARD
END:VTIMEZONE
BEGIN:VEVENT
UID:csparks-70138818-20250816T140000@quickscores.com
DTSTAMP:20260423T122200Z
DTSTART;TZID=America/Chicago:20250816T140000
DURATION:PT2H0M0S
SUMMARY:Roselle - Dodgers - Degrado vs. Carol Stream - Yankees
DESCRIPTION:Youth Baseball - 10u - Carol Stream Park District
LOCATION:Clauss - Field 1 (Yellow)
CATEGORIES:QuickScores, Baseball - Youth Game
TRANSP:OPAQUE
BEGIN:VALARM
TRIGGER:-PT2H
ACTION:DISPLAY
DESCRIPTION:Roselle - Dodgers - Degrado vs. Carol Stream - Yankees
END:VALARM
END:VEVENT
BEGIN:VEVENT
UID:csparks-70138830-20250822T180000@quickscores.com
DTSTAMP:20260423T122200Z
DTSTART;TZID=America/Chicago:20250822T180000
DURATION:PT2H0M0S
SUMMARY:Roselle - Guardians vs. Roselle - Dodgers - Degrado
DESCRIPTION:Youth Baseball - 10u - Carol Stream Park District
LOCATION:Clauss - Field 2 (Green)
CATEGORIES:QuickScores, Baseball - Youth Game
TRANSP:OPAQUE
BEGIN:VALARM
TRIGGER:-PT2H
ACTION:DISPLAY
DESCRIPTION:Roselle - Guardians vs. Roselle - Dodgers - Degrado
END:VALARM
END:VEVENT
BEGIN:VEVENT
UID:csparks-70138826-20250904T180000@quickscores.com
DTSTAMP:20260423T122200Z
DTSTART;TZID=America/Chicago:20250904T180000
DURATION:PT2H0M0S
SUMMARY:Glendale Heights - (Phillies) vs. Roselle - Dodgers - Degrado
DESCRIPTION:Game Rescheduled from 8/23 --- Youth Baseball - 10u - Carol Stream Park District
LOCATION:Nazos West
CATEGORIES:QuickScores, Baseball - Youth Game
TRANSP:OPAQUE
BEGIN:VALARM
TRIGGER:-PT2H
ACTION:DISPLAY
DESCRIPTION:Glendale Heights - (Phillies) vs. Roselle - Dodgers - Degrado
END:VALARM
END:VEVENT
BEGIN:VEVENT
UID:csparks-70138846-20250906T150000@quickscores.com
DTSTAMP:20260423T122200Z
DTSTART;TZID=America/Chicago:20250906T150000
DURATION:PT2H0M0S
SUMMARY:Bloomingdale - Yankees vs. Roselle - Dodgers - Degrado
DESCRIPTION:Youth Baseball - 10u - Carol Stream Park District
LOCATION:Springfield Park Field 2
CATEGORIES:QuickScores, Baseball - Youth Game
TRANSP:OPAQUE
BEGIN:VALARM
TRIGGER:-PT2H
ACTION:DISPLAY
DESCRIPTION:Bloomingdale - Yankees vs. Roselle - Dodgers - Degrado
END:VALARM
END:VEVENT
BEGIN:VEVENT
UID:csparks-70138833-20250912T180000@quickscores.com
DTSTAMP:20260423T122200Z
DTSTART;TZID=America/Chicago:20250912T180000
DURATION:PT2H0M0S
SUMMARY:Roselle - Dodgers - Degrado vs. Carol Stream - Red Sox
DESCRIPTION:Moved from 8/29 --- Youth Baseball - 10u - Carol Stream Park District
LOCATION:Clauss - Field 1 (Yellow)
CATEGORIES:QuickScores, Baseball - Youth Game
TRANSP:OPAQUE
BEGIN:VALARM
TRIGGER:-PT2H
ACTION:DISPLAY
DESCRIPTION:Roselle - Dodgers - Degrado vs. Carol Stream - Red Sox
END:VALARM
END:VEVENT
BEGIN:VEVENT
UID:csparks-70138855-20250913T140000@quickscores.com
DTSTAMP:20260423T122200Z
DTSTART;TZID=America/Chicago:20250913T140000
DURATION:PT2H0M0S
SUMMARY:Roselle - Dodgers - Degrado vs. Carol Stream - Rangers
DESCRIPTION:Youth Baseball - 10u - Carol Stream Park District
LOCATION:Clauss - Field 1 (Yellow)
CATEGORIES:QuickScores, Baseball - Youth Game
TRANSP:OPAQUE
BEGIN:VALARM
TRIGGER:-PT2H
ACTION:DISPLAY
DESCRIPTION:Roselle - Dodgers - Degrado vs. Carol Stream - Rangers
END:VALARM
END:VEVENT
BEGIN:VEVENT
UID:csparks-70138860-20250920T100000@quickscores.com
DTSTAMP:20260423T122200Z
DTSTART;TZID=America/Chicago:20250920T100000
DURATION:PT2H0M0S
SUMMARY:Roselle - Dodgers - Degrado vs. Carol Stream - Cardinals
DESCRIPTION:Youth Baseball - 10u - Carol Stream Park District
LOCATION:Clauss - Field 1 (Yellow)
CATEGORIES:QuickScores, Baseball - Youth Game
TRANSP:OPAQUE
BEGIN:VALARM
TRIGGER:-PT2H
ACTION:DISPLAY
DESCRIPTION:Roselle - Dodgers - Degrado vs. Carol Stream - Cardinals
END:VALARM
END:VEVENT
BEGIN:VEVENT
UID:csparks-70138874-20250926T180000@quickscores.com
DTSTAMP:20260423T122200Z
DTSTART;TZID=America/Chicago:20250926T180000
DURATION:PT2H0M0S
SUMMARY:Carol Stream - Royals vs. Roselle - Dodgers - Degrado
DESCRIPTION:Youth Baseball - 10u - Carol Stream Park District
LOCATION:McCaslin 3
CATEGORIES:QuickScores, Baseball - Youth Game
TRANSP:OPAQUE
BEGIN:VALARM
TRIGGER:-PT2H
ACTION:DISPLAY
DESCRIPTION:Carol Stream - Royals vs. Roselle - Dodgers - Degrado
END:VALARM
END:VEVENT
BEGIN:VEVENT
UID:csparks-70978198-20251004T113000@quickscores.com
DTSTAMP:20260423T122200Z
DTSTART;TZID=America/Chicago:20251004T113000
DURATION:PT2H0M0S
SUMMARY:[ 3 ] Carol Stream - Royals vs. [ 14 ] Roselle - Dodgers - Degrado
DESCRIPTION:Youth Baseball - 10u - Carol Stream Park District
LOCATION:McCaslin 4
CATEGORIES:QuickScores, Baseball - Youth Game
TRANSP:OPAQUE
BEGIN:VALARM
TRIGGER:-PT2H
ACTION:DISPLAY
DESCRIPTION:[ 3 ] Carol Stream - Royals vs. [ 14 ] Roselle - Dodgers - Degrado
END:VALARM
END:VEVENT
END:VCALENDAR
