BEGIN:VCALENDAR
VERSION:2.0
PRODID:-//QuickScores.com//BQ Dynamic iCal Creator//EN
METHOD:PUBLISH
X-WR-CALNAME:Carol Stream - Cardinals - Youth Baseball - 10u - Fall 2025
X-WR-CALDESC:QuickScores game calendar
X-PUBLISHED-TTL:PT24H
REFRESH-INTERVAL;VALUE=DURATION:PT24H
CALSCALE:GREGORIAN
BEGIN:VTIMEZONE
TZID:America/Chicago
X-LIC-LOCATION:America/Chicago
BEGIN:DAYLIGHT
TZNAME:CDT
TZOFFSETFROM:-0600
TZOFFSETTO:-0500
DTSTART:19700308T020000
RRULE:FREQ=YEARLY;BYMONTH=3;BYDAY=2SU
END:DAYLIGHT
BEGIN:STANDARD
TZNAME:CST
TZOFFSETFROM:-0500
TZOFFSETTO:-0600
DTSTART:19701101T020000
RRULE:FREQ=YEARLY;BYMONTH=11;BYDAY=1SU
END:STANDARD
END:VTIMEZONE
BEGIN:VEVENT
UID:csparks-70138824-20250825T193000@quickscores.com
DTSTAMP:20260423T152000Z
DTSTART;TZID=America/Chicago:20250825T193000
DURATION:PT2H0M0S
SUMMARY:Carol Stream - Cardinals vs. Carol Stream - Yankees
DESCRIPTION:Rescheduled from 8/23 --- Youth Baseball - 10u - Carol Stream Park District
LOCATION:Armstrong 3
CATEGORIES:QuickScores, Baseball - Youth Game
TRANSP:OPAQUE
BEGIN:VALARM
TRIGGER:-PT2H
ACTION:DISPLAY
DESCRIPTION:Carol Stream - Cardinals vs. Carol Stream - Yankees
END:VALARM
END:VEVENT
BEGIN:VEVENT
UID:csparks-70138832-20250827T180000@quickscores.com
DTSTAMP:20260423T152000Z
DTSTART;TZID=America/Chicago:20250827T180000
DURATION:PT2H0M0S
SUMMARY:Carol Stream - Royals vs. Carol Stream - Cardinals
DESCRIPTION:Youth Baseball - 10u - Carol Stream Park District
LOCATION:McCaslin 2
CATEGORIES:QuickScores, Baseball - Youth Game
TRANSP:OPAQUE
BEGIN:VALARM
TRIGGER:-PT2H
ACTION:DISPLAY
DESCRIPTION:Carol Stream - Royals vs. Carol Stream - Cardinals
END:VALARM
END:VEVENT
BEGIN:VEVENT
UID:csparks-70138848-20250905T180000@quickscores.com
DTSTAMP:20260423T152000Z
DTSTART;TZID=America/Chicago:20250905T180000
DURATION:PT2H0M0S
SUMMARY:Carol Stream - Cardinals vs. Villa Park - Gentile
DESCRIPTION:Youth Baseball - 10u - Carol Stream Park District
LOCATION:McCaslin 2
CATEGORIES:QuickScores, Baseball - Youth Game
TRANSP:OPAQUE
BEGIN:VALARM
TRIGGER:-PT2H
ACTION:DISPLAY
DESCRIPTION:Carol Stream - Cardinals vs. Villa Park - Gentile
END:VALARM
END:VEVENT
BEGIN:VEVENT
UID:csparks-70138841-20250906T113000@quickscores.com
DTSTAMP:20260423T152000Z
DTSTART;TZID=America/Chicago:20250906T113000
DURATION:PT2H0M0S
SUMMARY:Carol Stream - Cardinals vs. Roselle - Guardians
DESCRIPTION:Youth Baseball - 10u - Carol Stream Park District
LOCATION:McCaslin 3
CATEGORIES:QuickScores, Baseball - Youth Game
TRANSP:OPAQUE
BEGIN:VALARM
TRIGGER:-PT2H
ACTION:DISPLAY
DESCRIPTION:Carol Stream - Cardinals vs. Roselle - Guardians
END:VALARM
END:VEVENT
BEGIN:VEVENT
UID:csparks-70138816-20250911T180000@quickscores.com
DTSTAMP:20260423T152000Z
DTSTART;TZID=America/Chicago:20250911T180000
DURATION:PT2H0M0S
SUMMARY:Carol Stream - Cardinals vs. Bloomingdale - Yankees
DESCRIPTION:Rescheduled from 8/16 --- Youth Baseball - 10u - Carol Stream Park District
LOCATION:Springfield Park Field 2
CATEGORIES:QuickScores, Baseball - Youth Game
TRANSP:OPAQUE
BEGIN:VALARM
TRIGGER:-PT2H
ACTION:DISPLAY
DESCRIPTION:Carol Stream - Cardinals vs. Bloomingdale - Yankees
END:VALARM
END:VEVENT
BEGIN:VEVENT
UID:csparks-70138860-20250920T100000@quickscores.com
DTSTAMP:20260423T152000Z
DTSTART;TZID=America/Chicago:20250920T100000
DURATION:PT2H0M0S
SUMMARY:Roselle - Dodgers - Degrado vs. Carol Stream - Cardinals
DESCRIPTION:Youth Baseball - 10u - Carol Stream Park District
LOCATION:Clauss - Field 1 (Yellow)
CATEGORIES:QuickScores, Baseball - Youth Game
TRANSP:OPAQUE
BEGIN:VALARM
TRIGGER:-PT2H
ACTION:DISPLAY
DESCRIPTION:Roselle - Dodgers - Degrado vs. Carol Stream - Cardinals
END:VALARM
END:VEVENT
BEGIN:VEVENT
UID:csparks-70138875-20250922T180000@quickscores.com
DTSTAMP:20260423T152000Z
DTSTART;TZID=America/Chicago:20250922T180000
DURATION:PT2H0M0S
SUMMARY:Carol Stream - Rangers vs. Carol Stream - Cardinals
DESCRIPTION:Youth Baseball - 10u - Carol Stream Park District
LOCATION:McCaslin 3
CATEGORIES:QuickScores, Baseball - Youth Game
TRANSP:OPAQUE
BEGIN:VALARM
TRIGGER:-PT2H
ACTION:DISPLAY
DESCRIPTION:Carol Stream - Rangers vs. Carol Stream - Cardinals
END:VALARM
END:VEVENT
BEGIN:VEVENT
UID:csparks-70138853-20250923T180000@quickscores.com
DTSTAMP:20260423T152000Z
DTSTART;TZID=America/Chicago:20250923T180000
DURATION:PT2H0M0S
SUMMARY:Glendale Heights - (Phillies) vs. Carol Stream - Cardinals
DESCRIPTION:Make up Game from 9/13 --- Youth Baseball - 10u - Carol Stream Park District
LOCATION:Camera East
CATEGORIES:QuickScores, Baseball - Youth Game
TRANSP:OPAQUE
BEGIN:VALARM
TRIGGER:-PT2H
ACTION:DISPLAY
DESCRIPTION:Glendale Heights - (Phillies) vs. Carol Stream - Cardinals
END:VALARM
END:VEVENT
BEGIN:VEVENT
UID:csparks-70978202-20251008T173000@quickscores.com
DTSTAMP:20260423T152000Z
DTSTART;TZID=America/Chicago:20251008T173000
DURATION:PT2H0M0S
SUMMARY:[ 2 ] Carol Stream - Cardinals vs. [ 7 ] Carol Stream - Yankees
DESCRIPTION:Youth Baseball - 10u - Carol Stream Park District
LOCATION:Armstrong 3
CATEGORIES:QuickScores, Baseball - Youth Game
TRANSP:OPAQUE
BEGIN:VALARM
TRIGGER:-PT2H
ACTION:DISPLAY
DESCRIPTION:[ 2 ] Carol Stream - Cardinals vs. [ 7 ] Carol Stream - Yankees
END:VALARM
END:VEVENT
END:VCALENDAR
