BEGIN:VCALENDAR
VERSION:2.0
PRODID:-//QuickScores.com//BQ Dynamic iCal Creator//EN
METHOD:PUBLISH
X-WR-CALNAME:Carol Stream - Royals - Youth Baseball - 10u - Fall 2025
X-WR-CALDESC:QuickScores game calendar
X-PUBLISHED-TTL:PT24H
REFRESH-INTERVAL;VALUE=DURATION:PT24H
CALSCALE:GREGORIAN
BEGIN:VTIMEZONE
TZID:America/Chicago
X-LIC-LOCATION:America/Chicago
BEGIN:DAYLIGHT
TZNAME:CDT
TZOFFSETFROM:-0600
TZOFFSETTO:-0500
DTSTART:19700308T020000
RRULE:FREQ=YEARLY;BYMONTH=3;BYDAY=2SU
END:DAYLIGHT
BEGIN:STANDARD
TZNAME:CST
TZOFFSETFROM:-0500
TZOFFSETTO:-0600
DTSTART:19701101T020000
RRULE:FREQ=YEARLY;BYMONTH=11;BYDAY=1SU
END:STANDARD
END:VTIMEZONE
BEGIN:VEVENT
UID:csparks-70138832-20250827T180000@quickscores.com
DTSTAMP:20260424T030000Z
DTSTART;TZID=America/Chicago:20250827T180000
DURATION:PT2H0M0S
SUMMARY:Carol Stream - Royals vs. Carol Stream - Cardinals
DESCRIPTION:Youth Baseball - 10u - Carol Stream Park District
LOCATION:McCaslin 2
CATEGORIES:QuickScores, Baseball - Youth Game
TRANSP:OPAQUE
BEGIN:VALARM
TRIGGER:-PT2H
ACTION:DISPLAY
DESCRIPTION:Carol Stream - Royals vs. Carol Stream - Cardinals
END:VALARM
END:VEVENT
BEGIN:VEVENT
UID:csparks-70138849-20250905T180000@quickscores.com
DTSTAMP:20260424T030000Z
DTSTART;TZID=America/Chicago:20250905T180000
DURATION:PT2H0M0S
SUMMARY:Carol Stream - Red Sox vs. Carol Stream - Royals
DESCRIPTION:Youth Baseball - 10u - Carol Stream Park District
LOCATION:McCaslin 4
CATEGORIES:QuickScores, Baseball - Youth Game
TRANSP:OPAQUE
BEGIN:VALARM
TRIGGER:-PT2H
ACTION:DISPLAY
DESCRIPTION:Carol Stream - Red Sox vs. Carol Stream - Royals
END:VALARM
END:VEVENT
BEGIN:VEVENT
UID:csparks-70138844-20250906T090000@quickscores.com
DTSTAMP:20260424T030000Z
DTSTART;TZID=America/Chicago:20250906T090000
DURATION:PT2H0M0S
SUMMARY:Carol Stream - Royals vs. Carol Stream - Braves
DESCRIPTION:Youth Baseball - 10u - Carol Stream Park District
LOCATION:McCaslin 3
CATEGORIES:QuickScores, Baseball - Youth Game
TRANSP:OPAQUE
BEGIN:VALARM
TRIGGER:-PT2H
ACTION:DISPLAY
DESCRIPTION:Carol Stream - Royals vs. Carol Stream - Braves
END:VALARM
END:VEVENT
BEGIN:VEVENT
UID:csparks-70138827-20250909T183000@quickscores.com
DTSTAMP:20260424T030000Z
DTSTART;TZID=America/Chicago:20250909T183000
DURATION:PT2H0M0S
SUMMARY:Carol Stream - Dodgers vs. Carol Stream - Royals
DESCRIPTION:Rescheduled from 8/23 --- Youth Baseball - 10u - Carol Stream Park District
LOCATION:Armstrong 1
CATEGORIES:QuickScores, Baseball - Youth Game
TRANSP:OPAQUE
BEGIN:VALARM
TRIGGER:-PT2H
ACTION:DISPLAY
DESCRIPTION:Carol Stream - Dodgers vs. Carol Stream - Royals
END:VALARM
END:VEVENT
BEGIN:VEVENT
UID:csparks-70138819-20250912T180000@quickscores.com
DTSTAMP:20260424T030000Z
DTSTART;TZID=America/Chicago:20250912T180000
DURATION:PT2H0M0S
SUMMARY:Carol Stream - Royals vs. Villa Park - Caifano
DESCRIPTION:Youth Baseball - 10u - Carol Stream Park District
LOCATION:Armstrong 1
CATEGORIES:QuickScores, Baseball - Youth Game
TRANSP:OPAQUE
BEGIN:VALARM
TRIGGER:-PT2H
ACTION:DISPLAY
DESCRIPTION:Carol Stream - Royals vs. Villa Park - Caifano
END:VALARM
END:VEVENT
BEGIN:VEVENT
UID:csparks-70138854-20250913T130000@quickscores.com
DTSTAMP:20260424T030000Z
DTSTART;TZID=America/Chicago:20250913T130000
DURATION:PT2H0M0S
SUMMARY:Villa Park - Gentile vs. Carol Stream - Royals
DESCRIPTION:Youth Baseball - 10u - Carol Stream Park District
LOCATION:Jefferson 2
CATEGORIES:QuickScores, Baseball - Youth Game
TRANSP:OPAQUE
BEGIN:VALARM
TRIGGER:-PT2H
ACTION:DISPLAY
DESCRIPTION:Villa Park - Gentile vs. Carol Stream - Royals
END:VALARM
END:VEVENT
BEGIN:VEVENT
UID:csparks-70138861-20250920T110000@quickscores.com
DTSTAMP:20260424T030000Z
DTSTART;TZID=America/Chicago:20250920T110000
DURATION:PT2H0M0S
SUMMARY:Villa Park - Luckey vs. Carol Stream - Royals
DESCRIPTION:Youth Baseball - 10u - Carol Stream Park District
LOCATION:Jefferson 2
CATEGORIES:QuickScores, Baseball - Youth Game
TRANSP:OPAQUE
BEGIN:VALARM
TRIGGER:-PT2H
ACTION:DISPLAY
DESCRIPTION:Villa Park - Luckey vs. Carol Stream - Royals
END:VALARM
END:VEVENT
BEGIN:VEVENT
UID:csparks-70138874-20250926T180000@quickscores.com
DTSTAMP:20260424T030000Z
DTSTART;TZID=America/Chicago:20250926T180000
DURATION:PT2H0M0S
SUMMARY:Carol Stream - Royals vs. Roselle - Dodgers - Degrado
DESCRIPTION:Youth Baseball - 10u - Carol Stream Park District
LOCATION:McCaslin 3
CATEGORIES:QuickScores, Baseball - Youth Game
TRANSP:OPAQUE
BEGIN:VALARM
TRIGGER:-PT2H
ACTION:DISPLAY
DESCRIPTION:Carol Stream - Royals vs. Roselle - Dodgers - Degrado
END:VALARM
END:VEVENT
BEGIN:VEVENT
UID:csparks-70978198-20251004T113000@quickscores.com
DTSTAMP:20260424T030000Z
DTSTART;TZID=America/Chicago:20251004T113000
DURATION:PT2H0M0S
SUMMARY:[ 3 ] Carol Stream - Royals vs. [ 14 ] Roselle - Dodgers - Degrado
DESCRIPTION:Youth Baseball - 10u - Carol Stream Park District
LOCATION:McCaslin 4
CATEGORIES:QuickScores, Baseball - Youth Game
TRANSP:OPAQUE
BEGIN:VALARM
TRIGGER:-PT2H
ACTION:DISPLAY
DESCRIPTION:[ 3 ] Carol Stream - Royals vs. [ 14 ] Roselle - Dodgers - Degrado
END:VALARM
END:VEVENT
BEGIN:VEVENT
UID:csparks-70978203-20251011T090000@quickscores.com
DTSTAMP:20260424T030000Z
DTSTART;TZID=America/Chicago:20251011T090000
DURATION:PT2H0M0S
SUMMARY:[ 3 ] Carol Stream - Royals vs. [ 6 ] Roselle - Guardians
DESCRIPTION:Youth Baseball - 10u - Carol Stream Park District
LOCATION:Armstrong 1
CATEGORIES:QuickScores, Baseball - Youth Game
TRANSP:OPAQUE
BEGIN:VALARM
TRIGGER:-PT2H
ACTION:DISPLAY
DESCRIPTION:[ 3 ] Carol Stream - Royals vs. [ 6 ] Roselle - Guardians
END:VALARM
END:VEVENT
BEGIN:VEVENT
UID:csparks-70978205-20251016T180000@quickscores.com
DTSTAMP:20260424T030000Z
DTSTART;TZID=America/Chicago:20251016T180000
DURATION:PT2H0M0S
SUMMARY:[ 7 ] Carol Stream - Yankees vs. [ 3 ] Carol Stream - Royals
DESCRIPTION:Youth Baseball - 10u - Carol Stream Park District
LOCATION:Armstrong 1
CATEGORIES:QuickScores, Baseball - Youth Game
TRANSP:OPAQUE
BEGIN:VALARM
TRIGGER:-PT2H
ACTION:DISPLAY
DESCRIPTION:[ 7 ] Carol Stream - Yankees vs. [ 3 ] Carol Stream - Royals
END:VALARM
END:VEVENT
BEGIN:VEVENT
UID:csparks-70978206-20251017T180000@quickscores.com
DTSTAMP:20260424T030000Z
DTSTART;TZID=America/Chicago:20251017T180000
DURATION:PT2H0M0S
SUMMARY:[ 1 ] Carol Stream - Braves vs. [ 3 ] Carol Stream - Royals
DESCRIPTION:Youth Baseball - 10u - Carol Stream Park District
LOCATION:McCaslin 2
CATEGORIES:QuickScores, Baseball - Youth Game
TRANSP:OPAQUE
BEGIN:VALARM
TRIGGER:-PT2H
ACTION:DISPLAY
DESCRIPTION:[ 1 ] Carol Stream - Braves vs. [ 3 ] Carol Stream - Royals
END:VALARM
END:VEVENT
END:VCALENDAR
