BEGIN:VCALENDAR
VERSION:2.0
PRODID:-//QuickScores.com//BQ Dynamic iCal Creator//EN
METHOD:PUBLISH
X-WR-CALNAME:Mets - Frey - 14u Baseball - Practices - Fall 2025
X-WR-CALDESC:QuickScores game calendar
X-PUBLISHED-TTL:PT24H
REFRESH-INTERVAL;VALUE=DURATION:PT24H
CALSCALE:GREGORIAN
BEGIN:VTIMEZONE
TZID:America/Chicago
X-LIC-LOCATION:America/Chicago
BEGIN:DAYLIGHT
TZNAME:CDT
TZOFFSETFROM:-0600
TZOFFSETTO:-0500
DTSTART:19700308T020000
RRULE:FREQ=YEARLY;BYMONTH=3;BYDAY=2SU
END:DAYLIGHT
BEGIN:STANDARD
TZNAME:CST
TZOFFSETFROM:-0500
TZOFFSETTO:-0600
DTSTART:19701101T020000
RRULE:FREQ=YEARLY;BYMONTH=11;BYDAY=1SU
END:STANDARD
END:VTIMEZONE
BEGIN:VEVENT
UID:csparks-69927692-20250729T193000@quickscores.com
DTSTAMP:20260420T020800Z
DTSTART;TZID=America/Chicago:20250729T193000
DURATION:PT1H0M0S
SUMMARY:Mets - Frey vs. Mets - Frey
DESCRIPTION:14u Baseball - Practices - Carol Stream Park District
LOCATION:Armstrong 1
CATEGORIES:QuickScores, Facilities Game
TRANSP:OPAQUE
BEGIN:VALARM
TRIGGER:-PT2H
ACTION:DISPLAY
DESCRIPTION:Mets - Frey vs. Mets - Frey
END:VALARM
END:VEVENT
BEGIN:VEVENT
UID:csparks-69927694-20250802T150000@quickscores.com
DTSTAMP:20260420T020800Z
DTSTART;TZID=America/Chicago:20250802T150000
DURATION:PT1H30M0S
SUMMARY:Mets - Frey vs. Mets - Frey
DESCRIPTION:14u Baseball - Practices - Carol Stream Park District
LOCATION:Armstrong 3
CATEGORIES:QuickScores, Facilities Game
TRANSP:OPAQUE
BEGIN:VALARM
TRIGGER:-PT2H
ACTION:DISPLAY
DESCRIPTION:Mets - Frey vs. Mets - Frey
END:VALARM
END:VEVENT
BEGIN:VEVENT
UID:csparks-69927693-20250807T193000@quickscores.com
DTSTAMP:20260420T020800Z
DTSTART;TZID=America/Chicago:20250807T193000
DURATION:PT1H0M0S
SUMMARY:Mets - Frey vs. Mets - Frey
DESCRIPTION:14u Baseball - Practices - Carol Stream Park District
LOCATION:McCaslin 3
CATEGORIES:QuickScores, Facilities Game
TRANSP:OPAQUE
BEGIN:VALARM
TRIGGER:-PT2H
ACTION:DISPLAY
DESCRIPTION:Mets - Frey vs. Mets - Frey
END:VALARM
END:VEVENT
BEGIN:VEVENT
UID:csparks-69927700-20250809T180000@quickscores.com
DTSTAMP:20260420T020800Z
DTSTART;TZID=America/Chicago:20250809T180000
DURATION:PT1H30M0S
SUMMARY:Mets - Frey vs. Mets - Frey
DESCRIPTION:14u Baseball - Practices - Carol Stream Park District
LOCATION:McCaslin 1
CATEGORIES:QuickScores, Facilities Game
TRANSP:OPAQUE
BEGIN:VALARM
TRIGGER:-PT2H
ACTION:DISPLAY
DESCRIPTION:Mets - Frey vs. Mets - Frey
END:VALARM
END:VEVENT
BEGIN:VEVENT
UID:csparks-70103961-20250812T193000@quickscores.com
DTSTAMP:20260420T020800Z
DTSTART;TZID=America/Chicago:20250812T193000
DURATION:PT1H0M0S
SUMMARY:Mets - Frey vs. Mets - Frey
DESCRIPTION:14u Baseball - Practices - Carol Stream Park District
LOCATION:McCaslin 1
CATEGORIES:QuickScores, Facilities Game
TRANSP:OPAQUE
BEGIN:VALARM
TRIGGER:-PT2H
ACTION:DISPLAY
DESCRIPTION:Mets - Frey vs. Mets - Frey
END:VALARM
END:VEVENT
BEGIN:VEVENT
UID:csparks-70103962-20250819T193000@quickscores.com
DTSTAMP:20260420T020800Z
DTSTART;TZID=America/Chicago:20250819T193000
DURATION:PT1H0M0S
SUMMARY:Mets - Frey vs. Mets - Frey
DESCRIPTION:14u Baseball - Practices - Carol Stream Park District
LOCATION:McCaslin 1
CATEGORIES:QuickScores, Facilities Game
TRANSP:OPAQUE
BEGIN:VALARM
TRIGGER:-PT2H
ACTION:DISPLAY
DESCRIPTION:Mets - Frey vs. Mets - Frey
END:VALARM
END:VEVENT
BEGIN:VEVENT
UID:csparks-70103963-20250826T193000@quickscores.com
DTSTAMP:20260420T020800Z
DTSTART;TZID=America/Chicago:20250826T193000
DURATION:PT1H0M0S
SUMMARY:Mets - Frey vs. Mets - Frey
DESCRIPTION:14u Baseball - Practices - Carol Stream Park District
LOCATION:Armstrong 3
CATEGORIES:QuickScores, Facilities Game
TRANSP:OPAQUE
BEGIN:VALARM
TRIGGER:-PT2H
ACTION:DISPLAY
DESCRIPTION:Mets - Frey vs. Mets - Frey
END:VALARM
END:VEVENT
BEGIN:VEVENT
UID:csparks-70573110-20250902T193000@quickscores.com
DTSTAMP:20260420T020800Z
DTSTART;TZID=America/Chicago:20250902T193000
DURATION:PT1H0M0S
SUMMARY:Mets - Frey vs. Mets - Frey
DESCRIPTION:Shared Field --- 14u Baseball - Practices - Carol Stream Park District
LOCATION:Armstrong 3
CATEGORIES:QuickScores, Facilities Game
TRANSP:OPAQUE
BEGIN:VALARM
TRIGGER:-PT2H
ACTION:DISPLAY
DESCRIPTION:Mets - Frey vs. Mets - Frey
END:VALARM
END:VEVENT
BEGIN:VEVENT
UID:csparks-70600894-20250909T193000@quickscores.com
DTSTAMP:20260420T020800Z
DTSTART;TZID=America/Chicago:20250909T193000
DURATION:PT1H0M0S
SUMMARY:Mets - Frey vs. Mets - Frey
DESCRIPTION:14u Baseball - Practices - Carol Stream Park District
LOCATION:Armstrong 3
CATEGORIES:QuickScores, Facilities Game
TRANSP:OPAQUE
BEGIN:VALARM
TRIGGER:-PT2H
ACTION:DISPLAY
DESCRIPTION:Mets - Frey vs. Mets - Frey
END:VALARM
END:VEVENT
BEGIN:VEVENT
UID:csparks-70601007-20250916T193000@quickscores.com
DTSTAMP:20260420T020800Z
DTSTART;TZID=America/Chicago:20250916T193000
DURATION:PT1H0M0S
SUMMARY:Mets - Frey vs. Mets - Frey
DESCRIPTION:14u Baseball - Practices - Carol Stream Park District
LOCATION:Armstrong 1
CATEGORIES:QuickScores, Facilities Game
TRANSP:OPAQUE
BEGIN:VALARM
TRIGGER:-PT2H
ACTION:DISPLAY
DESCRIPTION:Mets - Frey vs. Mets - Frey
END:VALARM
END:VEVENT
BEGIN:VEVENT
UID:csparks-70601290-20250923T193000@quickscores.com
DTSTAMP:20260420T020800Z
DTSTART;TZID=America/Chicago:20250923T193000
DURATION:PT1H0M0S
SUMMARY:Mets - Frey vs. Mets - Frey
DESCRIPTION:Outfield Only --- 14u Baseball - Practices - Carol Stream Park District
LOCATION:Armstrong 3
CATEGORIES:QuickScores, Facilities Game
TRANSP:OPAQUE
BEGIN:VALARM
TRIGGER:-PT2H
ACTION:DISPLAY
DESCRIPTION:Mets - Frey vs. Mets - Frey
END:VALARM
END:VEVENT
BEGIN:VEVENT
UID:csparks-70601444-20250930T193000@quickscores.com
DTSTAMP:20260420T020800Z
DTSTART;TZID=America/Chicago:20250930T193000
DURATION:PT1H0M0S
SUMMARY:Mets - Frey vs. Mets - Frey
DESCRIPTION:14u Baseball - Practices - Carol Stream Park District
LOCATION:Armstrong 1
CATEGORIES:QuickScores, Facilities Game
TRANSP:OPAQUE
BEGIN:VALARM
TRIGGER:-PT2H
ACTION:DISPLAY
DESCRIPTION:Mets - Frey vs. Mets - Frey
END:VALARM
END:VEVENT
BEGIN:VEVENT
UID:csparks-71238954-20251009T193000@quickscores.com
DTSTAMP:20260420T020800Z
DTSTART;TZID=America/Chicago:20251009T193000
DURATION:PT1H0M0S
SUMMARY:Mets - Frey vs. Mets - Frey
DESCRIPTION:Rescheduled from 10/7 --- 14u Baseball - Practices - Carol Stream Park District
LOCATION:Armstrong 4
CATEGORIES:QuickScores, Facilities Game
TRANSP:OPAQUE
BEGIN:VALARM
TRIGGER:-PT2H
ACTION:DISPLAY
DESCRIPTION:Mets - Frey vs. Mets - Frey
END:VALARM
END:VEVENT
END:VCALENDAR
