BEGIN:VCALENDAR
VERSION:2.0
PRODID:-//QuickScores.com//BQ Dynamic iCal Creator//EN
METHOD:PUBLISH
X-WR-CALNAME:Rays - Bettilyon - 14u Baseball - Practices - Fall 2025
X-WR-CALDESC:QuickScores game calendar
X-PUBLISHED-TTL:PT24H
REFRESH-INTERVAL;VALUE=DURATION:PT24H
CALSCALE:GREGORIAN
BEGIN:VTIMEZONE
TZID:America/Chicago
X-LIC-LOCATION:America/Chicago
BEGIN:DAYLIGHT
TZNAME:CDT
TZOFFSETFROM:-0600
TZOFFSETTO:-0500
DTSTART:19700308T020000
RRULE:FREQ=YEARLY;BYMONTH=3;BYDAY=2SU
END:DAYLIGHT
BEGIN:STANDARD
TZNAME:CST
TZOFFSETFROM:-0500
TZOFFSETTO:-0600
DTSTART:19701101T020000
RRULE:FREQ=YEARLY;BYMONTH=11;BYDAY=1SU
END:STANDARD
END:VTIMEZONE
BEGIN:VEVENT
UID:csparks-69927695-20250730T193000@quickscores.com
DTSTAMP:20260420T062800Z
DTSTART;TZID=America/Chicago:20250730T193000
DURATION:PT1H0M0S
SUMMARY:Rays - Bettilyon vs. Rays - Bettilyon
DESCRIPTION:14u Baseball - Practices - Carol Stream Park District
LOCATION:McCaslin 4
CATEGORIES:QuickScores, Facilities Game
TRANSP:OPAQUE
BEGIN:VALARM
TRIGGER:-PT2H
ACTION:DISPLAY
DESCRIPTION:Rays - Bettilyon vs. Rays - Bettilyon
END:VALARM
END:VEVENT
BEGIN:VEVENT
UID:csparks-69927696-20250803T130000@quickscores.com
DTSTAMP:20260420T062800Z
DTSTART;TZID=America/Chicago:20250803T130000
DURATION:PT1H30M0S
SUMMARY:Rays - Bettilyon vs. Rays - Bettilyon
DESCRIPTION:14u Baseball - Practices - Carol Stream Park District
LOCATION:Armstrong 1
CATEGORIES:QuickScores, Facilities Game
TRANSP:OPAQUE
BEGIN:VALARM
TRIGGER:-PT2H
ACTION:DISPLAY
DESCRIPTION:Rays - Bettilyon vs. Rays - Bettilyon
END:VALARM
END:VEVENT
BEGIN:VEVENT
UID:csparks-69927697-20250806T193000@quickscores.com
DTSTAMP:20260420T062800Z
DTSTART;TZID=America/Chicago:20250806T193000
DURATION:PT1H0M0S
SUMMARY:Rays - Bettilyon vs. Rays - Bettilyon
DESCRIPTION:14u Baseball - Practices - Carol Stream Park District
LOCATION:McCaslin 4
CATEGORIES:QuickScores, Facilities Game
TRANSP:OPAQUE
BEGIN:VALARM
TRIGGER:-PT2H
ACTION:DISPLAY
DESCRIPTION:Rays - Bettilyon vs. Rays - Bettilyon
END:VALARM
END:VEVENT
BEGIN:VEVENT
UID:csparks-69927699-20250809T163000@quickscores.com
DTSTAMP:20260420T062800Z
DTSTART;TZID=America/Chicago:20250809T163000
DURATION:PT1H30M0S
SUMMARY:Rays - Bettilyon vs. Rays - Bettilyon
DESCRIPTION:14u Baseball - Practices - Carol Stream Park District
LOCATION:McCaslin 1
CATEGORIES:QuickScores, Facilities Game
TRANSP:OPAQUE
BEGIN:VALARM
TRIGGER:-PT2H
ACTION:DISPLAY
DESCRIPTION:Rays - Bettilyon vs. Rays - Bettilyon
END:VALARM
END:VEVENT
BEGIN:VEVENT
UID:csparks-70103964-20250813T193000@quickscores.com
DTSTAMP:20260420T062800Z
DTSTART;TZID=America/Chicago:20250813T193000
DURATION:PT1H0M0S
SUMMARY:Rays - Bettilyon vs. Rays - Bettilyon
DESCRIPTION:14u Baseball - Practices - Carol Stream Park District
LOCATION:McCaslin 4
CATEGORIES:QuickScores, Facilities Game
TRANSP:OPAQUE
BEGIN:VALARM
TRIGGER:-PT2H
ACTION:DISPLAY
DESCRIPTION:Rays - Bettilyon vs. Rays - Bettilyon
END:VALARM
END:VEVENT
BEGIN:VEVENT
UID:csparks-70103965-20250820T193000@quickscores.com
DTSTAMP:20260420T062800Z
DTSTART;TZID=America/Chicago:20250820T193000
DURATION:PT1H0M0S
SUMMARY:Rays - Bettilyon vs. Rays - Bettilyon
DESCRIPTION:14u Baseball - Practices - Carol Stream Park District
LOCATION:McCaslin 4
CATEGORIES:QuickScores, Facilities Game
TRANSP:OPAQUE
BEGIN:VALARM
TRIGGER:-PT2H
ACTION:DISPLAY
DESCRIPTION:Rays - Bettilyon vs. Rays - Bettilyon
END:VALARM
END:VEVENT
BEGIN:VEVENT
UID:csparks-70103966-20250827T193000@quickscores.com
DTSTAMP:20260420T062800Z
DTSTART;TZID=America/Chicago:20250827T193000
DURATION:PT1H0M0S
SUMMARY:Rays - Bettilyon vs. Rays - Bettilyon
DESCRIPTION:14u Baseball - Practices - Carol Stream Park District
LOCATION:McCaslin 4
CATEGORIES:QuickScores, Facilities Game
TRANSP:OPAQUE
BEGIN:VALARM
TRIGGER:-PT2H
ACTION:DISPLAY
DESCRIPTION:Rays - Bettilyon vs. Rays - Bettilyon
END:VALARM
END:VEVENT
BEGIN:VEVENT
UID:csparks-70573111-20250902T193000@quickscores.com
DTSTAMP:20260420T062800Z
DTSTART;TZID=America/Chicago:20250902T193000
DURATION:PT1H0M0S
SUMMARY:Rays - Bettilyon vs. Rays - Bettilyon
DESCRIPTION:Shared Field --- 14u Baseball - Practices - Carol Stream Park District
LOCATION:Armstrong 3
CATEGORIES:QuickScores, Facilities Game
TRANSP:OPAQUE
BEGIN:VALARM
TRIGGER:-PT2H
ACTION:DISPLAY
DESCRIPTION:Rays - Bettilyon vs. Rays - Bettilyon
END:VALARM
END:VEVENT
BEGIN:VEVENT
UID:csparks-70600895-20250910T193000@quickscores.com
DTSTAMP:20260420T062800Z
DTSTART;TZID=America/Chicago:20250910T193000
DURATION:PT1H0M0S
SUMMARY:Rays - Bettilyon vs. Rays - Bettilyon
DESCRIPTION:14u Baseball - Practices - Carol Stream Park District
LOCATION:Armstrong 3
CATEGORIES:QuickScores, Facilities Game
TRANSP:OPAQUE
BEGIN:VALARM
TRIGGER:-PT2H
ACTION:DISPLAY
DESCRIPTION:Rays - Bettilyon vs. Rays - Bettilyon
END:VALARM
END:VEVENT
BEGIN:VEVENT
UID:csparks-70601008-20250917T193000@quickscores.com
DTSTAMP:20260420T062800Z
DTSTART;TZID=America/Chicago:20250917T193000
DURATION:PT1H0M0S
SUMMARY:Rays - Bettilyon vs. Rays - Bettilyon
DESCRIPTION:14u Baseball - Practices - Carol Stream Park District
LOCATION:McCaslin 1
CATEGORIES:QuickScores, Facilities Game
TRANSP:OPAQUE
BEGIN:VALARM
TRIGGER:-PT2H
ACTION:DISPLAY
DESCRIPTION:Rays - Bettilyon vs. Rays - Bettilyon
END:VALARM
END:VEVENT
BEGIN:VEVENT
UID:csparks-70601291-20250924T193000@quickscores.com
DTSTAMP:20260420T062800Z
DTSTART;TZID=America/Chicago:20250924T193000
DURATION:PT1H0M0S
SUMMARY:Rays - Bettilyon vs. Rays - Bettilyon
DESCRIPTION:14u Baseball - Practices - Carol Stream Park District
LOCATION:Armstrong 3
CATEGORIES:QuickScores, Facilities Game
TRANSP:OPAQUE
BEGIN:VALARM
TRIGGER:-PT2H
ACTION:DISPLAY
DESCRIPTION:Rays - Bettilyon vs. Rays - Bettilyon
END:VALARM
END:VEVENT
BEGIN:VEVENT
UID:csparks-70601445-20251001T193000@quickscores.com
DTSTAMP:20260420T062800Z
DTSTART;TZID=America/Chicago:20251001T193000
DURATION:PT1H0M0S
SUMMARY:Rays - Bettilyon vs. Rays - Bettilyon
DESCRIPTION:14u Baseball - Practices - Carol Stream Park District
LOCATION:Armstrong 3
CATEGORIES:QuickScores, Facilities Game
TRANSP:OPAQUE
BEGIN:VALARM
TRIGGER:-PT2H
ACTION:DISPLAY
DESCRIPTION:Rays - Bettilyon vs. Rays - Bettilyon
END:VALARM
END:VEVENT
BEGIN:VEVENT
UID:csparks-71238985-20251008T203000@quickscores.com
DTSTAMP:20260420T062800Z
DTSTART;TZID=America/Chicago:20251008T203000
DURATION:PT1H0M0S
SUMMARY:Rays - Bettilyon vs. Rays - Bettilyon
DESCRIPTION:14u Baseball - Practices - Carol Stream Park District
LOCATION:McCaslin 3
CATEGORIES:QuickScores, Facilities Game
TRANSP:OPAQUE
BEGIN:VALARM
TRIGGER:-PT2H
ACTION:DISPLAY
DESCRIPTION:Rays - Bettilyon vs. Rays - Bettilyon
END:VALARM
END:VEVENT
END:VCALENDAR
