BEGIN:VCALENDAR
VERSION:2.0
PRODID:-//QuickScores.com//BQ Dynamic iCal Creator//EN
METHOD:PUBLISH
X-WR-CALNAME:Wizards - Dabetic - Youth Basketball - 7th/8th Grade Boys Practices - Summer 2025
X-WR-CALDESC:QuickScores game calendar
X-PUBLISHED-TTL:PT24H
REFRESH-INTERVAL;VALUE=DURATION:PT24H
CALSCALE:GREGORIAN
BEGIN:VTIMEZONE
TZID:America/Chicago
X-LIC-LOCATION:America/Chicago
BEGIN:DAYLIGHT
TZNAME:CDT
TZOFFSETFROM:-0600
TZOFFSETTO:-0500
DTSTART:19700308T020000
RRULE:FREQ=YEARLY;BYMONTH=3;BYDAY=2SU
END:DAYLIGHT
BEGIN:STANDARD
TZNAME:CST
TZOFFSETFROM:-0500
TZOFFSETTO:-0600
DTSTART:19701101T020000
RRULE:FREQ=YEARLY;BYMONTH=11;BYDAY=1SU
END:STANDARD
END:VTIMEZONE
BEGIN:VEVENT
UID:csparks-69120319-20250521T190000@quickscores.com
DTSTAMP:20260423T054900Z
DTSTART;TZID=America/Chicago:20250521T190000
DURATION:PT1H0M0S
SUMMARY:Wizards - Dabetic vs. Wizards - Dabetic
DESCRIPTION:Youth Basketball - 7th/8th Grade Boys Practices - Carol Stream Park District
LOCATION:Evergreen - Full Gym
CATEGORIES:QuickScores, Facilities Game
TRANSP:OPAQUE
BEGIN:VALARM
TRIGGER:-PT2H
ACTION:DISPLAY
DESCRIPTION:Wizards - Dabetic vs. Wizards - Dabetic
END:VALARM
END:VEVENT
BEGIN:VEVENT
UID:csparks-69120320-20250528T190000@quickscores.com
DTSTAMP:20260423T054900Z
DTSTART;TZID=America/Chicago:20250528T190000
DURATION:PT1H0M0S
SUMMARY:Wizards - Dabetic vs. Wizards - Dabetic
DESCRIPTION:Youth Basketball - 7th/8th Grade Boys Practices - Carol Stream Park District
LOCATION:Evergreen - Full Gym
CATEGORIES:QuickScores, Facilities Game
TRANSP:OPAQUE
BEGIN:VALARM
TRIGGER:-PT2H
ACTION:DISPLAY
DESCRIPTION:Wizards - Dabetic vs. Wizards - Dabetic
END:VALARM
END:VEVENT
BEGIN:VEVENT
UID:csparks-69120321-20250604T190000@quickscores.com
DTSTAMP:20260423T054900Z
DTSTART;TZID=America/Chicago:20250604T190000
DURATION:PT1H0M0S
SUMMARY:Wizards - Dabetic vs. Wizards - Dabetic
DESCRIPTION:Youth Basketball - 7th/8th Grade Boys Practices - Carol Stream Park District
LOCATION:Simkus - Court 2 (West)
CATEGORIES:QuickScores, Facilities Game
TRANSP:OPAQUE
BEGIN:VALARM
TRIGGER:-PT2H
ACTION:DISPLAY
DESCRIPTION:Wizards - Dabetic vs. Wizards - Dabetic
END:VALARM
END:VEVENT
BEGIN:VEVENT
UID:csparks-69120322-20250611T190000@quickscores.com
DTSTAMP:20260423T054900Z
DTSTART;TZID=America/Chicago:20250611T190000
DURATION:PT1H30M0S
SUMMARY:Wizards - Dabetic vs. Wizards - Dabetic
DESCRIPTION:Youth Basketball - 7th/8th Grade Boys Practices - Carol Stream Park District
LOCATION:Fountain View - Court 2
CATEGORIES:QuickScores, Facilities Game
TRANSP:OPAQUE
BEGIN:VALARM
TRIGGER:-PT2H
ACTION:DISPLAY
DESCRIPTION:Wizards - Dabetic vs. Wizards - Dabetic
END:VALARM
END:VEVENT
BEGIN:VEVENT
UID:csparks-69120323-20250618T190000@quickscores.com
DTSTAMP:20260423T054900Z
DTSTART;TZID=America/Chicago:20250618T190000
DURATION:PT1H30M0S
SUMMARY:Wizards - Dabetic vs. Wizards - Dabetic
DESCRIPTION:Youth Basketball - 7th/8th Grade Boys Practices - Carol Stream Park District
LOCATION:Fountain View - Court 2
CATEGORIES:QuickScores, Facilities Game
TRANSP:OPAQUE
BEGIN:VALARM
TRIGGER:-PT2H
ACTION:DISPLAY
DESCRIPTION:Wizards - Dabetic vs. Wizards - Dabetic
END:VALARM
END:VEVENT
BEGIN:VEVENT
UID:csparks-69120324-20250625T174500@quickscores.com
DTSTAMP:20260423T054900Z
DTSTART;TZID=America/Chicago:20250625T174500
DURATION:PT1H30M0S
SUMMARY:Wizards - Dabetic vs. Wizards - Dabetic
DESCRIPTION:Updated Time/Location --- Youth Basketball - 7th/8th Grade Boys Practices - Carol Stream Park District
LOCATION:Fountain View - Court 3
CATEGORIES:QuickScores, Facilities Game
TRANSP:OPAQUE
BEGIN:VALARM
TRIGGER:-PT2H
ACTION:DISPLAY
DESCRIPTION:Wizards - Dabetic vs. Wizards - Dabetic
END:VALARM
END:VEVENT
BEGIN:VEVENT
UID:csparks-69120325-20250702T190000@quickscores.com
DTSTAMP:20260423T054900Z
DTSTART;TZID=America/Chicago:20250702T190000
DURATION:PT1H30M0S
SUMMARY:Wizards - Dabetic vs. Wizards - Dabetic
DESCRIPTION:Youth Basketball - 7th/8th Grade Boys Practices - Carol Stream Park District
LOCATION:Fountain View - Court 3
CATEGORIES:QuickScores, Facilities Game
TRANSP:OPAQUE
BEGIN:VALARM
TRIGGER:-PT2H
ACTION:DISPLAY
DESCRIPTION:Wizards - Dabetic vs. Wizards - Dabetic
END:VALARM
END:VEVENT
BEGIN:VEVENT
UID:csparks-69120326-20250710T190000@quickscores.com
DTSTAMP:20260423T054900Z
DTSTART;TZID=America/Chicago:20250710T190000
DURATION:PT1H30M0S
SUMMARY:Wizards - Dabetic vs. Wizards - Dabetic
DESCRIPTION:Youth Basketball - 7th/8th Grade Boys Practices - Carol Stream Park District
LOCATION:Fountain View - Court 1
CATEGORIES:QuickScores, Facilities Game
TRANSP:OPAQUE
BEGIN:VALARM
TRIGGER:-PT2H
ACTION:DISPLAY
DESCRIPTION:Wizards - Dabetic vs. Wizards - Dabetic
END:VALARM
END:VEVENT
BEGIN:VEVENT
UID:csparks-69120327-20250717T190000@quickscores.com
DTSTAMP:20260423T054900Z
DTSTART;TZID=America/Chicago:20250717T190000
DURATION:PT1H30M0S
SUMMARY:Wizards - Dabetic vs. Wizards - Dabetic
DESCRIPTION:Youth Basketball - 7th/8th Grade Boys Practices - Carol Stream Park District
LOCATION:Fountain View - Court 1
CATEGORIES:QuickScores, Facilities Game
TRANSP:OPAQUE
BEGIN:VALARM
TRIGGER:-PT2H
ACTION:DISPLAY
DESCRIPTION:Wizards - Dabetic vs. Wizards - Dabetic
END:VALARM
END:VEVENT
BEGIN:VEVENT
UID:csparks-69120328-20250724T190000@quickscores.com
DTSTAMP:20260423T054900Z
DTSTART;TZID=America/Chicago:20250724T190000
DURATION:PT1H30M0S
SUMMARY:Wizards - Dabetic vs. Wizards - Dabetic
DESCRIPTION:Youth Basketball - 7th/8th Grade Boys Practices - Carol Stream Park District
LOCATION:Fountain View - Court 1
CATEGORIES:QuickScores, Facilities Game
TRANSP:OPAQUE
BEGIN:VALARM
TRIGGER:-PT2H
ACTION:DISPLAY
DESCRIPTION:Wizards - Dabetic vs. Wizards - Dabetic
END:VALARM
END:VEVENT
BEGIN:VEVENT
UID:csparks-69120329-20250731T190000@quickscores.com
DTSTAMP:20260423T054900Z
DTSTART;TZID=America/Chicago:20250731T190000
DURATION:PT1H30M0S
SUMMARY:Wizards - Dabetic vs. Wizards - Dabetic
DESCRIPTION:Youth Basketball - 7th/8th Grade Boys Practices - Carol Stream Park District
LOCATION:Fountain View - Court 1
CATEGORIES:QuickScores, Facilities Game
TRANSP:OPAQUE
BEGIN:VALARM
TRIGGER:-PT2H
ACTION:DISPLAY
DESCRIPTION:Wizards - Dabetic vs. Wizards - Dabetic
END:VALARM
END:VEVENT
END:VCALENDAR
