BEGIN:VCALENDAR
VERSION:2.0
PRODID:-//QuickScores.com//BQ Dynamic iCal Creator//EN
METHOD:PUBLISH
X-WR-CALNAME:Ripple - Adult Volleyball - Friday -  Recreational - Spring 2025
X-WR-CALDESC:QuickScores game calendar
X-PUBLISHED-TTL:PT24H
REFRESH-INTERVAL;VALUE=DURATION:PT24H
CALSCALE:GREGORIAN
BEGIN:VTIMEZONE
TZID:America/Chicago
X-LIC-LOCATION:America/Chicago
BEGIN:DAYLIGHT
TZNAME:CDT
TZOFFSETFROM:-0600
TZOFFSETTO:-0500
DTSTART:19700308T020000
RRULE:FREQ=YEARLY;BYMONTH=3;BYDAY=2SU
END:DAYLIGHT
BEGIN:STANDARD
TZNAME:CST
TZOFFSETFROM:-0500
TZOFFSETTO:-0600
DTSTART:19701101T020000
RRULE:FREQ=YEARLY;BYMONTH=11;BYDAY=1SU
END:STANDARD
END:VTIMEZONE
BEGIN:VEVENT
UID:csparks-68398825-20250411T191500@quickscores.com
DTSTAMP:20260421T164300Z
DTSTART;TZID=America/Chicago:20250411T191500
DURATION:PT1H0M0S
SUMMARY:Ripple vs. Serve & Destroy
DESCRIPTION:Adult Volleyball - Friday -  Recreational - Carol Stream Park District
LOCATION:Fountain View - Court 3
CATEGORIES:QuickScores, Volleyball - Adult Game
TRANSP:OPAQUE
BEGIN:VALARM
TRIGGER:-PT2H
ACTION:DISPLAY
DESCRIPTION:Ripple vs. Serve & Destroy
END:VALARM
END:VEVENT
BEGIN:VEVENT
UID:csparks-68398826-20250411T201500@quickscores.com
DTSTAMP:20260421T164300Z
DTSTART;TZID=America/Chicago:20250411T201500
DURATION:PT1H0M0S
SUMMARY:Good Spikes with Friends vs. Ripple
DESCRIPTION:Adult Volleyball - Friday -  Recreational - Carol Stream Park District
LOCATION:Fountain View - Court 3
CATEGORIES:QuickScores, Volleyball - Adult Game
TRANSP:OPAQUE
BEGIN:VALARM
TRIGGER:-PT2H
ACTION:DISPLAY
DESCRIPTION:Good Spikes with Friends vs. Ripple
END:VALARM
END:VEVENT
BEGIN:VEVENT
UID:csparks-68398822-20250418T191500@quickscores.com
DTSTAMP:20260421T164300Z
DTSTART;TZID=America/Chicago:20250418T191500
DURATION:PT1H0M0S
SUMMARY:Good Spikes with Friends vs. Ripple
DESCRIPTION:Adult Volleyball - Friday -  Recreational - Carol Stream Park District
LOCATION:Fountain View - Court 3
CATEGORIES:QuickScores, Volleyball - Adult Game
TRANSP:OPAQUE
BEGIN:VALARM
TRIGGER:-PT2H
ACTION:DISPLAY
DESCRIPTION:Good Spikes with Friends vs. Ripple
END:VALARM
END:VEVENT
BEGIN:VEVENT
UID:csparks-68398829-20250425T211500@quickscores.com
DTSTAMP:20260421T164300Z
DTSTART;TZID=America/Chicago:20250425T211500
DURATION:PT1H0M0S
SUMMARY:Ripple vs. The Hit Squad
DESCRIPTION:Adult Volleyball - Friday -  Recreational - Carol Stream Park District
LOCATION:Fountain View - Court 3
CATEGORIES:QuickScores, Volleyball - Adult Game
TRANSP:OPAQUE
BEGIN:VALARM
TRIGGER:-PT2H
ACTION:DISPLAY
DESCRIPTION:Ripple vs. The Hit Squad
END:VALARM
END:VEVENT
BEGIN:VEVENT
UID:csparks-68442138-20250502T201500@quickscores.com
DTSTAMP:20260421T164300Z
DTSTART;TZID=America/Chicago:20250502T201500
DURATION:PT1H0M0S
SUMMARY:Unknown Fire vs. Ripple
DESCRIPTION:Adult Volleyball - Friday -  Recreational - Carol Stream Park District
LOCATION:Fountain View - Court 3
CATEGORIES:QuickScores, Volleyball - Adult Game
TRANSP:OPAQUE
BEGIN:VALARM
TRIGGER:-PT2H
ACTION:DISPLAY
DESCRIPTION:Unknown Fire vs. Ripple
END:VALARM
END:VEVENT
BEGIN:VEVENT
UID:csparks-68398835-20250509T211500@quickscores.com
DTSTAMP:20260421T164300Z
DTSTART;TZID=America/Chicago:20250509T211500
DURATION:PT1H0M0S
SUMMARY:Ripple vs. Unknown Fire
DESCRIPTION:Adult Volleyball - Friday -  Recreational - Carol Stream Park District
LOCATION:Fountain View - Court 3
CATEGORIES:QuickScores, Volleyball - Adult Game
TRANSP:OPAQUE
BEGIN:VALARM
TRIGGER:-PT2H
ACTION:DISPLAY
DESCRIPTION:Ripple vs. Unknown Fire
END:VALARM
END:VEVENT
BEGIN:VEVENT
UID:csparks-68398839-20250516T191500@quickscores.com
DTSTAMP:20260421T164300Z
DTSTART;TZID=America/Chicago:20250516T191500
DURATION:PT1H0M0S
SUMMARY:The Hit Squad vs. Ripple
DESCRIPTION:Adult Volleyball - Friday -  Recreational - Carol Stream Park District
LOCATION:Fountain View - Court 3
CATEGORIES:QuickScores, Volleyball - Adult Game
TRANSP:OPAQUE
BEGIN:VALARM
TRIGGER:-PT2H
ACTION:DISPLAY
DESCRIPTION:The Hit Squad vs. Ripple
END:VALARM
END:VEVENT
BEGIN:VEVENT
UID:csparks-68398849-20250530T191500@quickscores.com
DTSTAMP:20260421T164300Z
DTSTART;TZID=America/Chicago:20250530T191500
DURATION:PT1H0M0S
SUMMARY:Ripple vs. Serve & Destroy
DESCRIPTION:Adult Volleyball - Friday -  Recreational - Carol Stream Park District
LOCATION:Fountain View - Court 3
CATEGORIES:QuickScores, Volleyball - Adult Game
TRANSP:OPAQUE
BEGIN:VALARM
TRIGGER:-PT2H
ACTION:DISPLAY
DESCRIPTION:Ripple vs. Serve & Destroy
END:VALARM
END:VEVENT
BEGIN:VEVENT
UID:csparks-68399076-20250606T191500@quickscores.com
DTSTAMP:20260421T164300Z
DTSTART;TZID=America/Chicago:20250606T191500
DURATION:PT1H0M0S
SUMMARY:Serve & Destroy vs. Ripple
DESCRIPTION:Adult Volleyball - Friday -  Recreational - Carol Stream Park District
LOCATION:Fountain View - Court 3
CATEGORIES:QuickScores, Volleyball - Adult Game
TRANSP:OPAQUE
BEGIN:VALARM
TRIGGER:-PT2H
ACTION:DISPLAY
DESCRIPTION:Serve & Destroy vs. Ripple
END:VALARM
END:VEVENT
BEGIN:VEVENT
UID:csparks-68398845-20250613T191500@quickscores.com
DTSTAMP:20260421T164300Z
DTSTART;TZID=America/Chicago:20250613T191500
DURATION:PT1H0M0S
SUMMARY:Ripple vs. Good Spikes with Friends
DESCRIPTION:Adult Volleyball - Friday -  Recreational - Carol Stream Park District
LOCATION:Fountain View - Court 3
CATEGORIES:QuickScores, Volleyball - Adult Game
TRANSP:OPAQUE
BEGIN:VALARM
TRIGGER:-PT2H
ACTION:DISPLAY
DESCRIPTION:Ripple vs. Good Spikes with Friends
END:VALARM
END:VEVENT
BEGIN:VEVENT
UID:csparks-69138013-20250620T191500@quickscores.com
DTSTAMP:20260421T164300Z
DTSTART;TZID=America/Chicago:20250620T191500
DURATION:PT1H0M0S
SUMMARY:[2] Ripple vs. [3] Serve & Destroy
DESCRIPTION:Adult Volleyball - Friday -  Recreational - Carol Stream Park District
LOCATION:Fountain View - Court 3
CATEGORIES:QuickScores, Volleyball - Adult Game
TRANSP:OPAQUE
BEGIN:VALARM
TRIGGER:-PT2H
ACTION:DISPLAY
DESCRIPTION:[2] Ripple vs. [3] Serve & Destroy
END:VALARM
END:VEVENT
END:VCALENDAR
