BEGIN:VCALENDAR
VERSION:2.0
PRODID:-//QuickScores.com//BQ Dynamic iCal Creator//EN
METHOD:PUBLISH
X-WR-CALNAME:Sonics- Houswerth - Youth Soccer - Grade Pre/k (u6) Co-ed League - Spring 2025
X-WR-CALDESC:QuickScores game calendar
X-PUBLISHED-TTL:PT24H
REFRESH-INTERVAL;VALUE=DURATION:PT24H
CALSCALE:GREGORIAN
BEGIN:VTIMEZONE
TZID:America/Chicago
X-LIC-LOCATION:America/Chicago
BEGIN:DAYLIGHT
TZNAME:CDT
TZOFFSETFROM:-0600
TZOFFSETTO:-0500
DTSTART:19700308T020000
RRULE:FREQ=YEARLY;BYMONTH=3;BYDAY=2SU
END:DAYLIGHT
BEGIN:STANDARD
TZNAME:CST
TZOFFSETFROM:-0500
TZOFFSETTO:-0600
DTSTART:19701101T020000
RRULE:FREQ=YEARLY;BYMONTH=11;BYDAY=1SU
END:STANDARD
END:VTIMEZONE
BEGIN:VEVENT
UID:csparks-68039131-20250412T140000@quickscores.com
DTSTAMP:20260419T215400Z
DTSTART;TZID=America/Chicago:20250412T140000
DURATION:PT1H0M0S
SUMMARY:Red Bulls- Carter vs. Sonics- Houswerth
DESCRIPTION:Youth Soccer - Grade Pre/k (u6) Co-ed League - Carol Stream Park District
LOCATION:Hampe 1 - Soccer (U6)
CATEGORIES:QuickScores, Soccer - Youth Game
TRANSP:OPAQUE
BEGIN:VALARM
TRIGGER:-PT2H
ACTION:DISPLAY
DESCRIPTION:Red Bulls- Carter vs. Sonics- Houswerth
END:VALARM
END:VEVENT
BEGIN:VEVENT
UID:csparks-68039134-20250419T150000@quickscores.com
DTSTAMP:20260419T215400Z
DTSTART;TZID=America/Chicago:20250419T150000
DURATION:PT1H0M0S
SUMMARY:Sonics- Houswerth vs. Wolfpack- Medina
DESCRIPTION:Youth Soccer - Grade Pre/k (u6) Co-ed League - Carol Stream Park District
LOCATION:Hampe 1 - Soccer (U6)
CATEGORIES:QuickScores, Soccer - Youth Game
TRANSP:OPAQUE
BEGIN:VALARM
TRIGGER:-PT2H
ACTION:DISPLAY
DESCRIPTION:Sonics- Houswerth vs. Wolfpack- Medina
END:VALARM
END:VEVENT
BEGIN:VEVENT
UID:csparks-68039136-20250426T130000@quickscores.com
DTSTAMP:20260419T215400Z
DTSTART;TZID=America/Chicago:20250426T130000
DURATION:PT1H0M0S
SUMMARY:Galaxy- Tricase vs. Sonics- Houswerth
DESCRIPTION:Youth Soccer - Grade Pre/k (u6) Co-ed League - Carol Stream Park District
LOCATION:Hampe 1 - Soccer (U6)
CATEGORIES:QuickScores, Soccer - Youth Game
TRANSP:OPAQUE
BEGIN:VALARM
TRIGGER:-PT2H
ACTION:DISPLAY
DESCRIPTION:Galaxy- Tricase vs. Sonics- Houswerth
END:VALARM
END:VEVENT
BEGIN:VEVENT
UID:csparks-68039139-20250503T130000@quickscores.com
DTSTAMP:20260419T215400Z
DTSTART;TZID=America/Chicago:20250503T130000
DURATION:PT1H0M0S
SUMMARY:Sonics- Houswerth vs. Inter- Pesce
DESCRIPTION:Youth Soccer - Grade Pre/k (u6) Co-ed League - Carol Stream Park District
LOCATION:Hampe 1 - Soccer (U6)
CATEGORIES:QuickScores, Soccer - Youth Game
TRANSP:OPAQUE
BEGIN:VALARM
TRIGGER:-PT2H
ACTION:DISPLAY
DESCRIPTION:Sonics- Houswerth vs. Inter- Pesce
END:VALARM
END:VEVENT
BEGIN:VEVENT
UID:csparks-68039141-20250510T140000@quickscores.com
DTSTAMP:20260419T215400Z
DTSTART;TZID=America/Chicago:20250510T140000
DURATION:PT1H0M0S
SUMMARY:Fire- Adamiec vs. Sonics- Houswerth
DESCRIPTION:Youth Soccer - Grade Pre/k (u6) Co-ed League - Carol Stream Park District
LOCATION:Hampe 1 - Soccer (U6)
CATEGORIES:QuickScores, Soccer - Youth Game
TRANSP:OPAQUE
BEGIN:VALARM
TRIGGER:-PT2H
ACTION:DISPLAY
DESCRIPTION:Fire- Adamiec vs. Sonics- Houswerth
END:VALARM
END:VEVENT
BEGIN:VEVENT
UID:csparks-68039146-20250517T130000@quickscores.com
DTSTAMP:20260419T215400Z
DTSTART;TZID=America/Chicago:20250517T130000
DURATION:PT1H0M0S
SUMMARY:Sonics- Houswerth vs. Red Bulls- Carter
DESCRIPTION:Youth Soccer - Grade Pre/k (u6) Co-ed League - Carol Stream Park District
LOCATION:Hampe 1 - Soccer (U6)
CATEGORIES:QuickScores, Soccer - Youth Game
TRANSP:OPAQUE
BEGIN:VALARM
TRIGGER:-PT2H
ACTION:DISPLAY
DESCRIPTION:Sonics- Houswerth vs. Red Bulls- Carter
END:VALARM
END:VEVENT
BEGIN:VEVENT
UID:csparks-68039149-20250531T140000@quickscores.com
DTSTAMP:20260419T215400Z
DTSTART;TZID=America/Chicago:20250531T140000
DURATION:PT1H0M0S
SUMMARY:Wolfpack- Medina vs. Sonics- Houswerth
DESCRIPTION:Youth Soccer - Grade Pre/k (u6) Co-ed League - Carol Stream Park District
LOCATION:Hampe 1 - Soccer (U6)
CATEGORIES:QuickScores, Soccer - Youth Game
TRANSP:OPAQUE
BEGIN:VALARM
TRIGGER:-PT2H
ACTION:DISPLAY
DESCRIPTION:Wolfpack- Medina vs. Sonics- Houswerth
END:VALARM
END:VEVENT
BEGIN:VEVENT
UID:csparks-68039150-20250607T130000@quickscores.com
DTSTAMP:20260419T215400Z
DTSTART;TZID=America/Chicago:20250607T130000
DURATION:PT1H0M0S
SUMMARY:Sonics- Houswerth vs. Galaxy- Tricase
DESCRIPTION:Time change --- Youth Soccer - Grade Pre/k (u6) Co-ed League - Carol Stream Park District
LOCATION:Hampe 1 - Soccer (U6)
CATEGORIES:QuickScores, Soccer - Youth Game
TRANSP:OPAQUE
BEGIN:VALARM
TRIGGER:-PT2H
ACTION:DISPLAY
DESCRIPTION:Sonics- Houswerth vs. Galaxy- Tricase
END:VALARM
END:VEVENT
END:VCALENDAR
