BEGIN:VCALENDAR
VERSION:2.0
PRODID:-//QuickScores.com//BQ Dynamic iCal Creator//EN
METHOD:PUBLISH
X-WR-CALNAME:Carol Stream - Giants - Morris - 8u Baseball - Spring 2025
X-WR-CALDESC:QuickScores game calendar
X-PUBLISHED-TTL:PT24H
REFRESH-INTERVAL;VALUE=DURATION:PT24H
CALSCALE:GREGORIAN
BEGIN:VTIMEZONE
TZID:America/Chicago
X-LIC-LOCATION:America/Chicago
BEGIN:DAYLIGHT
TZNAME:CDT
TZOFFSETFROM:-0600
TZOFFSETTO:-0500
DTSTART:19700308T020000
RRULE:FREQ=YEARLY;BYMONTH=3;BYDAY=2SU
END:DAYLIGHT
BEGIN:STANDARD
TZNAME:CST
TZOFFSETFROM:-0500
TZOFFSETTO:-0600
DTSTART:19701101T020000
RRULE:FREQ=YEARLY;BYMONTH=11;BYDAY=1SU
END:STANDARD
END:VTIMEZONE
BEGIN:VEVENT
UID:csparks-68022492-20250419T123000@quickscores.com
DTSTAMP:20260423T003700Z
DTSTART;TZID=America/Chicago:20250419T123000
DURATION:PT2H0M0S
SUMMARY:Carol Stream - Yankees - McCoy vs. Carol Stream - Giants - Morris
DESCRIPTION:8u Baseball - Carol Stream Park District
LOCATION:McCaslin 3
CATEGORIES:QuickScores, Baseball Game
TRANSP:OPAQUE
BEGIN:VALARM
TRIGGER:-PT2H
ACTION:DISPLAY
DESCRIPTION:Carol Stream - Yankees - McCoy vs. Carol Stream - Giants - Morris
END:VALARM
END:VEVENT
BEGIN:VEVENT
UID:csparks-68022501-20250430T173000@quickscores.com
DTSTAMP:20260423T003700Z
DTSTART;TZID=America/Chicago:20250430T173000
DURATION:PT2H0M0S
SUMMARY:Carol Stream - White Sox - DiCarlo vs. Carol Stream - Giants - Morris
DESCRIPTION:Moved from 4/26 --- 8u Baseball - Carol Stream Park District
LOCATION:Pleasant Hill South
CATEGORIES:QuickScores, Baseball Game
TRANSP:OPAQUE
BEGIN:VALARM
TRIGGER:-PT2H
ACTION:DISPLAY
DESCRIPTION:Carol Stream - White Sox - DiCarlo vs. Carol Stream - Giants - Morris
END:VALARM
END:VEVENT
BEGIN:VEVENT
UID:csparks-68022513-20250503T110000@quickscores.com
DTSTAMP:20260423T003700Z
DTSTART;TZID=America/Chicago:20250503T110000
DURATION:PT2H0M0S
SUMMARY:West Chicago - Huetson vs. Carol Stream - Giants - Morris
DESCRIPTION:8u Baseball - Carol Stream Park District
LOCATION:Pioneer Park - Field 1
CATEGORIES:QuickScores, Baseball Game
TRANSP:OPAQUE
BEGIN:VALARM
TRIGGER:-PT2H
ACTION:DISPLAY
DESCRIPTION:West Chicago - Huetson vs. Carol Stream - Giants - Morris
END:VALARM
END:VEVENT
BEGIN:VEVENT
UID:csparks-68022507-20250509T180000@quickscores.com
DTSTAMP:20260423T003700Z
DTSTART;TZID=America/Chicago:20250509T180000
DURATION:PT2H0M0S
SUMMARY:Carol Stream - Giants - Morris vs. Carol Stream - Yankees - McCoy
DESCRIPTION:Moved from 5/1 --- 8u Baseball - Carol Stream Park District
LOCATION:Kent Park
CATEGORIES:QuickScores, Baseball Game
TRANSP:OPAQUE
BEGIN:VALARM
TRIGGER:-PT2H
ACTION:DISPLAY
DESCRIPTION:Carol Stream - Giants - Morris vs. Carol Stream - Yankees - McCoy
END:VALARM
END:VEVENT
BEGIN:VEVENT
UID:csparks-68022522-20250510T123000@quickscores.com
DTSTAMP:20260423T003700Z
DTSTART;TZID=America/Chicago:20250510T123000
DURATION:PT2H0M0S
SUMMARY:Carol Stream - Giants - Morris vs. Carol Stream - A's - Kimme
DESCRIPTION:8u Baseball - Carol Stream Park District
LOCATION:McCaslin 2
CATEGORIES:QuickScores, Baseball Game
TRANSP:OPAQUE
BEGIN:VALARM
TRIGGER:-PT2H
ACTION:DISPLAY
DESCRIPTION:Carol Stream - Giants - Morris vs. Carol Stream - A's - Kimme
END:VALARM
END:VEVENT
BEGIN:VEVENT
UID:csparks-68022539-20250513T180000@quickscores.com
DTSTAMP:20260423T003700Z
DTSTART;TZID=America/Chicago:20250513T180000
DURATION:PT2H0M0S
SUMMARY:Carol Stream - Giants - Morris vs. West Chicago - Huetson
DESCRIPTION:8u Baseball - Carol Stream Park District
LOCATION:Armstrong 1
CATEGORIES:QuickScores, Baseball Game
TRANSP:OPAQUE
BEGIN:VALARM
TRIGGER:-PT2H
ACTION:DISPLAY
DESCRIPTION:Carol Stream - Giants - Morris vs. West Chicago - Huetson
END:VALARM
END:VEVENT
BEGIN:VEVENT
UID:csparks-68022532-20250517T100000@quickscores.com
DTSTAMP:20260423T003700Z
DTSTART;TZID=America/Chicago:20250517T100000
DURATION:PT2H0M0S
SUMMARY:Carol Stream - Cubs - Molley vs. Carol Stream - Giants - Morris
DESCRIPTION:8u Baseball - Carol Stream Park District
LOCATION:Kent Park
CATEGORIES:QuickScores, Baseball Game
TRANSP:OPAQUE
BEGIN:VALARM
TRIGGER:-PT2H
ACTION:DISPLAY
DESCRIPTION:Carol Stream - Cubs - Molley vs. Carol Stream - Giants - Morris
END:VALARM
END:VEVENT
BEGIN:VEVENT
UID:csparks-68022557-20250529T180000@quickscores.com
DTSTAMP:20260423T003700Z
DTSTART;TZID=America/Chicago:20250529T180000
DURATION:PT2H0M0S
SUMMARY:Carol Stream - Pirates -  Garza vs. Carol Stream - Giants - Morris
DESCRIPTION:Updated Location --- 8u Baseball - Carol Stream Park District
LOCATION:Pleasant Hill North
CATEGORIES:QuickScores, Baseball Game
TRANSP:OPAQUE
BEGIN:VALARM
TRIGGER:-PT2H
ACTION:DISPLAY
DESCRIPTION:Carol Stream - Pirates -  Garza vs. Carol Stream - Giants - Morris
END:VALARM
END:VEVENT
BEGIN:VEVENT
UID:csparks-68022552-20250531T100000@quickscores.com
DTSTAMP:20260423T003700Z
DTSTART;TZID=America/Chicago:20250531T100000
DURATION:PT2H0M0S
SUMMARY:Carol Stream - Blue Jays - Hare vs. Carol Stream - Giants - Morris
DESCRIPTION:8u Baseball - Carol Stream Park District
LOCATION:Armstrong 3
CATEGORIES:QuickScores, Baseball Game
TRANSP:OPAQUE
BEGIN:VALARM
TRIGGER:-PT2H
ACTION:DISPLAY
DESCRIPTION:Carol Stream - Blue Jays - Hare vs. Carol Stream - Giants - Morris
END:VALARM
END:VEVENT
BEGIN:VEVENT
UID:csparks-68022575-20250602T180000@quickscores.com
DTSTAMP:20260423T003700Z
DTSTART;TZID=America/Chicago:20250602T180000
DURATION:PT2H0M0S
SUMMARY:Carol Stream - Giants - Morris vs. Carol Stream - White Sox - DiCarlo
DESCRIPTION:8u Baseball - Carol Stream Park District
LOCATION:McCaslin 2
CATEGORIES:QuickScores, Baseball Game
TRANSP:OPAQUE
BEGIN:VALARM
TRIGGER:-PT2H
ACTION:DISPLAY
DESCRIPTION:Carol Stream - Giants - Morris vs. Carol Stream - White Sox - DiCarlo
END:VALARM
END:VEVENT
BEGIN:VEVENT
UID:csparks-68022569-20250605T180000@quickscores.com
DTSTAMP:20260423T003700Z
DTSTART;TZID=America/Chicago:20250605T180000
DURATION:PT2H0M0S
SUMMARY:Glendale Heights - Cubs- Aiello vs. Carol Stream - Giants - Morris
DESCRIPTION:8u Baseball - Carol Stream Park District
LOCATION:Camera East
CATEGORIES:QuickScores, Baseball Game
TRANSP:OPAQUE
BEGIN:VALARM
TRIGGER:-PT2H
ACTION:DISPLAY
DESCRIPTION:Glendale Heights - Cubs- Aiello vs. Carol Stream - Giants - Morris
END:VALARM
END:VEVENT
BEGIN:VEVENT
UID:csparks-68022565-20250607T150000@quickscores.com
DTSTAMP:20260423T003700Z
DTSTART;TZID=America/Chicago:20250607T150000
DURATION:PT2H0M0S
SUMMARY:Carol Stream - Giants - Morris vs. Carol Stream - Royals -  Panvino
DESCRIPTION:8u Baseball - Carol Stream Park District
LOCATION:Pleasant Hill North
CATEGORIES:QuickScores, Baseball Game
TRANSP:OPAQUE
BEGIN:VALARM
TRIGGER:-PT2H
ACTION:DISPLAY
DESCRIPTION:Carol Stream - Giants - Morris vs. Carol Stream - Royals -  Panvino
END:VALARM
END:VEVENT
BEGIN:VEVENT
UID:csparks-68022583-20250611T180000@quickscores.com
DTSTAMP:20260423T003700Z
DTSTART;TZID=America/Chicago:20250611T180000
DURATION:PT2H0M0S
SUMMARY:Glendale Heights - White Sox - Mendoza vs. Carol Stream - Giants - Morris
DESCRIPTION:8u Baseball - Carol Stream Park District
LOCATION:Camera East
CATEGORIES:QuickScores, Baseball Game
TRANSP:OPAQUE
BEGIN:VALARM
TRIGGER:-PT2H
ACTION:DISPLAY
DESCRIPTION:Glendale Heights - White Sox - Mendoza vs. Carol Stream - Giants - Morris
END:VALARM
END:VEVENT
BEGIN:VEVENT
UID:csparks-68022547-20250616T180000@quickscores.com
DTSTAMP:20260423T003700Z
DTSTART;TZID=America/Chicago:20250616T180000
DURATION:PT2H0M0S
SUMMARY:Carol Stream - Giants - Morris vs. Carol Stream - Dodgers - Grote
DESCRIPTION:Moved from 5/21 --- 8u Baseball - Carol Stream Park District
LOCATION:Armstrong 2
CATEGORIES:QuickScores, Baseball Game
TRANSP:OPAQUE
BEGIN:VALARM
TRIGGER:-PT2H
ACTION:DISPLAY
DESCRIPTION:Carol Stream - Giants - Morris vs. Carol Stream - Dodgers - Grote
END:VALARM
END:VEVENT
BEGIN:VEVENT
UID:csparks-68022597-20250617T180000@quickscores.com
DTSTAMP:20260423T003700Z
DTSTART;TZID=America/Chicago:20250617T180000
DURATION:PT2H0M0S
SUMMARY:Carol Stream - Giants - Morris vs. Carol Stream - Braves - Randle
DESCRIPTION:8u Baseball - Carol Stream Park District
LOCATION:Armstrong 1
CATEGORIES:QuickScores, Baseball Game
TRANSP:OPAQUE
BEGIN:VALARM
TRIGGER:-PT2H
ACTION:DISPLAY
DESCRIPTION:Carol Stream - Giants - Morris vs. Carol Stream - Braves - Randle
END:VALARM
END:VEVENT
BEGIN:VEVENT
UID:csparks-68022579-20250618T180000@quickscores.com
DTSTAMP:20260423T003700Z
DTSTART;TZID=America/Chicago:20250618T180000
DURATION:PT2H0M0S
SUMMARY:Carol Stream - Giants - Morris vs. Carol Stream - Cardinals - Brown
DESCRIPTION:Moved from 6/14 --- 8u Baseball - Carol Stream Park District
LOCATION:Armstrong 1
CATEGORIES:QuickScores, Baseball Game
TRANSP:OPAQUE
BEGIN:VALARM
TRIGGER:-PT2H
ACTION:DISPLAY
DESCRIPTION:Carol Stream - Giants - Morris vs. Carol Stream - Cardinals - Brown
END:VALARM
END:VEVENT
END:VCALENDAR
