BEGIN:VCALENDAR
VERSION:2.0
PRODID:-//QuickScores.com//BQ Dynamic iCal Creator//EN
METHOD:PUBLISH
X-WR-CALNAME:Carol Stream - Braves - Randle - 8u Baseball - Spring 2025
X-WR-CALDESC:QuickScores game calendar
X-PUBLISHED-TTL:PT24H
REFRESH-INTERVAL;VALUE=DURATION:PT24H
CALSCALE:GREGORIAN
BEGIN:VTIMEZONE
TZID:America/Chicago
X-LIC-LOCATION:America/Chicago
BEGIN:DAYLIGHT
TZNAME:CDT
TZOFFSETFROM:-0600
TZOFFSETTO:-0500
DTSTART:19700308T020000
RRULE:FREQ=YEARLY;BYMONTH=3;BYDAY=2SU
END:DAYLIGHT
BEGIN:STANDARD
TZNAME:CST
TZOFFSETFROM:-0500
TZOFFSETTO:-0600
DTSTART:19701101T020000
RRULE:FREQ=YEARLY;BYMONTH=11;BYDAY=1SU
END:STANDARD
END:VTIMEZONE
BEGIN:VEVENT
UID:csparks-68022491-20250419T090000@quickscores.com
DTSTAMP:20260423T110800Z
DTSTART;TZID=America/Chicago:20250419T090000
DURATION:PT2H0M0S
SUMMARY:Carol Stream - Braves - Randle vs. Carol Stream - A's - Kimme
DESCRIPTION:8u Baseball - Carol Stream Park District
LOCATION:McCaslin 3
CATEGORIES:QuickScores, Baseball Game
TRANSP:OPAQUE
BEGIN:VALARM
TRIGGER:-PT2H
ACTION:DISPLAY
DESCRIPTION:Carol Stream - Braves - Randle vs. Carol Stream - A's - Kimme
END:VALARM
END:VEVENT
BEGIN:VEVENT
UID:csparks-68022497-20250423T180000@quickscores.com
DTSTAMP:20260423T110800Z
DTSTART;TZID=America/Chicago:20250423T180000
DURATION:PT2H0M0S
SUMMARY:Carol Stream - Braves - Randle vs. Glendale Heights - Cubs- Aiello
DESCRIPTION:Location Update --- 8u Baseball - Carol Stream Park District
LOCATION:McCaslin 4
CATEGORIES:QuickScores, Baseball Game
TRANSP:OPAQUE
BEGIN:VALARM
TRIGGER:-PT2H
ACTION:DISPLAY
DESCRIPTION:Carol Stream - Braves - Randle vs. Glendale Heights - Cubs- Aiello
END:VALARM
END:VEVENT
BEGIN:VEVENT
UID:csparks-68022506-20250430T180000@quickscores.com
DTSTAMP:20260423T110800Z
DTSTART;TZID=America/Chicago:20250430T180000
DURATION:PT2H0M0S
SUMMARY:Carol Stream - A's - Kimme vs. Carol Stream - Braves - Randle
DESCRIPTION:8u Baseball - Carol Stream Park District
LOCATION:Armstrong 3
CATEGORIES:QuickScores, Baseball Game
TRANSP:OPAQUE
BEGIN:VALARM
TRIGGER:-PT2H
ACTION:DISPLAY
DESCRIPTION:Carol Stream - A's - Kimme vs. Carol Stream - Braves - Randle
END:VALARM
END:VEVENT
BEGIN:VEVENT
UID:csparks-68022514-20250503T123000@quickscores.com
DTSTAMP:20260423T110800Z
DTSTART;TZID=America/Chicago:20250503T123000
DURATION:PT2H0M0S
SUMMARY:Carol Stream - Braves - Randle vs. Carol Stream - White Sox - DiCarlo
DESCRIPTION:8u Baseball - Carol Stream Park District
LOCATION:Armstrong 1
CATEGORIES:QuickScores, Baseball Game
TRANSP:OPAQUE
BEGIN:VALARM
TRIGGER:-PT2H
ACTION:DISPLAY
DESCRIPTION:Carol Stream - Braves - Randle vs. Carol Stream - White Sox - DiCarlo
END:VALARM
END:VEVENT
BEGIN:VEVENT
UID:csparks-68022528-20250508T180000@quickscores.com
DTSTAMP:20260423T110800Z
DTSTART;TZID=America/Chicago:20250508T180000
DURATION:PT2H0M0S
SUMMARY:Carol Stream - Dodgers - Grote vs. Carol Stream - Braves - Randle
DESCRIPTION:8u Baseball - Carol Stream Park District
LOCATION:Pleasant Hill North
CATEGORIES:QuickScores, Baseball Game
TRANSP:OPAQUE
BEGIN:VALARM
TRIGGER:-PT2H
ACTION:DISPLAY
DESCRIPTION:Carol Stream - Dodgers - Grote vs. Carol Stream - Braves - Randle
END:VALARM
END:VEVENT
BEGIN:VEVENT
UID:csparks-68022518-20250510T123000@quickscores.com
DTSTAMP:20260423T110800Z
DTSTART;TZID=America/Chicago:20250510T123000
DURATION:PT2H0M0S
SUMMARY:Carol Stream - Royals -  Panvino vs. Carol Stream - Braves - Randle
DESCRIPTION:Updated Time/Location --- 8u Baseball - Carol Stream Park District
LOCATION:Kent Park
CATEGORIES:QuickScores, Baseball Game
TRANSP:OPAQUE
BEGIN:VALARM
TRIGGER:-PT2H
ACTION:DISPLAY
DESCRIPTION:Carol Stream - Royals -  Panvino vs. Carol Stream - Braves - Randle
END:VALARM
END:VEVENT
BEGIN:VEVENT
UID:csparks-68022540-20250512T180000@quickscores.com
DTSTAMP:20260423T110800Z
DTSTART;TZID=America/Chicago:20250512T180000
DURATION:PT2H0M0S
SUMMARY:Carol Stream - White Sox - DiCarlo vs. Carol Stream - Braves - Randle
DESCRIPTION:8u Baseball - Carol Stream Park District
LOCATION:Pleasant Hill North
CATEGORIES:QuickScores, Baseball Game
TRANSP:OPAQUE
BEGIN:VALARM
TRIGGER:-PT2H
ACTION:DISPLAY
DESCRIPTION:Carol Stream - White Sox - DiCarlo vs. Carol Stream - Braves - Randle
END:VALARM
END:VEVENT
BEGIN:VEVENT
UID:csparks-68022535-20250517T123000@quickscores.com
DTSTAMP:20260423T110800Z
DTSTART;TZID=America/Chicago:20250517T123000
DURATION:PT2H0M0S
SUMMARY:Carol Stream - Braves - Randle vs. Carol Stream - Yankees - McCoy
DESCRIPTION:8u Baseball - Carol Stream Park District
LOCATION:Pleasant Hill North
CATEGORIES:QuickScores, Baseball Game
TRANSP:OPAQUE
BEGIN:VALARM
TRIGGER:-PT2H
ACTION:DISPLAY
DESCRIPTION:Carol Stream - Braves - Randle vs. Carol Stream - Yankees - McCoy
END:VALARM
END:VEVENT
BEGIN:VEVENT
UID:csparks-68022543-20250519T180000@quickscores.com
DTSTAMP:20260423T110800Z
DTSTART;TZID=America/Chicago:20250519T180000
DURATION:PT2H0M0S
SUMMARY:Carol Stream - Braves - Randle vs. Carol Stream - Cardinals - Brown
DESCRIPTION:8u Baseball - Carol Stream Park District
LOCATION:Armstrong 1
CATEGORIES:QuickScores, Baseball Game
TRANSP:OPAQUE
BEGIN:VALARM
TRIGGER:-PT2H
ACTION:DISPLAY
DESCRIPTION:Carol Stream - Braves - Randle vs. Carol Stream - Cardinals - Brown
END:VALARM
END:VEVENT
BEGIN:VEVENT
UID:csparks-68022504-20250528T180000@quickscores.com
DTSTAMP:20260423T110800Z
DTSTART;TZID=America/Chicago:20250528T180000
DURATION:PT2H0M0S
SUMMARY:Carol Stream - Braves - Randle vs. Carol Stream - Dodgers - Grote
DESCRIPTION:Moved from 4/26 --- 8u Baseball - Carol Stream Park District
LOCATION:Pleasant Hill South
CATEGORIES:QuickScores, Baseball Game
TRANSP:OPAQUE
BEGIN:VALARM
TRIGGER:-PT2H
ACTION:DISPLAY
DESCRIPTION:Carol Stream - Braves - Randle vs. Carol Stream - Dodgers - Grote
END:VALARM
END:VEVENT
BEGIN:VEVENT
UID:csparks-68022556-20250531T123000@quickscores.com
DTSTAMP:20260423T110800Z
DTSTART;TZID=America/Chicago:20250531T123000
DURATION:PT2H0M0S
SUMMARY:Carol Stream - Braves - Randle vs. West Chicago - Huetson
DESCRIPTION:8u Baseball - Carol Stream Park District
LOCATION:Armstrong 4
CATEGORIES:QuickScores, Baseball Game
TRANSP:OPAQUE
BEGIN:VALARM
TRIGGER:-PT2H
ACTION:DISPLAY
DESCRIPTION:Carol Stream - Braves - Randle vs. West Chicago - Huetson
END:VALARM
END:VEVENT
BEGIN:VEVENT
UID:csparks-68022573-20250602T180000@quickscores.com
DTSTAMP:20260423T110800Z
DTSTART;TZID=America/Chicago:20250602T180000
DURATION:PT2H0M0S
SUMMARY:Carol Stream - Cubs - Molley vs. Carol Stream - Braves - Randle
DESCRIPTION:8u Baseball - Carol Stream Park District
LOCATION:Pleasant Hill North
CATEGORIES:QuickScores, Baseball Game
TRANSP:OPAQUE
BEGIN:VALARM
TRIGGER:-PT2H
ACTION:DISPLAY
DESCRIPTION:Carol Stream - Cubs - Molley vs. Carol Stream - Braves - Randle
END:VALARM
END:VEVENT
BEGIN:VEVENT
UID:csparks-68022561-20250607T100000@quickscores.com
DTSTAMP:20260423T110800Z
DTSTART;TZID=America/Chicago:20250607T100000
DURATION:PT2H0M0S
SUMMARY:Carol Stream - Braves - Randle vs. Glendale Heights - White Sox - Mendoza
DESCRIPTION:8u Baseball - Carol Stream Park District
LOCATION:Pleasant Hill South
CATEGORIES:QuickScores, Baseball Game
TRANSP:OPAQUE
BEGIN:VALARM
TRIGGER:-PT2H
ACTION:DISPLAY
DESCRIPTION:Carol Stream - Braves - Randle vs. Glendale Heights - White Sox - Mendoza
END:VALARM
END:VEVENT
BEGIN:VEVENT
UID:csparks-68022587-20250609T180000@quickscores.com
DTSTAMP:20260423T110800Z
DTSTART;TZID=America/Chicago:20250609T180000
DURATION:PT2H0M0S
SUMMARY:Carol Stream - Blue Jays - Hare vs. Carol Stream - Braves - Randle
DESCRIPTION:8u Baseball - Carol Stream Park District
LOCATION:Pleasant Hill North
CATEGORIES:QuickScores, Baseball Game
TRANSP:OPAQUE
BEGIN:VALARM
TRIGGER:-PT2H
ACTION:DISPLAY
DESCRIPTION:Carol Stream - Blue Jays - Hare vs. Carol Stream - Braves - Randle
END:VALARM
END:VEVENT
BEGIN:VEVENT
UID:csparks-68022582-20250614T123000@quickscores.com
DTSTAMP:20260423T110800Z
DTSTART;TZID=America/Chicago:20250614T123000
DURATION:PT2H0M0S
SUMMARY:Carol Stream - Pirates -  Garza vs. Carol Stream - Braves - Randle
DESCRIPTION:8u Baseball - Carol Stream Park District
LOCATION:Armstrong 3
CATEGORIES:QuickScores, Baseball Game
TRANSP:OPAQUE
BEGIN:VALARM
TRIGGER:-PT2H
ACTION:DISPLAY
DESCRIPTION:Carol Stream - Pirates -  Garza vs. Carol Stream - Braves - Randle
END:VALARM
END:VEVENT
BEGIN:VEVENT
UID:csparks-68022597-20250617T180000@quickscores.com
DTSTAMP:20260423T110800Z
DTSTART;TZID=America/Chicago:20250617T180000
DURATION:PT2H0M0S
SUMMARY:Carol Stream - Giants - Morris vs. Carol Stream - Braves - Randle
DESCRIPTION:8u Baseball - Carol Stream Park District
LOCATION:Armstrong 1
CATEGORIES:QuickScores, Baseball Game
TRANSP:OPAQUE
BEGIN:VALARM
TRIGGER:-PT2H
ACTION:DISPLAY
DESCRIPTION:Carol Stream - Giants - Morris vs. Carol Stream - Braves - Randle
END:VALARM
END:VEVENT
BEGIN:VEVENT
UID:csparks-69458034-20250623T180000@quickscores.com
DTSTAMP:20260423T110800Z
DTSTART;TZID=America/Chicago:20250623T180000
DURATION:PT2H0M0S
SUMMARY:[ 2 ] Carol Stream - Braves - Randle vs. [ 3 ] Carol Stream - Dodgers - Grote
DESCRIPTION:8u Baseball - Carol Stream Park District
LOCATION:Armstrong 4
CATEGORIES:QuickScores, Baseball Game
TRANSP:OPAQUE
BEGIN:VALARM
TRIGGER:-PT2H
ACTION:DISPLAY
DESCRIPTION:[ 2 ] Carol Stream - Braves - Randle vs. [ 3 ] Carol Stream - Dodgers - Grote
END:VALARM
END:VEVENT
BEGIN:VEVENT
UID:csparks-69458035-20250627T180000@quickscores.com
DTSTAMP:20260423T110800Z
DTSTART;TZID=America/Chicago:20250627T180000
DURATION:PT2H0M0S
SUMMARY:[ 1 ] Carol Stream - Yankees - McCoy vs. [ 2 ] Carol Stream - Braves - Randle
DESCRIPTION:8u Baseball - Carol Stream Park District
LOCATION:McCaslin 4
CATEGORIES:QuickScores, Baseball Game
TRANSP:OPAQUE
BEGIN:VALARM
TRIGGER:-PT2H
ACTION:DISPLAY
DESCRIPTION:[ 1 ] Carol Stream - Yankees - McCoy vs. [ 2 ] Carol Stream - Braves - Randle
END:VALARM
END:VEVENT
END:VCALENDAR
