BEGIN:VCALENDAR
VERSION:2.0
PRODID:-//QuickScores.com//BQ Dynamic iCal Creator//EN
METHOD:PUBLISH
X-WR-CALNAME:Carol Stream - A&#039;s - Kimme - 8u Baseball - Spring 2025
X-WR-CALDESC:QuickScores game calendar
X-PUBLISHED-TTL:PT24H
REFRESH-INTERVAL;VALUE=DURATION:PT24H
CALSCALE:GREGORIAN
BEGIN:VTIMEZONE
TZID:America/Chicago
X-LIC-LOCATION:America/Chicago
BEGIN:DAYLIGHT
TZNAME:CDT
TZOFFSETFROM:-0600
TZOFFSETTO:-0500
DTSTART:19700308T020000
RRULE:FREQ=YEARLY;BYMONTH=3;BYDAY=2SU
END:DAYLIGHT
BEGIN:STANDARD
TZNAME:CST
TZOFFSETFROM:-0500
TZOFFSETTO:-0600
DTSTART:19701101T020000
RRULE:FREQ=YEARLY;BYMONTH=11;BYDAY=1SU
END:STANDARD
END:VTIMEZONE
BEGIN:VEVENT
UID:csparks-68022491-20250419T090000@quickscores.com
DTSTAMP:20260422T230100Z
DTSTART;TZID=America/Chicago:20250419T090000
DURATION:PT2H0M0S
SUMMARY:Carol Stream - Braves - Randle vs. Carol Stream - A's - Kimme
DESCRIPTION:8u Baseball - Carol Stream Park District
LOCATION:McCaslin 3
CATEGORIES:QuickScores, Baseball Game
TRANSP:OPAQUE
BEGIN:VALARM
TRIGGER:-PT2H
ACTION:DISPLAY
DESCRIPTION:Carol Stream - Braves - Randle vs. Carol Stream - A's - Kimme
END:VALARM
END:VEVENT
BEGIN:VEVENT
UID:csparks-68022506-20250430T180000@quickscores.com
DTSTAMP:20260422T230100Z
DTSTART;TZID=America/Chicago:20250430T180000
DURATION:PT2H0M0S
SUMMARY:Carol Stream - A's - Kimme vs. Carol Stream - Braves - Randle
DESCRIPTION:8u Baseball - Carol Stream Park District
LOCATION:Armstrong 3
CATEGORIES:QuickScores, Baseball Game
TRANSP:OPAQUE
BEGIN:VALARM
TRIGGER:-PT2H
ACTION:DISPLAY
DESCRIPTION:Carol Stream - A's - Kimme vs. Carol Stream - Braves - Randle
END:VALARM
END:VEVENT
BEGIN:VEVENT
UID:csparks-68022512-20250503T123000@quickscores.com
DTSTAMP:20260422T230100Z
DTSTART;TZID=America/Chicago:20250503T123000
DURATION:PT2H0M0S
SUMMARY:Carol Stream - Cardinals - Brown vs. Carol Stream - A's - Kimme
DESCRIPTION:Updated Location --- 8u Baseball - Carol Stream Park District
LOCATION:Kent Park
CATEGORIES:QuickScores, Baseball Game
TRANSP:OPAQUE
BEGIN:VALARM
TRIGGER:-PT2H
ACTION:DISPLAY
DESCRIPTION:Carol Stream - Cardinals - Brown vs. Carol Stream - A's - Kimme
END:VALARM
END:VEVENT
BEGIN:VEVENT
UID:csparks-68022526-20250506T180000@quickscores.com
DTSTAMP:20260422T230100Z
DTSTART;TZID=America/Chicago:20250506T180000
DURATION:PT2H0M0S
SUMMARY:Carol Stream - A's - Kimme vs. Carol Stream - Pirates -  Garza
DESCRIPTION:8u Baseball - Carol Stream Park District
LOCATION:Pleasant Hill North
CATEGORIES:QuickScores, Baseball Game
TRANSP:OPAQUE
BEGIN:VALARM
TRIGGER:-PT2H
ACTION:DISPLAY
DESCRIPTION:Carol Stream - A's - Kimme vs. Carol Stream - Pirates -  Garza
END:VALARM
END:VEVENT
BEGIN:VEVENT
UID:csparks-68022503-20250507T173000@quickscores.com
DTSTAMP:20260422T230100Z
DTSTART;TZID=America/Chicago:20250507T173000
DURATION:PT2H0M0S
SUMMARY:Carol Stream - Pirates -  Garza vs. Carol Stream - A's - Kimme
DESCRIPTION:Moved from 4/26 --- 8u Baseball - Carol Stream Park District
LOCATION:Kent Park
CATEGORIES:QuickScores, Baseball Game
TRANSP:OPAQUE
BEGIN:VALARM
TRIGGER:-PT2H
ACTION:DISPLAY
DESCRIPTION:Carol Stream - Pirates -  Garza vs. Carol Stream - A's - Kimme
END:VALARM
END:VEVENT
BEGIN:VEVENT
UID:csparks-68022522-20250510T123000@quickscores.com
DTSTAMP:20260422T230100Z
DTSTART;TZID=America/Chicago:20250510T123000
DURATION:PT2H0M0S
SUMMARY:Carol Stream - Giants - Morris vs. Carol Stream - A's - Kimme
DESCRIPTION:8u Baseball - Carol Stream Park District
LOCATION:McCaslin 2
CATEGORIES:QuickScores, Baseball Game
TRANSP:OPAQUE
BEGIN:VALARM
TRIGGER:-PT2H
ACTION:DISPLAY
DESCRIPTION:Carol Stream - Giants - Morris vs. Carol Stream - A's - Kimme
END:VALARM
END:VEVENT
BEGIN:VEVENT
UID:csparks-68022538-20250515T180000@quickscores.com
DTSTAMP:20260422T230100Z
DTSTART;TZID=America/Chicago:20250515T180000
DURATION:PT2H0M0S
SUMMARY:Carol Stream - A's - Kimme vs. Carol Stream - Cardinals - Brown
DESCRIPTION:8u Baseball - Carol Stream Park District
LOCATION:Pleasant Hill North
CATEGORIES:QuickScores, Baseball Game
TRANSP:OPAQUE
BEGIN:VALARM
TRIGGER:-PT2H
ACTION:DISPLAY
DESCRIPTION:Carol Stream - A's - Kimme vs. Carol Stream - Cardinals - Brown
END:VALARM
END:VEVENT
BEGIN:VEVENT
UID:csparks-68022531-20250517T100000@quickscores.com
DTSTAMP:20260422T230100Z
DTSTART;TZID=America/Chicago:20250517T100000
DURATION:PT2H0M0S
SUMMARY:Carol Stream - A's - Kimme vs. Carol Stream - Royals -  Panvino
DESCRIPTION:8u Baseball - Carol Stream Park District
LOCATION:Pleasant Hill North
CATEGORIES:QuickScores, Baseball Game
TRANSP:OPAQUE
BEGIN:VALARM
TRIGGER:-PT2H
ACTION:DISPLAY
DESCRIPTION:Carol Stream - A's - Kimme vs. Carol Stream - Royals -  Panvino
END:VALARM
END:VEVENT
BEGIN:VEVENT
UID:csparks-68022548-20250519T180000@quickscores.com
DTSTAMP:20260422T230100Z
DTSTART;TZID=America/Chicago:20250519T180000
DURATION:PT2H0M0S
SUMMARY:Carol Stream - A's - Kimme vs. Glendale Heights - Cubs- Aiello
DESCRIPTION:Updated Location --- 8u Baseball - Carol Stream Park District
LOCATION:Kent Park
CATEGORIES:QuickScores, Baseball Game
TRANSP:OPAQUE
BEGIN:VALARM
TRIGGER:-PT2H
ACTION:DISPLAY
DESCRIPTION:Carol Stream - A's - Kimme vs. Glendale Heights - Cubs- Aiello
END:VALARM
END:VEVENT
BEGIN:VEVENT
UID:csparks-68022551-20250531T123000@quickscores.com
DTSTAMP:20260422T230100Z
DTSTART;TZID=America/Chicago:20250531T123000
DURATION:PT2H0M0S
SUMMARY:Carol Stream - Dodgers - Grote vs. Carol Stream - A's - Kimme
DESCRIPTION:8u Baseball - Carol Stream Park District
LOCATION:Armstrong 1
CATEGORIES:QuickScores, Baseball Game
TRANSP:OPAQUE
BEGIN:VALARM
TRIGGER:-PT2H
ACTION:DISPLAY
DESCRIPTION:Carol Stream - Dodgers - Grote vs. Carol Stream - A's - Kimme
END:VALARM
END:VEVENT
BEGIN:VEVENT
UID:csparks-68022549-20250603T180000@quickscores.com
DTSTAMP:20260422T230100Z
DTSTART;TZID=America/Chicago:20250603T180000
DURATION:PT2H0M0S
SUMMARY:Carol Stream - Yankees - McCoy vs. Carol Stream - A's - Kimme
DESCRIPTION:Moved from 5/22 --- 8u Baseball - Carol Stream Park District
LOCATION:Pleasant Hill North
CATEGORIES:QuickScores, Baseball Game
TRANSP:OPAQUE
BEGIN:VALARM
TRIGGER:-PT2H
ACTION:DISPLAY
DESCRIPTION:Carol Stream - Yankees - McCoy vs. Carol Stream - A's - Kimme
END:VALARM
END:VEVENT
BEGIN:VEVENT
UID:csparks-68022566-20250607T100000@quickscores.com
DTSTAMP:20260422T230100Z
DTSTART;TZID=America/Chicago:20250607T100000
DURATION:PT2H0M0S
SUMMARY:Carol Stream - Blue Jays - Hare vs. Carol Stream - A's - Kimme
DESCRIPTION:8u Baseball - Carol Stream Park District
LOCATION:Pleasant Hill North
CATEGORIES:QuickScores, Baseball Game
TRANSP:OPAQUE
BEGIN:VALARM
TRIGGER:-PT2H
ACTION:DISPLAY
DESCRIPTION:Carol Stream - Blue Jays - Hare vs. Carol Stream - A's - Kimme
END:VALARM
END:VEVENT
BEGIN:VEVENT
UID:csparks-68022584-20250610T180000@quickscores.com
DTSTAMP:20260422T230100Z
DTSTART;TZID=America/Chicago:20250610T180000
DURATION:PT2H0M0S
SUMMARY:Carol Stream - A's - Kimme vs. Carol Stream - White Sox - DiCarlo
DESCRIPTION:8u Baseball - Carol Stream Park District
LOCATION:McCaslin 2
CATEGORIES:QuickScores, Baseball Game
TRANSP:OPAQUE
BEGIN:VALARM
TRIGGER:-PT2H
ACTION:DISPLAY
DESCRIPTION:Carol Stream - A's - Kimme vs. Carol Stream - White Sox - DiCarlo
END:VALARM
END:VEVENT
BEGIN:VEVENT
UID:csparks-68022568-20250612T180000@quickscores.com
DTSTAMP:20260422T230100Z
DTSTART;TZID=America/Chicago:20250612T180000
DURATION:PT2H0M0S
SUMMARY:Glendale Heights - White Sox - Mendoza vs. Carol Stream - A's - Kimme
DESCRIPTION:Moved from 6/4 --- 8u Baseball - Carol Stream Park District
LOCATION:Armstrong 4
CATEGORIES:QuickScores, Baseball Game
TRANSP:OPAQUE
BEGIN:VALARM
TRIGGER:-PT2H
ACTION:DISPLAY
DESCRIPTION:Glendale Heights - White Sox - Mendoza vs. Carol Stream - A's - Kimme
END:VALARM
END:VEVENT
BEGIN:VEVENT
UID:csparks-68022580-20250614T100000@quickscores.com
DTSTAMP:20260422T230100Z
DTSTART;TZID=America/Chicago:20250614T100000
DURATION:PT2H0M0S
SUMMARY:Carol Stream - A's - Kimme vs. Carol Stream - Cubs - Molley
DESCRIPTION:8u Baseball - Carol Stream Park District
LOCATION:Armstrong 4
CATEGORIES:QuickScores, Baseball Game
TRANSP:OPAQUE
BEGIN:VALARM
TRIGGER:-PT2H
ACTION:DISPLAY
DESCRIPTION:Carol Stream - A's - Kimme vs. Carol Stream - Cubs - Molley
END:VALARM
END:VEVENT
BEGIN:VEVENT
UID:csparks-68022594-20250618T180000@quickscores.com
DTSTAMP:20260422T230100Z
DTSTART;TZID=America/Chicago:20250618T180000
DURATION:PT2H0M0S
SUMMARY:Carol Stream - A's - Kimme vs. West Chicago - Huetson
DESCRIPTION:8u Baseball - Carol Stream Park District
LOCATION:Armstrong 3
CATEGORIES:QuickScores, Baseball Game
TRANSP:OPAQUE
BEGIN:VALARM
TRIGGER:-PT2H
ACTION:DISPLAY
DESCRIPTION:Carol Stream - A's - Kimme vs. West Chicago - Huetson
END:VALARM
END:VEVENT
END:VCALENDAR
