BEGIN:VCALENDAR
VERSION:2.0
PRODID:-//QuickScores.com//BQ Dynamic iCal Creator//EN
METHOD:PUBLISH
X-WR-CALNAME:Carol Stream - Dodgers - Grote - 8u Baseball - Spring 2025
X-WR-CALDESC:QuickScores game calendar
X-PUBLISHED-TTL:PT24H
REFRESH-INTERVAL;VALUE=DURATION:PT24H
CALSCALE:GREGORIAN
BEGIN:VTIMEZONE
TZID:America/Chicago
X-LIC-LOCATION:America/Chicago
BEGIN:DAYLIGHT
TZNAME:CDT
TZOFFSETFROM:-0600
TZOFFSETTO:-0500
DTSTART:19700308T020000
RRULE:FREQ=YEARLY;BYMONTH=3;BYDAY=2SU
END:DAYLIGHT
BEGIN:STANDARD
TZNAME:CST
TZOFFSETFROM:-0500
TZOFFSETTO:-0600
DTSTART:19701101T020000
RRULE:FREQ=YEARLY;BYMONTH=11;BYDAY=1SU
END:STANDARD
END:VTIMEZONE
BEGIN:VEVENT
UID:csparks-68022489-20250419T100000@quickscores.com
DTSTAMP:20260423T021100Z
DTSTART;TZID=America/Chicago:20250419T100000
DURATION:PT2H0M0S
SUMMARY:Carol Stream - Cardinals - Brown vs. Carol Stream - Dodgers - Grote
DESCRIPTION:8u Baseball - Carol Stream Park District
LOCATION:McCaslin 4
CATEGORIES:QuickScores, Baseball Game
TRANSP:OPAQUE
BEGIN:VALARM
TRIGGER:-PT2H
ACTION:DISPLAY
DESCRIPTION:Carol Stream - Cardinals - Brown vs. Carol Stream - Dodgers - Grote
END:VALARM
END:VEVENT
BEGIN:VEVENT
UID:csparks-68022496-20250421T180000@quickscores.com
DTSTAMP:20260423T021100Z
DTSTART;TZID=America/Chicago:20250421T180000
DURATION:PT2H0M0S
SUMMARY:Carol Stream - Dodgers - Grote vs. West Chicago - Huetson
DESCRIPTION:8u Baseball - Carol Stream Park District
LOCATION:Armstrong 1
CATEGORIES:QuickScores, Baseball Game
TRANSP:OPAQUE
BEGIN:VALARM
TRIGGER:-PT2H
ACTION:DISPLAY
DESCRIPTION:Carol Stream - Dodgers - Grote vs. West Chicago - Huetson
END:VALARM
END:VEVENT
BEGIN:VEVENT
UID:csparks-68022510-20250502T180000@quickscores.com
DTSTAMP:20260423T021100Z
DTSTART;TZID=America/Chicago:20250502T180000
DURATION:PT2H0M0S
SUMMARY:Carol Stream - Royals -  Panvino vs. Carol Stream - Dodgers - Grote
DESCRIPTION:Updated Location --- 8u Baseball - Carol Stream Park District
LOCATION:Kent Park
CATEGORIES:QuickScores, Baseball Game
TRANSP:OPAQUE
BEGIN:VALARM
TRIGGER:-PT2H
ACTION:DISPLAY
DESCRIPTION:Carol Stream - Royals -  Panvino vs. Carol Stream - Dodgers - Grote
END:VALARM
END:VEVENT
BEGIN:VEVENT
UID:csparks-68022528-20250508T180000@quickscores.com
DTSTAMP:20260423T021100Z
DTSTART;TZID=America/Chicago:20250508T180000
DURATION:PT2H0M0S
SUMMARY:Carol Stream - Dodgers - Grote vs. Carol Stream - Braves - Randle
DESCRIPTION:8u Baseball - Carol Stream Park District
LOCATION:Pleasant Hill North
CATEGORIES:QuickScores, Baseball Game
TRANSP:OPAQUE
BEGIN:VALARM
TRIGGER:-PT2H
ACTION:DISPLAY
DESCRIPTION:Carol Stream - Dodgers - Grote vs. Carol Stream - Braves - Randle
END:VALARM
END:VEVENT
BEGIN:VEVENT
UID:csparks-68022520-20250510T100000@quickscores.com
DTSTAMP:20260423T021100Z
DTSTART;TZID=America/Chicago:20250510T100000
DURATION:PT2H0M0S
SUMMARY:Carol Stream - Pirates -  Garza vs. Carol Stream - Dodgers - Grote
DESCRIPTION:Updated Location --- 8u Baseball - Carol Stream Park District
LOCATION:McCaslin 1
CATEGORIES:QuickScores, Baseball Game
TRANSP:OPAQUE
BEGIN:VALARM
TRIGGER:-PT2H
ACTION:DISPLAY
DESCRIPTION:Carol Stream - Pirates -  Garza vs. Carol Stream - Dodgers - Grote
END:VALARM
END:VEVENT
BEGIN:VEVENT
UID:csparks-68022529-20250517T150000@quickscores.com
DTSTAMP:20260423T021100Z
DTSTART;TZID=America/Chicago:20250517T150000
DURATION:PT2H0M0S
SUMMARY:Glendale Heights - White Sox - Mendoza vs. Carol Stream - Dodgers - Grote
DESCRIPTION:8u Baseball - Carol Stream Park District
LOCATION:Ollman Park
CATEGORIES:QuickScores, Baseball Game
TRANSP:OPAQUE
BEGIN:VALARM
TRIGGER:-PT2H
ACTION:DISPLAY
DESCRIPTION:Glendale Heights - White Sox - Mendoza vs. Carol Stream - Dodgers - Grote
END:VALARM
END:VEVENT
BEGIN:VEVENT
UID:csparks-68022504-20250528T180000@quickscores.com
DTSTAMP:20260423T021100Z
DTSTART;TZID=America/Chicago:20250528T180000
DURATION:PT2H0M0S
SUMMARY:Carol Stream - Braves - Randle vs. Carol Stream - Dodgers - Grote
DESCRIPTION:Moved from 4/26 --- 8u Baseball - Carol Stream Park District
LOCATION:Pleasant Hill South
CATEGORIES:QuickScores, Baseball Game
TRANSP:OPAQUE
BEGIN:VALARM
TRIGGER:-PT2H
ACTION:DISPLAY
DESCRIPTION:Carol Stream - Braves - Randle vs. Carol Stream - Dodgers - Grote
END:VALARM
END:VEVENT
BEGIN:VEVENT
UID:csparks-68022560-20250529T180000@quickscores.com
DTSTAMP:20260423T021100Z
DTSTART;TZID=America/Chicago:20250529T180000
DURATION:PT2H0M0S
SUMMARY:Carol Stream - Dodgers - Grote vs. Carol Stream - Cardinals - Brown
DESCRIPTION:Updated Location --- 8u Baseball - Carol Stream Park District
LOCATION:Walters Park - Baseball Field
CATEGORIES:QuickScores, Baseball Game
TRANSP:OPAQUE
BEGIN:VALARM
TRIGGER:-PT2H
ACTION:DISPLAY
DESCRIPTION:Carol Stream - Dodgers - Grote vs. Carol Stream - Cardinals - Brown
END:VALARM
END:VEVENT
BEGIN:VEVENT
UID:csparks-68022551-20250531T123000@quickscores.com
DTSTAMP:20260423T021100Z
DTSTART;TZID=America/Chicago:20250531T123000
DURATION:PT2H0M0S
SUMMARY:Carol Stream - Dodgers - Grote vs. Carol Stream - A's - Kimme
DESCRIPTION:8u Baseball - Carol Stream Park District
LOCATION:Armstrong 1
CATEGORIES:QuickScores, Baseball Game
TRANSP:OPAQUE
BEGIN:VALARM
TRIGGER:-PT2H
ACTION:DISPLAY
DESCRIPTION:Carol Stream - Dodgers - Grote vs. Carol Stream - A's - Kimme
END:VALARM
END:VEVENT
BEGIN:VEVENT
UID:csparks-68022570-20250604T180000@quickscores.com
DTSTAMP:20260423T021100Z
DTSTART;TZID=America/Chicago:20250604T180000
DURATION:PT2H0M0S
SUMMARY:Carol Stream - White Sox - DiCarlo vs. Carol Stream - Dodgers - Grote
DESCRIPTION:Updated Location --- 8u Baseball - Carol Stream Park District
LOCATION:Armstrong 4
CATEGORIES:QuickScores, Baseball Game
TRANSP:OPAQUE
BEGIN:VALARM
TRIGGER:-PT2H
ACTION:DISPLAY
DESCRIPTION:Carol Stream - White Sox - DiCarlo vs. Carol Stream - Dodgers - Grote
END:VALARM
END:VEVENT
BEGIN:VEVENT
UID:csparks-68022567-20250607T100000@quickscores.com
DTSTAMP:20260423T021100Z
DTSTART;TZID=America/Chicago:20250607T100000
DURATION:PT2H0M0S
SUMMARY:Glendale Heights - Cubs- Aiello vs. Carol Stream - Dodgers - Grote
DESCRIPTION:8u Baseball - Carol Stream Park District
LOCATION:Camera East
CATEGORIES:QuickScores, Baseball Game
TRANSP:OPAQUE
BEGIN:VALARM
TRIGGER:-PT2H
ACTION:DISPLAY
DESCRIPTION:Glendale Heights - Cubs- Aiello vs. Carol Stream - Dodgers - Grote
END:VALARM
END:VEVENT
BEGIN:VEVENT
UID:csparks-68022586-20250609T180000@quickscores.com
DTSTAMP:20260423T021100Z
DTSTART;TZID=America/Chicago:20250609T180000
DURATION:PT2H0M0S
SUMMARY:Carol Stream - Dodgers - Grote vs. Carol Stream - Yankees - McCoy
DESCRIPTION:8u Baseball - Carol Stream Park District
LOCATION:Armstrong 3
CATEGORIES:QuickScores, Baseball Game
TRANSP:OPAQUE
BEGIN:VALARM
TRIGGER:-PT2H
ACTION:DISPLAY
DESCRIPTION:Carol Stream - Dodgers - Grote vs. Carol Stream - Yankees - McCoy
END:VALARM
END:VEVENT
BEGIN:VEVENT
UID:csparks-68022590-20250611T180000@quickscores.com
DTSTAMP:20260423T021100Z
DTSTART;TZID=America/Chicago:20250611T180000
DURATION:PT2H0M0S
SUMMARY:Carol Stream - Dodgers - Grote vs. Carol Stream - Royals -  Panvino
DESCRIPTION:8u Baseball - Carol Stream Park District
LOCATION:Pleasant Hill North
CATEGORIES:QuickScores, Baseball Game
TRANSP:OPAQUE
BEGIN:VALARM
TRIGGER:-PT2H
ACTION:DISPLAY
DESCRIPTION:Carol Stream - Dodgers - Grote vs. Carol Stream - Royals -  Panvino
END:VALARM
END:VEVENT
BEGIN:VEVENT
UID:csparks-68022577-20250614T100000@quickscores.com
DTSTAMP:20260423T021100Z
DTSTART;TZID=America/Chicago:20250614T100000
DURATION:PT2H0M0S
SUMMARY:Carol Stream - Dodgers - Grote vs. Carol Stream - Blue Jays - Hare
DESCRIPTION:8u Baseball - Carol Stream Park District
LOCATION:Armstrong 1
CATEGORIES:QuickScores, Baseball Game
TRANSP:OPAQUE
BEGIN:VALARM
TRIGGER:-PT2H
ACTION:DISPLAY
DESCRIPTION:Carol Stream - Dodgers - Grote vs. Carol Stream - Blue Jays - Hare
END:VALARM
END:VEVENT
BEGIN:VEVENT
UID:csparks-68022547-20250616T180000@quickscores.com
DTSTAMP:20260423T021100Z
DTSTART;TZID=America/Chicago:20250616T180000
DURATION:PT2H0M0S
SUMMARY:Carol Stream - Giants - Morris vs. Carol Stream - Dodgers - Grote
DESCRIPTION:Moved from 5/21 --- 8u Baseball - Carol Stream Park District
LOCATION:Armstrong 2
CATEGORIES:QuickScores, Baseball Game
TRANSP:OPAQUE
BEGIN:VALARM
TRIGGER:-PT2H
ACTION:DISPLAY
DESCRIPTION:Carol Stream - Giants - Morris vs. Carol Stream - Dodgers - Grote
END:VALARM
END:VEVENT
BEGIN:VEVENT
UID:csparks-68022596-20250617T180000@quickscores.com
DTSTAMP:20260423T021100Z
DTSTART;TZID=America/Chicago:20250617T180000
DURATION:PT2H0M0S
SUMMARY:Carol Stream - Dodgers - Grote vs. Carol Stream - Cubs - Molley
DESCRIPTION:8u Baseball - Carol Stream Park District
LOCATION:McCaslin 2
CATEGORIES:QuickScores, Baseball Game
TRANSP:OPAQUE
BEGIN:VALARM
TRIGGER:-PT2H
ACTION:DISPLAY
DESCRIPTION:Carol Stream - Dodgers - Grote vs. Carol Stream - Cubs - Molley
END:VALARM
END:VEVENT
BEGIN:VEVENT
UID:csparks-69458032-20250621T123000@quickscores.com
DTSTAMP:20260423T021100Z
DTSTART;TZID=America/Chicago:20250621T123000
DURATION:PT2H0M0S
SUMMARY:[ 3 ] Carol Stream - Dodgers - Grote vs. [ 6 ] Glendale Heights - Cubs- Aiello
DESCRIPTION:8u Baseball - Carol Stream Park District
LOCATION:Armstrong 3
CATEGORIES:QuickScores, Baseball Game
TRANSP:OPAQUE
BEGIN:VALARM
TRIGGER:-PT2H
ACTION:DISPLAY
DESCRIPTION:[ 3 ] Carol Stream - Dodgers - Grote vs. [ 6 ] Glendale Heights - Cubs- Aiello
END:VALARM
END:VEVENT
BEGIN:VEVENT
UID:csparks-69458034-20250623T180000@quickscores.com
DTSTAMP:20260423T021100Z
DTSTART;TZID=America/Chicago:20250623T180000
DURATION:PT2H0M0S
SUMMARY:[ 2 ] Carol Stream - Braves - Randle vs. [ 3 ] Carol Stream - Dodgers - Grote
DESCRIPTION:8u Baseball - Carol Stream Park District
LOCATION:Armstrong 4
CATEGORIES:QuickScores, Baseball Game
TRANSP:OPAQUE
BEGIN:VALARM
TRIGGER:-PT2H
ACTION:DISPLAY
DESCRIPTION:[ 2 ] Carol Stream - Braves - Randle vs. [ 3 ] Carol Stream - Dodgers - Grote
END:VALARM
END:VEVENT
END:VCALENDAR
