BEGIN:VCALENDAR
VERSION:2.0
PRODID:-//QuickScores.com//BQ Dynamic iCal Creator//EN
METHOD:PUBLISH
X-WR-CALNAME:Glendale Heights - Cubs- Aiello - 8u Baseball - Spring 2025
X-WR-CALDESC:QuickScores game calendar
X-PUBLISHED-TTL:PT24H
REFRESH-INTERVAL;VALUE=DURATION:PT24H
CALSCALE:GREGORIAN
BEGIN:VTIMEZONE
TZID:America/Chicago
X-LIC-LOCATION:America/Chicago
BEGIN:DAYLIGHT
TZNAME:CDT
TZOFFSETFROM:-0600
TZOFFSETTO:-0500
DTSTART:19700308T020000
RRULE:FREQ=YEARLY;BYMONTH=3;BYDAY=2SU
END:DAYLIGHT
BEGIN:STANDARD
TZNAME:CST
TZOFFSETFROM:-0500
TZOFFSETTO:-0600
DTSTART:19701101T020000
RRULE:FREQ=YEARLY;BYMONTH=11;BYDAY=1SU
END:STANDARD
END:VTIMEZONE
BEGIN:VEVENT
UID:csparks-68022490-20250419T133000@quickscores.com
DTSTAMP:20260423T111000Z
DTSTART;TZID=America/Chicago:20250419T133000
DURATION:PT2H0M0S
SUMMARY:West Chicago - Huetson vs. Glendale Heights - Cubs- Aiello
DESCRIPTION:8u Baseball - Carol Stream Park District
LOCATION:Pioneer Park - Field 1
CATEGORIES:QuickScores, Baseball Game
TRANSP:OPAQUE
BEGIN:VALARM
TRIGGER:-PT2H
ACTION:DISPLAY
DESCRIPTION:West Chicago - Huetson vs. Glendale Heights - Cubs- Aiello
END:VALARM
END:VEVENT
BEGIN:VEVENT
UID:csparks-68022497-20250423T180000@quickscores.com
DTSTAMP:20260423T111000Z
DTSTART;TZID=America/Chicago:20250423T180000
DURATION:PT2H0M0S
SUMMARY:Carol Stream - Braves - Randle vs. Glendale Heights - Cubs- Aiello
DESCRIPTION:Location Update --- 8u Baseball - Carol Stream Park District
LOCATION:McCaslin 4
CATEGORIES:QuickScores, Baseball Game
TRANSP:OPAQUE
BEGIN:VALARM
TRIGGER:-PT2H
ACTION:DISPLAY
DESCRIPTION:Carol Stream - Braves - Randle vs. Glendale Heights - Cubs- Aiello
END:VALARM
END:VEVENT
BEGIN:VEVENT
UID:csparks-68022511-20250503T100000@quickscores.com
DTSTAMP:20260423T111000Z
DTSTART;TZID=America/Chicago:20250503T100000
DURATION:PT2H0M0S
SUMMARY:Carol Stream - Cubs - Molley vs. Glendale Heights - Cubs- Aiello
DESCRIPTION:8u Baseball - Carol Stream Park District
LOCATION:Armstrong 4
CATEGORIES:QuickScores, Baseball Game
TRANSP:OPAQUE
BEGIN:VALARM
TRIGGER:-PT2H
ACTION:DISPLAY
DESCRIPTION:Carol Stream - Cubs - Molley vs. Glendale Heights - Cubs- Aiello
END:VALARM
END:VEVENT
BEGIN:VEVENT
UID:csparks-68022502-20250505T173000@quickscores.com
DTSTAMP:20260423T111000Z
DTSTART;TZID=America/Chicago:20250505T173000
DURATION:PT2H0M0S
SUMMARY:Carol Stream - Yankees - McCoy vs. Glendale Heights - Cubs- Aiello
DESCRIPTION:Moved from 4/26 --- 8u Baseball - Carol Stream Park District
LOCATION:Pleasant Hill North
CATEGORIES:QuickScores, Baseball Game
TRANSP:OPAQUE
BEGIN:VALARM
TRIGGER:-PT2H
ACTION:DISPLAY
DESCRIPTION:Carol Stream - Yankees - McCoy vs. Glendale Heights - Cubs- Aiello
END:VALARM
END:VEVENT
BEGIN:VEVENT
UID:csparks-68022527-20250508T180000@quickscores.com
DTSTAMP:20260423T111000Z
DTSTART;TZID=America/Chicago:20250508T180000
DURATION:PT2H0M0S
SUMMARY:Glendale Heights - Cubs- Aiello vs. Carol Stream - Yankees - McCoy
DESCRIPTION:Changed Location --- 8u Baseball - Carol Stream Park District
LOCATION:Walters Park - Baseball Field
CATEGORIES:QuickScores, Baseball Game
TRANSP:OPAQUE
BEGIN:VALARM
TRIGGER:-PT2H
ACTION:DISPLAY
DESCRIPTION:Glendale Heights - Cubs- Aiello vs. Carol Stream - Yankees - McCoy
END:VALARM
END:VEVENT
BEGIN:VEVENT
UID:csparks-68022521-20250510T150000@quickscores.com
DTSTAMP:20260423T111000Z
DTSTART;TZID=America/Chicago:20250510T150000
DURATION:PT2H0M0S
SUMMARY:Carol Stream - White Sox - DiCarlo vs. Glendale Heights - Cubs- Aiello
DESCRIPTION:8u Baseball - Carol Stream Park District
LOCATION:McCaslin 2
CATEGORIES:QuickScores, Baseball Game
TRANSP:OPAQUE
BEGIN:VALARM
TRIGGER:-PT2H
ACTION:DISPLAY
DESCRIPTION:Carol Stream - White Sox - DiCarlo vs. Glendale Heights - Cubs- Aiello
END:VALARM
END:VEVENT
BEGIN:VEVENT
UID:csparks-68022530-20250517T100000@quickscores.com
DTSTAMP:20260423T111000Z
DTSTART;TZID=America/Chicago:20250517T100000
DURATION:PT2H0M0S
SUMMARY:Carol Stream - Blue Jays - Hare vs. Glendale Heights - Cubs- Aiello
DESCRIPTION:8u Baseball - Carol Stream Park District
LOCATION:Pleasant Hill South
CATEGORIES:QuickScores, Baseball Game
TRANSP:OPAQUE
BEGIN:VALARM
TRIGGER:-PT2H
ACTION:DISPLAY
DESCRIPTION:Carol Stream - Blue Jays - Hare vs. Glendale Heights - Cubs- Aiello
END:VALARM
END:VEVENT
BEGIN:VEVENT
UID:csparks-68022548-20250519T180000@quickscores.com
DTSTAMP:20260423T111000Z
DTSTART;TZID=America/Chicago:20250519T180000
DURATION:PT2H0M0S
SUMMARY:Carol Stream - A's - Kimme vs. Glendale Heights - Cubs- Aiello
DESCRIPTION:Updated Location --- 8u Baseball - Carol Stream Park District
LOCATION:Kent Park
CATEGORIES:QuickScores, Baseball Game
TRANSP:OPAQUE
BEGIN:VALARM
TRIGGER:-PT2H
ACTION:DISPLAY
DESCRIPTION:Carol Stream - A's - Kimme vs. Glendale Heights - Cubs- Aiello
END:VALARM
END:VEVENT
BEGIN:VEVENT
UID:csparks-68022505-20250529T180000@quickscores.com
DTSTAMP:20260423T111000Z
DTSTART;TZID=America/Chicago:20250529T180000
DURATION:PT2H0M0S
SUMMARY:Glendale Heights - Cubs- Aiello vs. West Chicago - Huetson
DESCRIPTION:Moved from 5/1 --- 8u Baseball - Carol Stream Park District
LOCATION:Camera East
CATEGORIES:QuickScores, Baseball Game
TRANSP:OPAQUE
BEGIN:VALARM
TRIGGER:-PT2H
ACTION:DISPLAY
DESCRIPTION:Glendale Heights - Cubs- Aiello vs. West Chicago - Huetson
END:VALARM
END:VEVENT
BEGIN:VEVENT
UID:csparks-68022550-20250531T120000@quickscores.com
DTSTAMP:20260423T111000Z
DTSTART;TZID=America/Chicago:20250531T120000
DURATION:PT2H0M0S
SUMMARY:Glendale Heights - Cubs- Aiello vs. Glendale Heights - White Sox - Mendoza
DESCRIPTION:8u Baseball - Carol Stream Park District
LOCATION:Camera East
CATEGORIES:QuickScores, Baseball Game
TRANSP:OPAQUE
BEGIN:VALARM
TRIGGER:-PT2H
ACTION:DISPLAY
DESCRIPTION:Glendale Heights - Cubs- Aiello vs. Glendale Heights - White Sox - Mendoza
END:VALARM
END:VEVENT
BEGIN:VEVENT
UID:csparks-68022537-20250603T180000@quickscores.com
DTSTAMP:20260423T111000Z
DTSTART;TZID=America/Chicago:20250603T180000
DURATION:PT2H0M0S
SUMMARY:Glendale Heights - Cubs- Aiello vs. Carol Stream - Cubs - Molley
DESCRIPTION:Moved from 5/15 --- 8u Baseball - Carol Stream Park District
LOCATION:Camera East
CATEGORIES:QuickScores, Baseball Game
TRANSP:OPAQUE
BEGIN:VALARM
TRIGGER:-PT2H
ACTION:DISPLAY
DESCRIPTION:Glendale Heights - Cubs- Aiello vs. Carol Stream - Cubs - Molley
END:VALARM
END:VEVENT
BEGIN:VEVENT
UID:csparks-68022569-20250605T180000@quickscores.com
DTSTAMP:20260423T111000Z
DTSTART;TZID=America/Chicago:20250605T180000
DURATION:PT2H0M0S
SUMMARY:Glendale Heights - Cubs- Aiello vs. Carol Stream - Giants - Morris
DESCRIPTION:8u Baseball - Carol Stream Park District
LOCATION:Camera East
CATEGORIES:QuickScores, Baseball Game
TRANSP:OPAQUE
BEGIN:VALARM
TRIGGER:-PT2H
ACTION:DISPLAY
DESCRIPTION:Glendale Heights - Cubs- Aiello vs. Carol Stream - Giants - Morris
END:VALARM
END:VEVENT
BEGIN:VEVENT
UID:csparks-68022567-20250607T100000@quickscores.com
DTSTAMP:20260423T111000Z
DTSTART;TZID=America/Chicago:20250607T100000
DURATION:PT2H0M0S
SUMMARY:Glendale Heights - Cubs- Aiello vs. Carol Stream - Dodgers - Grote
DESCRIPTION:8u Baseball - Carol Stream Park District
LOCATION:Camera East
CATEGORIES:QuickScores, Baseball Game
TRANSP:OPAQUE
BEGIN:VALARM
TRIGGER:-PT2H
ACTION:DISPLAY
DESCRIPTION:Glendale Heights - Cubs- Aiello vs. Carol Stream - Dodgers - Grote
END:VALARM
END:VEVENT
BEGIN:VEVENT
UID:csparks-68022585-20250612T180000@quickscores.com
DTSTAMP:20260423T111000Z
DTSTART;TZID=America/Chicago:20250612T180000
DURATION:PT2H0M0S
SUMMARY:Glendale Heights - Cubs- Aiello vs. Carol Stream - Pirates -  Garza
DESCRIPTION:8u Baseball - Carol Stream Park District
LOCATION:Camera East
CATEGORIES:QuickScores, Baseball Game
TRANSP:OPAQUE
BEGIN:VALARM
TRIGGER:-PT2H
ACTION:DISPLAY
DESCRIPTION:Glendale Heights - Cubs- Aiello vs. Carol Stream - Pirates -  Garza
END:VALARM
END:VEVENT
BEGIN:VEVENT
UID:csparks-68022581-20250614T123000@quickscores.com
DTSTAMP:20260423T111000Z
DTSTART;TZID=America/Chicago:20250614T123000
DURATION:PT2H0M0S
SUMMARY:Carol Stream - Royals -  Panvino vs. Glendale Heights - Cubs- Aiello
DESCRIPTION:8u Baseball - Carol Stream Park District
LOCATION:Armstrong 1
CATEGORIES:QuickScores, Baseball Game
TRANSP:OPAQUE
BEGIN:VALARM
TRIGGER:-PT2H
ACTION:DISPLAY
DESCRIPTION:Carol Stream - Royals -  Panvino vs. Glendale Heights - Cubs- Aiello
END:VALARM
END:VEVENT
BEGIN:VEVENT
UID:csparks-68022595-20250619T180000@quickscores.com
DTSTAMP:20260423T111000Z
DTSTART;TZID=America/Chicago:20250619T180000
DURATION:PT2H0M0S
SUMMARY:Glendale Heights - Cubs- Aiello vs. Carol Stream - Cardinals - Brown
DESCRIPTION:8u Baseball - Carol Stream Park District
LOCATION:Camera East
CATEGORIES:QuickScores, Baseball Game
TRANSP:OPAQUE
BEGIN:VALARM
TRIGGER:-PT2H
ACTION:DISPLAY
DESCRIPTION:Glendale Heights - Cubs- Aiello vs. Carol Stream - Cardinals - Brown
END:VALARM
END:VEVENT
BEGIN:VEVENT
UID:csparks-69458032-20250621T123000@quickscores.com
DTSTAMP:20260423T111000Z
DTSTART;TZID=America/Chicago:20250621T123000
DURATION:PT2H0M0S
SUMMARY:[ 3 ] Carol Stream - Dodgers - Grote vs. [ 6 ] Glendale Heights - Cubs- Aiello
DESCRIPTION:8u Baseball - Carol Stream Park District
LOCATION:Armstrong 3
CATEGORIES:QuickScores, Baseball Game
TRANSP:OPAQUE
BEGIN:VALARM
TRIGGER:-PT2H
ACTION:DISPLAY
DESCRIPTION:[ 3 ] Carol Stream - Dodgers - Grote vs. [ 6 ] Glendale Heights - Cubs- Aiello
END:VALARM
END:VEVENT
END:VCALENDAR
