BEGIN:VCALENDAR
VERSION:2.0
PRODID:-//QuickScores.com//BQ Dynamic iCal Creator//EN
METHOD:PUBLISH
X-WR-CALNAME:Streamwood 3 - Baraks - 7/8 Grade - Games - Spring 2025
X-WR-CALDESC:QuickScores game calendar
X-PUBLISHED-TTL:PT24H
REFRESH-INTERVAL;VALUE=DURATION:PT24H
CALSCALE:GREGORIAN
BEGIN:VTIMEZONE
TZID:America/Chicago
X-LIC-LOCATION:America/Chicago
BEGIN:DAYLIGHT
TZNAME:CDT
TZOFFSETFROM:-0600
TZOFFSETTO:-0500
DTSTART:19700308T020000
RRULE:FREQ=YEARLY;BYMONTH=3;BYDAY=2SU
END:DAYLIGHT
BEGIN:STANDARD
TZNAME:CST
TZOFFSETFROM:-0500
TZOFFSETTO:-0600
DTSTART:19701101T020000
RRULE:FREQ=YEARLY;BYMONTH=11;BYDAY=1SU
END:STANDARD
END:VTIMEZONE
BEGIN:VEVENT
UID:csparks-68025115-20250405T120000@quickscores.com
DTSTAMP:20260422T172500Z
DTSTART;TZID=America/Chicago:20250405T120000
DURATION:PT1H0M0S
SUMMARY:Streamwood 3 - Baraks vs. Roselle - Cobean/Paez
DESCRIPTION:7/8 Grade - Games - Carol Stream Park District
LOCATION:Fountain View - Court 2
CATEGORIES:QuickScores, Volleyball - Youth Game
TRANSP:OPAQUE
BEGIN:VALARM
TRIGGER:-PT2H
ACTION:DISPLAY
DESCRIPTION:Streamwood 3 - Baraks vs. Roselle - Cobean/Paez
END:VALARM
END:VEVENT
BEGIN:VEVENT
UID:csparks-68025124-20250412T160000@quickscores.com
DTSTAMP:20260422T172500Z
DTSTART;TZID=America/Chicago:20250412T160000
DURATION:PT1H0M0S
SUMMARY:Carol Stream - Purple - Priest vs. Streamwood 3 - Baraks
DESCRIPTION:7/8 Grade - Games - Carol Stream Park District
LOCATION:Fountain View - Court 1
CATEGORIES:QuickScores, Volleyball - Youth Game
TRANSP:OPAQUE
BEGIN:VALARM
TRIGGER:-PT2H
ACTION:DISPLAY
DESCRIPTION:Carol Stream - Purple - Priest vs. Streamwood 3 - Baraks
END:VALARM
END:VEVENT
BEGIN:VEVENT
UID:csparks-68025134-20250419T090000@quickscores.com
DTSTAMP:20260422T172500Z
DTSTART;TZID=America/Chicago:20250419T090000
DURATION:PT1H0M0S
SUMMARY:Carol Stream - Green - Urquiaga vs. Streamwood 3 - Baraks
DESCRIPTION:7/8 Grade - Games - Carol Stream Park District
LOCATION:Clauss Recreation Center - Court 1
CATEGORIES:QuickScores, Volleyball - Youth Game
TRANSP:OPAQUE
BEGIN:VALARM
TRIGGER:-PT2H
ACTION:DISPLAY
DESCRIPTION:Carol Stream - Green - Urquiaga vs. Streamwood 3 - Baraks
END:VALARM
END:VEVENT
BEGIN:VEVENT
UID:csparks-68025146-20250426T140000@quickscores.com
DTSTAMP:20260422T172500Z
DTSTART;TZID=America/Chicago:20250426T140000
DURATION:PT1H0M0S
SUMMARY:Streamwood - 2 - Baraks vs. Streamwood 3 - Baraks
DESCRIPTION:7/8 Grade - Games - Carol Stream Park District
LOCATION:Park Place FRC - East Court
CATEGORIES:QuickScores, Volleyball - Youth Game
TRANSP:OPAQUE
BEGIN:VALARM
TRIGGER:-PT2H
ACTION:DISPLAY
DESCRIPTION:Streamwood - 2 - Baraks vs. Streamwood 3 - Baraks
END:VALARM
END:VEVENT
BEGIN:VEVENT
UID:csparks-68025147-20250503T160000@quickscores.com
DTSTAMP:20260422T172500Z
DTSTART;TZID=America/Chicago:20250503T160000
DURATION:PT1H0M0S
SUMMARY:Streamwood 3 - Baraks vs. Addison - Maroon
DESCRIPTION:Moved by an hour --- 7/8 Grade - Games - Carol Stream Park District
LOCATION:Addison Park District - Community Center - Court 1
CATEGORIES:QuickScores, Volleyball - Youth Game
TRANSP:OPAQUE
BEGIN:VALARM
TRIGGER:-PT2H
ACTION:DISPLAY
DESCRIPTION:Streamwood 3 - Baraks vs. Addison - Maroon
END:VALARM
END:VEVENT
BEGIN:VEVENT
UID:csparks-68025162-20250510T140000@quickscores.com
DTSTAMP:20260422T172500Z
DTSTART;TZID=America/Chicago:20250510T140000
DURATION:PT1H0M0S
SUMMARY:Streamwood 3 - Baraks vs. Bartlett- Nebraska - Vo
DESCRIPTION:7/8 Grade - Games - Carol Stream Park District
LOCATION:Park Place FRC - East Court
CATEGORIES:QuickScores, Volleyball - Youth Game
TRANSP:OPAQUE
BEGIN:VALARM
TRIGGER:-PT2H
ACTION:DISPLAY
DESCRIPTION:Streamwood 3 - Baraks vs. Bartlett- Nebraska - Vo
END:VALARM
END:VEVENT
END:VCALENDAR
