BEGIN:VCALENDAR
VERSION:2.0
PRODID:-//QuickScores.com//BQ Dynamic iCal Creator//EN
METHOD:PUBLISH
X-WR-CALNAME:Streamwood - 2 - Baraks - 7/8 Grade - Games - Spring 2025
X-WR-CALDESC:QuickScores game calendar
X-PUBLISHED-TTL:PT24H
REFRESH-INTERVAL;VALUE=DURATION:PT24H
CALSCALE:GREGORIAN
BEGIN:VTIMEZONE
TZID:America/Chicago
X-LIC-LOCATION:America/Chicago
BEGIN:DAYLIGHT
TZNAME:CDT
TZOFFSETFROM:-0600
TZOFFSETTO:-0500
DTSTART:19700308T020000
RRULE:FREQ=YEARLY;BYMONTH=3;BYDAY=2SU
END:DAYLIGHT
BEGIN:STANDARD
TZNAME:CST
TZOFFSETFROM:-0500
TZOFFSETTO:-0600
DTSTART:19701101T020000
RRULE:FREQ=YEARLY;BYMONTH=11;BYDAY=1SU
END:STANDARD
END:VTIMEZONE
BEGIN:VEVENT
UID:csparks-68025117-20250405T110000@quickscores.com
DTSTAMP:20260421T232000Z
DTSTART;TZID=America/Chicago:20250405T110000
DURATION:PT1H0M0S
SUMMARY:Addison - Maroon vs. Streamwood - 2 - Baraks
DESCRIPTION:7/8 Grade - Games - Carol Stream Park District
LOCATION:Fountain View - Court 2
CATEGORIES:QuickScores, Volleyball - Youth Game
TRANSP:OPAQUE
BEGIN:VALARM
TRIGGER:-PT2H
ACTION:DISPLAY
DESCRIPTION:Addison - Maroon vs. Streamwood - 2 - Baraks
END:VALARM
END:VEVENT
BEGIN:VEVENT
UID:csparks-68025125-20250412T140000@quickscores.com
DTSTAMP:20260421T232000Z
DTSTART;TZID=America/Chicago:20250412T140000
DURATION:PT1H0M0S
SUMMARY:Streamwood - 2 - Baraks vs. Carol Stream - Green - Urquiaga
DESCRIPTION:7/8 Grade - Games - Carol Stream Park District
LOCATION:Fountain View - Court 1
CATEGORIES:QuickScores, Volleyball - Youth Game
TRANSP:OPAQUE
BEGIN:VALARM
TRIGGER:-PT2H
ACTION:DISPLAY
DESCRIPTION:Streamwood - 2 - Baraks vs. Carol Stream - Green - Urquiaga
END:VALARM
END:VEVENT
BEGIN:VEVENT
UID:csparks-68025136-20250419T130000@quickscores.com
DTSTAMP:20260421T232000Z
DTSTART;TZID=America/Chicago:20250419T130000
DURATION:PT1H0M0S
SUMMARY:Streamwood - 2 - Baraks vs. Bartlett- Michigan St. -  Lewensky
DESCRIPTION:7/8 Grade - Games - Carol Stream Park District
LOCATION:Bartlett CC - Court 1
CATEGORIES:QuickScores, Volleyball - Youth Game
TRANSP:OPAQUE
BEGIN:VALARM
TRIGGER:-PT2H
ACTION:DISPLAY
DESCRIPTION:Streamwood - 2 - Baraks vs. Bartlett- Michigan St. -  Lewensky
END:VALARM
END:VEVENT
BEGIN:VEVENT
UID:csparks-68025146-20250426T140000@quickscores.com
DTSTAMP:20260421T232000Z
DTSTART;TZID=America/Chicago:20250426T140000
DURATION:PT1H0M0S
SUMMARY:Streamwood - 2 - Baraks vs. Streamwood 3 - Baraks
DESCRIPTION:7/8 Grade - Games - Carol Stream Park District
LOCATION:Park Place FRC - East Court
CATEGORIES:QuickScores, Volleyball - Youth Game
TRANSP:OPAQUE
BEGIN:VALARM
TRIGGER:-PT2H
ACTION:DISPLAY
DESCRIPTION:Streamwood - 2 - Baraks vs. Streamwood 3 - Baraks
END:VALARM
END:VEVENT
BEGIN:VEVENT
UID:csparks-68025153-20250503T120000@quickscores.com
DTSTAMP:20260421T232000Z
DTSTART;TZID=America/Chicago:20250503T120000
DURATION:PT1H0M0S
SUMMARY:Carol Stream - Black - Jones vs. Streamwood - 2 - Baraks
DESCRIPTION:7/8 Grade - Games - Carol Stream Park District
LOCATION:Park Place FRC - East Court
CATEGORIES:QuickScores, Volleyball - Youth Game
TRANSP:OPAQUE
BEGIN:VALARM
TRIGGER:-PT2H
ACTION:DISPLAY
DESCRIPTION:Carol Stream - Black - Jones vs. Streamwood - 2 - Baraks
END:VALARM
END:VEVENT
BEGIN:VEVENT
UID:csparks-68025156-20250510T090000@quickscores.com
DTSTAMP:20260421T232000Z
DTSTART;TZID=America/Chicago:20250510T090000
DURATION:PT1H0M0S
SUMMARY:Carol Stream - Purple - Priest vs. Streamwood - 2 - Baraks
DESCRIPTION:7/8 Grade - Games - Carol Stream Park District
LOCATION:Fountain View - Court 3
CATEGORIES:QuickScores, Volleyball - Youth Game
TRANSP:OPAQUE
BEGIN:VALARM
TRIGGER:-PT2H
ACTION:DISPLAY
DESCRIPTION:Carol Stream - Purple - Priest vs. Streamwood - 2 - Baraks
END:VALARM
END:VEVENT
BEGIN:VEVENT
UID:csparks-68934171-20250517T100000@quickscores.com
DTSTAMP:20260421T232000Z
DTSTART;TZID=America/Chicago:20250517T100000
DURATION:PT1H0M0S
SUMMARY:[3] Roselle - Cobean/Paez vs. [6] Streamwood - 2 - Baraks
DESCRIPTION:7/8 Grade - Games - Carol Stream Park District
LOCATION:Clauss Recreation Center - Court 2
CATEGORIES:QuickScores, Volleyball - Youth Game
TRANSP:OPAQUE
BEGIN:VALARM
TRIGGER:-PT2H
ACTION:DISPLAY
DESCRIPTION:[3] Roselle - Cobean/Paez vs. [6] Streamwood - 2 - Baraks
END:VALARM
END:VEVENT
END:VCALENDAR
