BEGIN:VCALENDAR
VERSION:2.0
PRODID:-//QuickScores.com//BQ Dynamic iCal Creator//EN
METHOD:PUBLISH
X-WR-CALNAME:Bartlett- Texas - Arcidiacono - 7/8 Grade - Games - Spring 2025
X-WR-CALDESC:QuickScores game calendar
X-PUBLISHED-TTL:PT24H
REFRESH-INTERVAL;VALUE=DURATION:PT24H
CALSCALE:GREGORIAN
BEGIN:VTIMEZONE
TZID:America/Chicago
X-LIC-LOCATION:America/Chicago
BEGIN:DAYLIGHT
TZNAME:CDT
TZOFFSETFROM:-0600
TZOFFSETTO:-0500
DTSTART:19700308T020000
RRULE:FREQ=YEARLY;BYMONTH=3;BYDAY=2SU
END:DAYLIGHT
BEGIN:STANDARD
TZNAME:CST
TZOFFSETFROM:-0500
TZOFFSETTO:-0600
DTSTART:19701101T020000
RRULE:FREQ=YEARLY;BYMONTH=11;BYDAY=1SU
END:STANDARD
END:VTIMEZONE
BEGIN:VEVENT
UID:csparks-68025118-20250405T120000@quickscores.com
DTSTAMP:20260422T172200Z
DTSTART;TZID=America/Chicago:20250405T120000
DURATION:PT1H0M0S
SUMMARY:Bartlett- Michigan - Stokes vs. Bartlett- Texas - Arcidiacono
DESCRIPTION:7/8 Grade - Games - Carol Stream Park District
LOCATION:Bartlett CC - Court 1
CATEGORIES:QuickScores, Volleyball - Youth Game
TRANSP:OPAQUE
BEGIN:VALARM
TRIGGER:-PT2H
ACTION:DISPLAY
DESCRIPTION:Bartlett- Michigan - Stokes vs. Bartlett- Texas - Arcidiacono
END:VALARM
END:VEVENT
BEGIN:VEVENT
UID:csparks-68025127-20250412T140000@quickscores.com
DTSTAMP:20260422T172200Z
DTSTART;TZID=America/Chicago:20250412T140000
DURATION:PT1H0M0S
SUMMARY:Bartlett- Texas - Arcidiacono vs. Carol Stream - Blue - Coleman
DESCRIPTION:7/8 Grade - Games - Carol Stream Park District
LOCATION:Addison Park District - Club Fitness - Court 1
CATEGORIES:QuickScores, Volleyball - Youth Game
TRANSP:OPAQUE
BEGIN:VALARM
TRIGGER:-PT2H
ACTION:DISPLAY
DESCRIPTION:Bartlett- Texas - Arcidiacono vs. Carol Stream - Blue - Coleman
END:VALARM
END:VEVENT
BEGIN:VEVENT
UID:csparks-68025131-20250419T090000@quickscores.com
DTSTAMP:20260422T172200Z
DTSTART;TZID=America/Chicago:20250419T090000
DURATION:PT1H0M0S
SUMMARY:Carol Stream - Pink - Salazar vs. Bartlett- Texas - Arcidiacono
DESCRIPTION:7/8 Grade - Games - Carol Stream Park District
LOCATION:Bartlett CC - Court 1
CATEGORIES:QuickScores, Volleyball - Youth Game
TRANSP:OPAQUE
BEGIN:VALARM
TRIGGER:-PT2H
ACTION:DISPLAY
DESCRIPTION:Carol Stream - Pink - Salazar vs. Bartlett- Texas - Arcidiacono
END:VALARM
END:VEVENT
BEGIN:VEVENT
UID:csparks-68025144-20250426T130000@quickscores.com
DTSTAMP:20260422T172200Z
DTSTART;TZID=America/Chicago:20250426T130000
DURATION:PT1H0M0S
SUMMARY:Bartlett- Texas - Arcidiacono vs. Carol Stream - Black - Jones
DESCRIPTION:7/8 Grade - Games - Carol Stream Park District
LOCATION:Fountain View - Court 3
CATEGORIES:QuickScores, Volleyball - Youth Game
TRANSP:OPAQUE
BEGIN:VALARM
TRIGGER:-PT2H
ACTION:DISPLAY
DESCRIPTION:Bartlett- Texas - Arcidiacono vs. Carol Stream - Black - Jones
END:VALARM
END:VEVENT
BEGIN:VEVENT
UID:csparks-68025148-20250503T100000@quickscores.com
DTSTAMP:20260422T172200Z
DTSTART;TZID=America/Chicago:20250503T100000
DURATION:PT1H0M0S
SUMMARY:Bartlett- Texas - Arcidiacono vs. Streamwood - Lakoma
DESCRIPTION:7/8 Grade - Games - Carol Stream Park District
LOCATION:Park Place FRC - East Court
CATEGORIES:QuickScores, Volleyball - Youth Game
TRANSP:OPAQUE
BEGIN:VALARM
TRIGGER:-PT2H
ACTION:DISPLAY
DESCRIPTION:Bartlett- Texas - Arcidiacono vs. Streamwood - Lakoma
END:VALARM
END:VEVENT
BEGIN:VEVENT
UID:csparks-68025161-20250510T150000@quickscores.com
DTSTAMP:20260422T172200Z
DTSTART;TZID=America/Chicago:20250510T150000
DURATION:PT1H0M0S
SUMMARY:Bartlett- Michigan St. -  Lewensky vs. Bartlett- Texas - Arcidiacono
DESCRIPTION:7/8 Grade - Games - Carol Stream Park District
LOCATION:Park Place FRC - East Court
CATEGORIES:QuickScores, Volleyball - Youth Game
TRANSP:OPAQUE
BEGIN:VALARM
TRIGGER:-PT2H
ACTION:DISPLAY
DESCRIPTION:Bartlett- Michigan St. -  Lewensky vs. Bartlett- Texas - Arcidiacono
END:VALARM
END:VEVENT
BEGIN:VEVENT
UID:csparks-68934170-20250517T100000@quickscores.com
DTSTAMP:20260422T172200Z
DTSTART;TZID=America/Chicago:20250517T100000
DURATION:PT1H0M0S
SUMMARY:[2] Addison - Maroon vs. [7] Bartlett- Texas - Arcidiacono
DESCRIPTION:7/8 Grade - Games - Carol Stream Park District
LOCATION:Clauss Recreation Center - Court 1
CATEGORIES:QuickScores, Volleyball - Youth Game
TRANSP:OPAQUE
BEGIN:VALARM
TRIGGER:-PT2H
ACTION:DISPLAY
DESCRIPTION:[2] Addison - Maroon vs. [7] Bartlett- Texas - Arcidiacono
END:VALARM
END:VEVENT
END:VCALENDAR
