BEGIN:VCALENDAR
VERSION:2.0
PRODID:-//QuickScores.com//BQ Dynamic iCal Creator//EN
METHOD:PUBLISH
X-WR-CALNAME:Carol Stream - Black - Jones - 7/8 Grade - Games - Spring 2025
X-WR-CALDESC:QuickScores game calendar
X-PUBLISHED-TTL:PT24H
REFRESH-INTERVAL;VALUE=DURATION:PT24H
CALSCALE:GREGORIAN
BEGIN:VTIMEZONE
TZID:America/Chicago
X-LIC-LOCATION:America/Chicago
BEGIN:DAYLIGHT
TZNAME:CDT
TZOFFSETFROM:-0600
TZOFFSETTO:-0500
DTSTART:19700308T020000
RRULE:FREQ=YEARLY;BYMONTH=3;BYDAY=2SU
END:DAYLIGHT
BEGIN:STANDARD
TZNAME:CST
TZOFFSETFROM:-0500
TZOFFSETTO:-0600
DTSTART:19701101T020000
RRULE:FREQ=YEARLY;BYMONTH=11;BYDAY=1SU
END:STANDARD
END:VTIMEZONE
BEGIN:VEVENT
UID:csparks-68025122-20250405T130000@quickscores.com
DTSTAMP:20260422T171400Z
DTSTART;TZID=America/Chicago:20250405T130000
DURATION:PT1H0M0S
SUMMARY:Carol Stream - Black - Jones vs. Addison - Royal
DESCRIPTION:7/8 Grade - Games - Carol Stream Park District
LOCATION:Bartlett CC - Court 1
CATEGORIES:QuickScores, Volleyball - Youth Game
TRANSP:OPAQUE
BEGIN:VALARM
TRIGGER:-PT2H
ACTION:DISPLAY
DESCRIPTION:Carol Stream - Black - Jones vs. Addison - Royal
END:VALARM
END:VEVENT
BEGIN:VEVENT
UID:csparks-68025129-20250412T150000@quickscores.com
DTSTAMP:20260422T171400Z
DTSTART;TZID=America/Chicago:20250412T150000
DURATION:PT1H0M0S
SUMMARY:Roselle - Starzec vs. Carol Stream - Black - Jones
DESCRIPTION:7/8 Grade - Games - Carol Stream Park District
LOCATION:Fountain View - Court 1
CATEGORIES:QuickScores, Volleyball - Youth Game
TRANSP:OPAQUE
BEGIN:VALARM
TRIGGER:-PT2H
ACTION:DISPLAY
DESCRIPTION:Roselle - Starzec vs. Carol Stream - Black - Jones
END:VALARM
END:VEVENT
BEGIN:VEVENT
UID:csparks-68025138-20250419T110000@quickscores.com
DTSTAMP:20260422T171400Z
DTSTART;TZID=America/Chicago:20250419T110000
DURATION:PT1H0M0S
SUMMARY:Carol Stream - Black - Jones vs. Bartlett- Nebraska - Vo
DESCRIPTION:7/8 Grade - Games - Carol Stream Park District
LOCATION:Bartlett CC - Court 1
CATEGORIES:QuickScores, Volleyball - Youth Game
TRANSP:OPAQUE
BEGIN:VALARM
TRIGGER:-PT2H
ACTION:DISPLAY
DESCRIPTION:Carol Stream - Black - Jones vs. Bartlett- Nebraska - Vo
END:VALARM
END:VEVENT
BEGIN:VEVENT
UID:csparks-68025144-20250426T130000@quickscores.com
DTSTAMP:20260422T171400Z
DTSTART;TZID=America/Chicago:20250426T130000
DURATION:PT1H0M0S
SUMMARY:Bartlett- Texas - Arcidiacono vs. Carol Stream - Black - Jones
DESCRIPTION:7/8 Grade - Games - Carol Stream Park District
LOCATION:Fountain View - Court 3
CATEGORIES:QuickScores, Volleyball - Youth Game
TRANSP:OPAQUE
BEGIN:VALARM
TRIGGER:-PT2H
ACTION:DISPLAY
DESCRIPTION:Bartlett- Texas - Arcidiacono vs. Carol Stream - Black - Jones
END:VALARM
END:VEVENT
BEGIN:VEVENT
UID:csparks-68025153-20250503T120000@quickscores.com
DTSTAMP:20260422T171400Z
DTSTART;TZID=America/Chicago:20250503T120000
DURATION:PT1H0M0S
SUMMARY:Carol Stream - Black - Jones vs. Streamwood - 2 - Baraks
DESCRIPTION:7/8 Grade - Games - Carol Stream Park District
LOCATION:Park Place FRC - East Court
CATEGORIES:QuickScores, Volleyball - Youth Game
TRANSP:OPAQUE
BEGIN:VALARM
TRIGGER:-PT2H
ACTION:DISPLAY
DESCRIPTION:Carol Stream - Black - Jones vs. Streamwood - 2 - Baraks
END:VALARM
END:VEVENT
BEGIN:VEVENT
UID:csparks-68025159-20250510T160000@quickscores.com
DTSTAMP:20260422T171400Z
DTSTART;TZID=America/Chicago:20250510T160000
DURATION:PT1H0M0S
SUMMARY:Streamwood - Lakoma vs. Carol Stream - Black - Jones
DESCRIPTION:7/8 Grade - Games - Carol Stream Park District
LOCATION:Park Place FRC - East Court
CATEGORIES:QuickScores, Volleyball - Youth Game
TRANSP:OPAQUE
BEGIN:VALARM
TRIGGER:-PT2H
ACTION:DISPLAY
DESCRIPTION:Streamwood - Lakoma vs. Carol Stream - Black - Jones
END:VALARM
END:VEVENT
END:VCALENDAR
