BEGIN:VCALENDAR
VERSION:2.0
PRODID:-//QuickScores.com//BQ Dynamic iCal Creator//EN
METHOD:PUBLISH
X-WR-CALNAME:Sonics- Houswertth - Youth Soccer Pre-k (u6) - Practices - Spring 2025
X-WR-CALDESC:QuickScores game calendar
X-PUBLISHED-TTL:PT24H
REFRESH-INTERVAL;VALUE=DURATION:PT24H
CALSCALE:GREGORIAN
BEGIN:VTIMEZONE
TZID:America/Chicago
X-LIC-LOCATION:America/Chicago
BEGIN:DAYLIGHT
TZNAME:CDT
TZOFFSETFROM:-0600
TZOFFSETTO:-0500
DTSTART:19700308T020000
RRULE:FREQ=YEARLY;BYMONTH=3;BYDAY=2SU
END:DAYLIGHT
BEGIN:STANDARD
TZNAME:CST
TZOFFSETFROM:-0500
TZOFFSETTO:-0600
DTSTART:19701101T020000
RRULE:FREQ=YEARLY;BYMONTH=11;BYDAY=1SU
END:STANDARD
END:VTIMEZONE
BEGIN:VEVENT
UID:csparks-67750592-20250318T180000@quickscores.com
DTSTAMP:20260425T052200Z
DTSTART;TZID=America/Chicago:20250318T180000
DURATION:PT1H0M0S
SUMMARY:Practice: Sonics- Houswertth
DESCRIPTION:Youth Soccer Pre-k (u6) - Practices - Carol Stream Park District
LOCATION:Hampe 2 - Soccer (U6)
CATEGORIES:QuickScores, Facilities Game
TRANSP:OPAQUE
BEGIN:VALARM
TRIGGER:-PT2H
ACTION:DISPLAY
DESCRIPTION:Practice: Sonics- Houswertth
END:VALARM
END:VEVENT
BEGIN:VEVENT
UID:csparks-67750628-20250322T100000@quickscores.com
DTSTAMP:20260425T052200Z
DTSTART;TZID=America/Chicago:20250322T100000
DURATION:PT1H30M0S
SUMMARY:Practice: Sonics- Houswertth
DESCRIPTION:Youth Soccer Pre-k (u6) - Practices - Carol Stream Park District
LOCATION:Hampe 2 - Soccer (U6)
CATEGORIES:QuickScores, Facilities Game
TRANSP:OPAQUE
BEGIN:VALARM
TRIGGER:-PT2H
ACTION:DISPLAY
DESCRIPTION:Practice: Sonics- Houswertth
END:VALARM
END:VEVENT
BEGIN:VEVENT
UID:csparks-67750593-20250325T180000@quickscores.com
DTSTAMP:20260425T052200Z
DTSTART;TZID=America/Chicago:20250325T180000
DURATION:PT1H0M0S
SUMMARY:Practice: Sonics- Houswertth
DESCRIPTION:Youth Soccer Pre-k (u6) - Practices - Carol Stream Park District
LOCATION:Hampe 2 - Soccer (U6)
CATEGORIES:QuickScores, Facilities Game
TRANSP:OPAQUE
BEGIN:VALARM
TRIGGER:-PT2H
ACTION:DISPLAY
DESCRIPTION:Practice: Sonics- Houswertth
END:VALARM
END:VEVENT
BEGIN:VEVENT
UID:csparks-67751801-20250328T180000@quickscores.com
DTSTAMP:20260425T052200Z
DTSTART;TZID=America/Chicago:20250328T180000
DURATION:PT1H0M0S
SUMMARY:Practice: Sonics- Houswertth
DESCRIPTION:Youth Soccer Pre-k (u6) - Practices - Carol Stream Park District
LOCATION:Evergreen - Half Gym - South
CATEGORIES:QuickScores, Facilities Game
TRANSP:OPAQUE
BEGIN:VALARM
TRIGGER:-PT2H
ACTION:DISPLAY
DESCRIPTION:Practice: Sonics- Houswertth
END:VALARM
END:VEVENT
BEGIN:VEVENT
UID:csparks-67750594-20250401T180000@quickscores.com
DTSTAMP:20260425T052200Z
DTSTART;TZID=America/Chicago:20250401T180000
DURATION:PT1H0M0S
SUMMARY:Practice: Sonics- Houswertth
DESCRIPTION:Youth Soccer Pre-k (u6) - Practices - Carol Stream Park District
LOCATION:Hampe 2 - Soccer (U6)
CATEGORIES:QuickScores, Facilities Game
TRANSP:OPAQUE
BEGIN:VALARM
TRIGGER:-PT2H
ACTION:DISPLAY
DESCRIPTION:Practice: Sonics- Houswertth
END:VALARM
END:VEVENT
BEGIN:VEVENT
UID:csparks-67751897-20250402T180000@quickscores.com
DTSTAMP:20260425T052200Z
DTSTART;TZID=America/Chicago:20250402T180000
DURATION:PT1H0M0S
SUMMARY:Practice: Sonics- Houswertth
DESCRIPTION:Location Change --- Youth Soccer Pre-k (u6) - Practices - Carol Stream Park District
LOCATION:Fountain View - Court 2
CATEGORIES:QuickScores, Facilities Game
TRANSP:OPAQUE
BEGIN:VALARM
TRIGGER:-PT2H
ACTION:DISPLAY
DESCRIPTION:Practice: Sonics- Houswertth
END:VALARM
END:VEVENT
BEGIN:VEVENT
UID:csparks-67750629-20250405T100000@quickscores.com
DTSTAMP:20260425T052200Z
DTSTART;TZID=America/Chicago:20250405T100000
DURATION:PT1H0M0S
SUMMARY:Practice: Sonics- Houswertth
DESCRIPTION:Youth Soccer Pre-k (u6) - Practices - Carol Stream Park District
LOCATION:Hampe 2 - Soccer (U6)
CATEGORIES:QuickScores, Facilities Game
TRANSP:OPAQUE
BEGIN:VALARM
TRIGGER:-PT2H
ACTION:DISPLAY
DESCRIPTION:Practice: Sonics- Houswertth
END:VALARM
END:VEVENT
BEGIN:VEVENT
UID:csparks-67750595-20250408T180000@quickscores.com
DTSTAMP:20260425T052200Z
DTSTART;TZID=America/Chicago:20250408T180000
DURATION:PT1H0M0S
SUMMARY:Practice: Sonics- Houswertth
DESCRIPTION:Youth Soccer Pre-k (u6) - Practices - Carol Stream Park District
LOCATION:Hampe 2 - Soccer (U6)
CATEGORIES:QuickScores, Facilities Game
TRANSP:OPAQUE
BEGIN:VALARM
TRIGGER:-PT2H
ACTION:DISPLAY
DESCRIPTION:Practice: Sonics- Houswertth
END:VALARM
END:VEVENT
BEGIN:VEVENT
UID:csparks-67752014-20250409T180000@quickscores.com
DTSTAMP:20260425T052200Z
DTSTART;TZID=America/Chicago:20250409T180000
DURATION:PT1H0M0S
SUMMARY:Practice: Sonics- Houswertth
DESCRIPTION:Practice Cancelled --- Youth Soccer Pre-k (u6) - Practices - Carol Stream Park District
LOCATION:Evergreen - Half Gym - South
CATEGORIES:QuickScores, Facilities Game
TRANSP:OPAQUE
BEGIN:VALARM
TRIGGER:-PT2H
ACTION:DISPLAY
DESCRIPTION:Practice: Sonics- Houswertth
END:VALARM
END:VEVENT
BEGIN:VEVENT
UID:csparks-67879493-20250415T180000@quickscores.com
DTSTAMP:20260425T052200Z
DTSTART;TZID=America/Chicago:20250415T180000
DURATION:PT1H0M0S
SUMMARY:Practice: Sonics- Houswertth
DESCRIPTION:Youth Soccer Pre-k (u6) - Practices - Carol Stream Park District
LOCATION:Hampe 2 - Soccer (U6)
CATEGORIES:QuickScores, Facilities Game
TRANSP:OPAQUE
BEGIN:VALARM
TRIGGER:-PT2H
ACTION:DISPLAY
DESCRIPTION:Practice: Sonics- Houswertth
END:VALARM
END:VEVENT
BEGIN:VEVENT
UID:csparks-67879494-20250422T180000@quickscores.com
DTSTAMP:20260425T052200Z
DTSTART;TZID=America/Chicago:20250422T180000
DURATION:PT1H0M0S
SUMMARY:Practice: Sonics- Houswertth
DESCRIPTION:Youth Soccer Pre-k (u6) - Practices - Carol Stream Park District
LOCATION:Hampe 2 - Soccer (U6)
CATEGORIES:QuickScores, Facilities Game
TRANSP:OPAQUE
BEGIN:VALARM
TRIGGER:-PT2H
ACTION:DISPLAY
DESCRIPTION:Practice: Sonics- Houswertth
END:VALARM
END:VEVENT
BEGIN:VEVENT
UID:csparks-67879495-20250429T180000@quickscores.com
DTSTAMP:20260425T052200Z
DTSTART;TZID=America/Chicago:20250429T180000
DURATION:PT1H0M0S
SUMMARY:Practice: Sonics- Houswertth
DESCRIPTION:Youth Soccer Pre-k (u6) - Practices - Carol Stream Park District
LOCATION:Hampe 2 - Soccer (U6)
CATEGORIES:QuickScores, Facilities Game
TRANSP:OPAQUE
BEGIN:VALARM
TRIGGER:-PT2H
ACTION:DISPLAY
DESCRIPTION:Practice: Sonics- Houswertth
END:VALARM
END:VEVENT
BEGIN:VEVENT
UID:csparks-67879496-20250506T180000@quickscores.com
DTSTAMP:20260425T052200Z
DTSTART;TZID=America/Chicago:20250506T180000
DURATION:PT1H0M0S
SUMMARY:Practice: Sonics- Houswertth
DESCRIPTION:Youth Soccer Pre-k (u6) - Practices - Carol Stream Park District
LOCATION:Hampe 2 - Soccer (U6)
CATEGORIES:QuickScores, Facilities Game
TRANSP:OPAQUE
BEGIN:VALARM
TRIGGER:-PT2H
ACTION:DISPLAY
DESCRIPTION:Practice: Sonics- Houswertth
END:VALARM
END:VEVENT
BEGIN:VEVENT
UID:csparks-67879497-20250513T180000@quickscores.com
DTSTAMP:20260425T052200Z
DTSTART;TZID=America/Chicago:20250513T180000
DURATION:PT1H0M0S
SUMMARY:Practice: Sonics- Houswertth
DESCRIPTION:Youth Soccer Pre-k (u6) - Practices - Carol Stream Park District
LOCATION:Hampe 2 - Soccer (U6)
CATEGORIES:QuickScores, Facilities Game
TRANSP:OPAQUE
BEGIN:VALARM
TRIGGER:-PT2H
ACTION:DISPLAY
DESCRIPTION:Practice: Sonics- Houswertth
END:VALARM
END:VEVENT
BEGIN:VEVENT
UID:csparks-67879498-20250520T180000@quickscores.com
DTSTAMP:20260425T052200Z
DTSTART;TZID=America/Chicago:20250520T180000
DURATION:PT1H0M0S
SUMMARY:Practice: Sonics- Houswertth
DESCRIPTION:Youth Soccer Pre-k (u6) - Practices - Carol Stream Park District
LOCATION:Hampe 2 - Soccer (U6)
CATEGORIES:QuickScores, Facilities Game
TRANSP:OPAQUE
BEGIN:VALARM
TRIGGER:-PT2H
ACTION:DISPLAY
DESCRIPTION:Practice: Sonics- Houswertth
END:VALARM
END:VEVENT
BEGIN:VEVENT
UID:csparks-67879499-20250527T180000@quickscores.com
DTSTAMP:20260425T052200Z
DTSTART;TZID=America/Chicago:20250527T180000
DURATION:PT1H0M0S
SUMMARY:Practice: Sonics- Houswertth
DESCRIPTION:Youth Soccer Pre-k (u6) - Practices - Carol Stream Park District
LOCATION:Hampe 2 - Soccer (U6)
CATEGORIES:QuickScores, Facilities Game
TRANSP:OPAQUE
BEGIN:VALARM
TRIGGER:-PT2H
ACTION:DISPLAY
DESCRIPTION:Practice: Sonics- Houswertth
END:VALARM
END:VEVENT
BEGIN:VEVENT
UID:csparks-67879500-20250603T180000@quickscores.com
DTSTAMP:20260425T052200Z
DTSTART;TZID=America/Chicago:20250603T180000
DURATION:PT1H0M0S
SUMMARY:Practice: Sonics- Houswertth
DESCRIPTION:Youth Soccer Pre-k (u6) - Practices - Carol Stream Park District
LOCATION:Hampe 2 - Soccer (U6)
CATEGORIES:QuickScores, Facilities Game
TRANSP:OPAQUE
BEGIN:VALARM
TRIGGER:-PT2H
ACTION:DISPLAY
DESCRIPTION:Practice: Sonics- Houswertth
END:VALARM
END:VEVENT
END:VCALENDAR
