BEGIN:VCALENDAR
VERSION:2.0
PRODID:-//QuickScores.com//BQ Dynamic iCal Creator//EN
METHOD:PUBLISH
X-WR-CALNAME:Ball Blasters - Youth Dodgeball Grade 7-8 - Winter 2025
X-WR-CALDESC:QuickScores game calendar
X-PUBLISHED-TTL:PT24H
REFRESH-INTERVAL;VALUE=DURATION:PT24H
CALSCALE:GREGORIAN
BEGIN:VTIMEZONE
TZID:America/Chicago
X-LIC-LOCATION:America/Chicago
BEGIN:DAYLIGHT
TZNAME:CDT
TZOFFSETFROM:-0600
TZOFFSETTO:-0500
DTSTART:19700308T020000
RRULE:FREQ=YEARLY;BYMONTH=3;BYDAY=2SU
END:DAYLIGHT
BEGIN:STANDARD
TZNAME:CST
TZOFFSETFROM:-0500
TZOFFSETTO:-0600
DTSTART:19701101T020000
RRULE:FREQ=YEARLY;BYMONTH=11;BYDAY=1SU
END:STANDARD
END:VTIMEZONE
BEGIN:VEVENT
UID:csparks-66477722-20250110T200000@quickscores.com
DTSTAMP:20260425T162400Z
DTSTART;TZID=America/Chicago:20250110T200000
DURATION:PT0H20M0S
SUMMARY:Ball Blasters vs. Ball Busters
DESCRIPTION:Youth Dodgeball Grade 7-8 - Carol Stream Park District
LOCATION:Simkus - Court 2 (West)
CATEGORIES:QuickScores, Dodgeball Game
TRANSP:OPAQUE
BEGIN:VALARM
TRIGGER:-PT2H
ACTION:DISPLAY
DESCRIPTION:Ball Blasters vs. Ball Busters
END:VALARM
END:VEVENT
BEGIN:VEVENT
UID:csparks-66790485-20250110T202000@quickscores.com
DTSTAMP:20260425T162400Z
DTSTART;TZID=America/Chicago:20250110T202000
DURATION:PT0H20M0S
SUMMARY:Ball Blasters vs. Ball Busters
DESCRIPTION:Youth Dodgeball Grade 7-8 - Carol Stream Park District
LOCATION:Simkus - Court 2 (West)
CATEGORIES:QuickScores, Dodgeball Game
TRANSP:OPAQUE
BEGIN:VALARM
TRIGGER:-PT2H
ACTION:DISPLAY
DESCRIPTION:Ball Blasters vs. Ball Busters
END:VALARM
END:VEVENT
BEGIN:VEVENT
UID:csparks-66477729-20250124T204000@quickscores.com
DTSTAMP:20260425T162400Z
DTSTART;TZID=America/Chicago:20250124T204000
DURATION:PT0H20M0S
SUMMARY:Cougars vs. Ball Blasters
DESCRIPTION:Youth Dodgeball Grade 7-8 - Carol Stream Park District
LOCATION:Simkus - Court 2 (West)
CATEGORIES:QuickScores, Dodgeball Game
TRANSP:OPAQUE
BEGIN:VALARM
TRIGGER:-PT2H
ACTION:DISPLAY
DESCRIPTION:Cougars vs. Ball Blasters
END:VALARM
END:VEVENT
BEGIN:VEVENT
UID:csparks-66971912-20250124T210000@quickscores.com
DTSTAMP:20260425T162400Z
DTSTART;TZID=America/Chicago:20250124T210000
DURATION:PT0H20M0S
SUMMARY:Cougars vs. Ball Blasters
DESCRIPTION:Youth Dodgeball Grade 7-8 - Carol Stream Park District
LOCATION:Simkus - Court 2 (West)
CATEGORIES:QuickScores, Dodgeball Game
TRANSP:OPAQUE
BEGIN:VALARM
TRIGGER:-PT2H
ACTION:DISPLAY
DESCRIPTION:Cougars vs. Ball Blasters
END:VALARM
END:VEVENT
BEGIN:VEVENT
UID:csparks-66477735-20250131T204000@quickscores.com
DTSTAMP:20260425T162400Z
DTSTART;TZID=America/Chicago:20250131T204000
DURATION:PT0H20M0S
SUMMARY:Ball Blasters vs. Pickle Goats
DESCRIPTION:Youth Dodgeball Grade 7-8 - Carol Stream Park District
LOCATION:Simkus - Court 1 (East)
CATEGORIES:QuickScores, Dodgeball Game
TRANSP:OPAQUE
BEGIN:VALARM
TRIGGER:-PT2H
ACTION:DISPLAY
DESCRIPTION:Ball Blasters vs. Pickle Goats
END:VALARM
END:VEVENT
BEGIN:VEVENT
UID:csparks-67088235-20250131T210000@quickscores.com
DTSTAMP:20260425T162400Z
DTSTART;TZID=America/Chicago:20250131T210000
DURATION:PT0H20M0S
SUMMARY:Ball Blasters vs. Pickle Goats
DESCRIPTION:Youth Dodgeball Grade 7-8 - Carol Stream Park District
LOCATION:Simkus - Court 1 (East)
CATEGORIES:QuickScores, Dodgeball Game
TRANSP:OPAQUE
BEGIN:VALARM
TRIGGER:-PT2H
ACTION:DISPLAY
DESCRIPTION:Ball Blasters vs. Pickle Goats
END:VALARM
END:VEVENT
BEGIN:VEVENT
UID:csparks-66477741-20250207T204000@quickscores.com
DTSTAMP:20260425T162400Z
DTSTART;TZID=America/Chicago:20250207T204000
DURATION:PT0H20M0S
SUMMARY:Pickle Goats vs. Ball Blasters
DESCRIPTION:Youth Dodgeball Grade 7-8 - Carol Stream Park District
LOCATION:Simkus - Court 1 (East)
CATEGORIES:QuickScores, Dodgeball Game
TRANSP:OPAQUE
BEGIN:VALARM
TRIGGER:-PT2H
ACTION:DISPLAY
DESCRIPTION:Pickle Goats vs. Ball Blasters
END:VALARM
END:VEVENT
BEGIN:VEVENT
UID:csparks-67181033-20250207T210000@quickscores.com
DTSTAMP:20260425T162400Z
DTSTART;TZID=America/Chicago:20250207T210000
DURATION:PT0H20M0S
SUMMARY:Pickle Goats vs. Ball Blasters
DESCRIPTION:Youth Dodgeball Grade 7-8 - Carol Stream Park District
LOCATION:Simkus - Court 1 (East)
CATEGORIES:QuickScores, Dodgeball Game
TRANSP:OPAQUE
BEGIN:VALARM
TRIGGER:-PT2H
ACTION:DISPLAY
DESCRIPTION:Pickle Goats vs. Ball Blasters
END:VALARM
END:VEVENT
BEGIN:VEVENT
UID:csparks-66477746-20250214T192000@quickscores.com
DTSTAMP:20260425T162400Z
DTSTART;TZID=America/Chicago:20250214T192000
DURATION:PT0H20M0S
SUMMARY:Ball Blasters vs. Legend
DESCRIPTION:Youth Dodgeball Grade 7-8 - Carol Stream Park District
LOCATION:Simkus - Court 2 (West)
CATEGORIES:QuickScores, Dodgeball Game
TRANSP:OPAQUE
BEGIN:VALARM
TRIGGER:-PT2H
ACTION:DISPLAY
DESCRIPTION:Ball Blasters vs. Legend
END:VALARM
END:VEVENT
BEGIN:VEVENT
UID:csparks-67304101-20250214T194000@quickscores.com
DTSTAMP:20260425T162400Z
DTSTART;TZID=America/Chicago:20250214T194000
DURATION:PT0H20M0S
SUMMARY:Ball Blasters vs. Legend
DESCRIPTION:Youth Dodgeball Grade 7-8 - Carol Stream Park District
LOCATION:Simkus - Court 2 (West)
CATEGORIES:QuickScores, Dodgeball Game
TRANSP:OPAQUE
BEGIN:VALARM
TRIGGER:-PT2H
ACTION:DISPLAY
DESCRIPTION:Ball Blasters vs. Legend
END:VALARM
END:VEVENT
BEGIN:VEVENT
UID:csparks-66477750-20250221T200000@quickscores.com
DTSTAMP:20260425T162400Z
DTSTART;TZID=America/Chicago:20250221T200000
DURATION:PT0H20M0S
SUMMARY:Legend vs. Ball Blasters
DESCRIPTION:Youth Dodgeball Grade 7-8 - Carol Stream Park District
LOCATION:Simkus - Court 2 (West)
CATEGORIES:QuickScores, Dodgeball Game
TRANSP:OPAQUE
BEGIN:VALARM
TRIGGER:-PT2H
ACTION:DISPLAY
DESCRIPTION:Legend vs. Ball Blasters
END:VALARM
END:VEVENT
BEGIN:VEVENT
UID:csparks-67490774-20250221T202000@quickscores.com
DTSTAMP:20260425T162400Z
DTSTART;TZID=America/Chicago:20250221T202000
DURATION:PT0H20M0S
SUMMARY:Legend vs. Ball Blasters
DESCRIPTION:Youth Dodgeball Grade 7-8 - Carol Stream Park District
LOCATION:Simkus - Court 2 (West)
CATEGORIES:QuickScores, Dodgeball Game
TRANSP:OPAQUE
BEGIN:VALARM
TRIGGER:-PT2H
ACTION:DISPLAY
DESCRIPTION:Legend vs. Ball Blasters
END:VALARM
END:VEVENT
BEGIN:VEVENT
UID:csparks-66477749-20250221T204000@quickscores.com
DTSTAMP:20260425T162400Z
DTSTART;TZID=America/Chicago:20250221T204000
DURATION:PT0H20M0S
SUMMARY:Dodge My Balls vs. Ball Blasters
DESCRIPTION:Youth Dodgeball Grade 7-8 - Carol Stream Park District
LOCATION:Simkus - Court 2 (West)
CATEGORIES:QuickScores, Dodgeball Game
TRANSP:OPAQUE
BEGIN:VALARM
TRIGGER:-PT2H
ACTION:DISPLAY
DESCRIPTION:Dodge My Balls vs. Ball Blasters
END:VALARM
END:VEVENT
BEGIN:VEVENT
UID:csparks-67490775-20250221T210000@quickscores.com
DTSTAMP:20260425T162400Z
DTSTART;TZID=America/Chicago:20250221T210000
DURATION:PT0H20M0S
SUMMARY:Dodge My Balls vs. Ball Blasters
DESCRIPTION:Youth Dodgeball Grade 7-8 - Carol Stream Park District
LOCATION:Simkus - Court 2 (West)
CATEGORIES:QuickScores, Dodgeball Game
TRANSP:OPAQUE
BEGIN:VALARM
TRIGGER:-PT2H
ACTION:DISPLAY
DESCRIPTION:Dodge My Balls vs. Ball Blasters
END:VALARM
END:VEVENT
BEGIN:VEVENT
UID:csparks-67496350-20250228T202000@quickscores.com
DTSTAMP:20260425T162400Z
DTSTART;TZID=America/Chicago:20250228T202000
DURATION:PT0H20M0S
SUMMARY:Ball Blasters vs. Dodge My Balls
DESCRIPTION:Youth Dodgeball Grade 7-8 - Carol Stream Park District
LOCATION:Simkus - Court 2 (West)
CATEGORIES:QuickScores, Dodgeball Game
TRANSP:OPAQUE
BEGIN:VALARM
TRIGGER:-PT2H
ACTION:DISPLAY
DESCRIPTION:Ball Blasters vs. Dodge My Balls
END:VALARM
END:VEVENT
BEGIN:VEVENT
UID:csparks-66477751-20250228T212000@quickscores.com
DTSTAMP:20260425T162400Z
DTSTART;TZID=America/Chicago:20250228T212000
DURATION:PT0H20M0S
SUMMARY:Ball Blasters vs. Dodge Chargers
DESCRIPTION:Youth Dodgeball Grade 7-8 - Carol Stream Park District
LOCATION:Simkus - Court 1 (East)
CATEGORIES:QuickScores, Dodgeball Game
TRANSP:OPAQUE
BEGIN:VALARM
TRIGGER:-PT2H
ACTION:DISPLAY
DESCRIPTION:Ball Blasters vs. Dodge Chargers
END:VALARM
END:VEVENT
BEGIN:VEVENT
UID:csparks-67496349-20250228T214000@quickscores.com
DTSTAMP:20260425T162400Z
DTSTART;TZID=America/Chicago:20250228T214000
DURATION:PT0H20M0S
SUMMARY:Ball Blasters vs. Dodge Chargers
DESCRIPTION:Youth Dodgeball Grade 7-8 - Carol Stream Park District
LOCATION:Simkus - Court 1 (East)
CATEGORIES:QuickScores, Dodgeball Game
TRANSP:OPAQUE
BEGIN:VALARM
TRIGGER:-PT2H
ACTION:DISPLAY
DESCRIPTION:Ball Blasters vs. Dodge Chargers
END:VALARM
END:VEVENT
BEGIN:VEVENT
UID:csparks-67276311-20250307T202000@quickscores.com
DTSTAMP:20260425T162400Z
DTSTART;TZID=America/Chicago:20250307T202000
DURATION:PT0H20M0S
SUMMARY:[4] Ball Blasters vs. [5] Dodge My Balls
DESCRIPTION:Youth Dodgeball Grade 7-8 - Carol Stream Park District
LOCATION:Simkus - Court 1 (East)
CATEGORIES:QuickScores, Dodgeball Game
TRANSP:OPAQUE
BEGIN:VALARM
TRIGGER:-PT2H
ACTION:DISPLAY
DESCRIPTION:[4] Ball Blasters vs. [5] Dodge My Balls
END:VALARM
END:VEVENT
BEGIN:VEVENT
UID:csparks-67276314-20250307T204000@quickscores.com
DTSTAMP:20260425T162400Z
DTSTART;TZID=America/Chicago:20250307T204000
DURATION:PT0H20M0S
SUMMARY:[1] Cougars vs. [4] Ball Blasters
DESCRIPTION:Youth Dodgeball Grade 7-8 - Carol Stream Park District
LOCATION:Simkus - Court 2 (West)
CATEGORIES:QuickScores, Dodgeball Game
TRANSP:OPAQUE
BEGIN:VALARM
TRIGGER:-PT2H
ACTION:DISPLAY
DESCRIPTION:[1] Cougars vs. [4] Ball Blasters
END:VALARM
END:VEVENT
BEGIN:VEVENT
UID:csparks-67276320-20250314T192000@quickscores.com
DTSTAMP:20260425T162400Z
DTSTART;TZID=America/Chicago:20250314T192000
DURATION:PT0H20M0S
SUMMARY:[4] Ball Blasters vs. [2] Dodge Chargers
DESCRIPTION:Youth Dodgeball Grade 7-8 - Carol Stream Park District
LOCATION:Simkus - Court 1 (East)
CATEGORIES:QuickScores, Dodgeball Game
TRANSP:OPAQUE
BEGIN:VALARM
TRIGGER:-PT2H
ACTION:DISPLAY
DESCRIPTION:[4] Ball Blasters vs. [2] Dodge Chargers
END:VALARM
END:VEVENT
BEGIN:VEVENT
UID:csparks-67276322-20250314T194000@quickscores.com
DTSTAMP:20260425T162400Z
DTSTART;TZID=America/Chicago:20250314T194000
DURATION:PT0H20M0S
SUMMARY:[4] Ball Blasters vs. [1] Cougars
DESCRIPTION:Youth Dodgeball Grade 7-8 - Carol Stream Park District
LOCATION:Simkus - Court 1 (East)
CATEGORIES:QuickScores, Dodgeball Game
TRANSP:OPAQUE
BEGIN:VALARM
TRIGGER:-PT2H
ACTION:DISPLAY
DESCRIPTION:[4] Ball Blasters vs. [1] Cougars
END:VALARM
END:VEVENT
END:VCALENDAR
