BEGIN:VCALENDAR
VERSION:2.0
PRODID:-//QuickScores.com//BQ Dynamic iCal Creator//EN
METHOD:PUBLISH
X-WR-CALNAME:Legend - Youth Dodgeball Grade 7-8 - Winter 2025
X-WR-CALDESC:QuickScores game calendar
X-PUBLISHED-TTL:PT24H
REFRESH-INTERVAL;VALUE=DURATION:PT24H
CALSCALE:GREGORIAN
BEGIN:VTIMEZONE
TZID:America/Chicago
X-LIC-LOCATION:America/Chicago
BEGIN:DAYLIGHT
TZNAME:CDT
TZOFFSETFROM:-0600
TZOFFSETTO:-0500
DTSTART:19700308T020000
RRULE:FREQ=YEARLY;BYMONTH=3;BYDAY=2SU
END:DAYLIGHT
BEGIN:STANDARD
TZNAME:CST
TZOFFSETFROM:-0500
TZOFFSETTO:-0600
DTSTART:19701101T020000
RRULE:FREQ=YEARLY;BYMONTH=11;BYDAY=1SU
END:STANDARD
END:VTIMEZONE
BEGIN:VEVENT
UID:csparks-66477721-20250110T204000@quickscores.com
DTSTAMP:20260425T121700Z
DTSTART;TZID=America/Chicago:20250110T204000
DURATION:PT0H20M0S
SUMMARY:Legend vs. Pickle Goats
DESCRIPTION:Youth Dodgeball Grade 7-8 - Carol Stream Park District
LOCATION:Simkus - Court 2 (West)
CATEGORIES:QuickScores, Dodgeball Game
TRANSP:OPAQUE
BEGIN:VALARM
TRIGGER:-PT2H
ACTION:DISPLAY
DESCRIPTION:Legend vs. Pickle Goats
END:VALARM
END:VEVENT
BEGIN:VEVENT
UID:csparks-66790486-20250110T210000@quickscores.com
DTSTAMP:20260425T121700Z
DTSTART;TZID=America/Chicago:20250110T210000
DURATION:PT0H20M0S
SUMMARY:Legend vs. Pickle Goats
DESCRIPTION:Youth Dodgeball Grade 7-8 - Carol Stream Park District
LOCATION:Simkus - Court 2 (West)
CATEGORIES:QuickScores, Dodgeball Game
TRANSP:OPAQUE
BEGIN:VALARM
TRIGGER:-PT2H
ACTION:DISPLAY
DESCRIPTION:Legend vs. Pickle Goats
END:VALARM
END:VEVENT
BEGIN:VEVENT
UID:csparks-66477727-20250117T204000@quickscores.com
DTSTAMP:20260425T121700Z
DTSTART;TZID=America/Chicago:20250117T204000
DURATION:PT0H20M0S
SUMMARY:Ball Busters vs. Legend
DESCRIPTION:Youth Dodgeball Grade 7-8 - Carol Stream Park District
LOCATION:Simkus - Court 1 (East)
CATEGORIES:QuickScores, Dodgeball Game
TRANSP:OPAQUE
BEGIN:VALARM
TRIGGER:-PT2H
ACTION:DISPLAY
DESCRIPTION:Ball Busters vs. Legend
END:VALARM
END:VEVENT
BEGIN:VEVENT
UID:csparks-66899259-20250117T210000@quickscores.com
DTSTAMP:20260425T121700Z
DTSTART;TZID=America/Chicago:20250117T210000
DURATION:PT0H20M0S
SUMMARY:Ball Busters vs. Legend
DESCRIPTION:Youth Dodgeball Grade 7-8 - Carol Stream Park District
LOCATION:Simkus - Court 1 (East)
CATEGORIES:QuickScores, Dodgeball Game
TRANSP:OPAQUE
BEGIN:VALARM
TRIGGER:-PT2H
ACTION:DISPLAY
DESCRIPTION:Ball Busters vs. Legend
END:VALARM
END:VEVENT
BEGIN:VEVENT
UID:csparks-66477730-20250124T200000@quickscores.com
DTSTAMP:20260425T121700Z
DTSTART;TZID=America/Chicago:20250124T200000
DURATION:PT0H20M0S
SUMMARY:Legend vs. Dodge My Balls
DESCRIPTION:Youth Dodgeball Grade 7-8 - Carol Stream Park District
LOCATION:Simkus - Court 2 (West)
CATEGORIES:QuickScores, Dodgeball Game
TRANSP:OPAQUE
BEGIN:VALARM
TRIGGER:-PT2H
ACTION:DISPLAY
DESCRIPTION:Legend vs. Dodge My Balls
END:VALARM
END:VEVENT
BEGIN:VEVENT
UID:csparks-66971911-20250124T202000@quickscores.com
DTSTAMP:20260425T121700Z
DTSTART;TZID=America/Chicago:20250124T202000
DURATION:PT0H20M0S
SUMMARY:Legend vs. Dodge My Balls
DESCRIPTION:Youth Dodgeball Grade 7-8 - Carol Stream Park District
LOCATION:Simkus - Court 2 (West)
CATEGORIES:QuickScores, Dodgeball Game
TRANSP:OPAQUE
BEGIN:VALARM
TRIGGER:-PT2H
ACTION:DISPLAY
DESCRIPTION:Legend vs. Dodge My Balls
END:VALARM
END:VEVENT
BEGIN:VEVENT
UID:csparks-66477742-20250207T212000@quickscores.com
DTSTAMP:20260425T121700Z
DTSTART;TZID=America/Chicago:20250207T212000
DURATION:PT0H20M0S
SUMMARY:Dodge Chargers vs. Legend
DESCRIPTION:Time change --- Youth Dodgeball Grade 7-8 - Carol Stream Park District
LOCATION:Simkus - Court 2 (West)
CATEGORIES:QuickScores, Dodgeball Game
TRANSP:OPAQUE
BEGIN:VALARM
TRIGGER:-PT2H
ACTION:DISPLAY
DESCRIPTION:Dodge Chargers vs. Legend
END:VALARM
END:VEVENT
BEGIN:VEVENT
UID:csparks-67181036-20250207T214000@quickscores.com
DTSTAMP:20260425T121700Z
DTSTART;TZID=America/Chicago:20250207T214000
DURATION:PT0H20M0S
SUMMARY:Dodge Chargers vs. Legend
DESCRIPTION:Youth Dodgeball Grade 7-8 - Carol Stream Park District
LOCATION:Simkus - Court 2 (West)
CATEGORIES:QuickScores, Dodgeball Game
TRANSP:OPAQUE
BEGIN:VALARM
TRIGGER:-PT2H
ACTION:DISPLAY
DESCRIPTION:Dodge Chargers vs. Legend
END:VALARM
END:VEVENT
BEGIN:VEVENT
UID:csparks-66477746-20250214T192000@quickscores.com
DTSTAMP:20260425T121700Z
DTSTART;TZID=America/Chicago:20250214T192000
DURATION:PT0H20M0S
SUMMARY:Ball Blasters vs. Legend
DESCRIPTION:Youth Dodgeball Grade 7-8 - Carol Stream Park District
LOCATION:Simkus - Court 2 (West)
CATEGORIES:QuickScores, Dodgeball Game
TRANSP:OPAQUE
BEGIN:VALARM
TRIGGER:-PT2H
ACTION:DISPLAY
DESCRIPTION:Ball Blasters vs. Legend
END:VALARM
END:VEVENT
BEGIN:VEVENT
UID:csparks-67304101-20250214T194000@quickscores.com
DTSTAMP:20260425T121700Z
DTSTART;TZID=America/Chicago:20250214T194000
DURATION:PT0H20M0S
SUMMARY:Ball Blasters vs. Legend
DESCRIPTION:Youth Dodgeball Grade 7-8 - Carol Stream Park District
LOCATION:Simkus - Court 2 (West)
CATEGORIES:QuickScores, Dodgeball Game
TRANSP:OPAQUE
BEGIN:VALARM
TRIGGER:-PT2H
ACTION:DISPLAY
DESCRIPTION:Ball Blasters vs. Legend
END:VALARM
END:VEVENT
BEGIN:VEVENT
UID:csparks-66477744-20250214T200000@quickscores.com
DTSTAMP:20260425T121700Z
DTSTART;TZID=America/Chicago:20250214T200000
DURATION:PT0H20M0S
SUMMARY:Legend vs. Dodge Chargers
DESCRIPTION:Youth Dodgeball Grade 7-8 - Carol Stream Park District
LOCATION:Simkus - Court 2 (West)
CATEGORIES:QuickScores, Dodgeball Game
TRANSP:OPAQUE
BEGIN:VALARM
TRIGGER:-PT2H
ACTION:DISPLAY
DESCRIPTION:Legend vs. Dodge Chargers
END:VALARM
END:VEVENT
BEGIN:VEVENT
UID:csparks-67304102-20250214T202000@quickscores.com
DTSTAMP:20260425T121700Z
DTSTART;TZID=America/Chicago:20250214T202000
DURATION:PT0H20M0S
SUMMARY:Legend vs. Dodge Chargers
DESCRIPTION:Youth Dodgeball Grade 7-8 - Carol Stream Park District
LOCATION:Simkus - Court 2 (West)
CATEGORIES:QuickScores, Dodgeball Game
TRANSP:OPAQUE
BEGIN:VALARM
TRIGGER:-PT2H
ACTION:DISPLAY
DESCRIPTION:Legend vs. Dodge Chargers
END:VALARM
END:VEVENT
BEGIN:VEVENT
UID:csparks-66477750-20250221T200000@quickscores.com
DTSTAMP:20260425T121700Z
DTSTART;TZID=America/Chicago:20250221T200000
DURATION:PT0H20M0S
SUMMARY:Legend vs. Ball Blasters
DESCRIPTION:Youth Dodgeball Grade 7-8 - Carol Stream Park District
LOCATION:Simkus - Court 2 (West)
CATEGORIES:QuickScores, Dodgeball Game
TRANSP:OPAQUE
BEGIN:VALARM
TRIGGER:-PT2H
ACTION:DISPLAY
DESCRIPTION:Legend vs. Ball Blasters
END:VALARM
END:VEVENT
BEGIN:VEVENT
UID:csparks-67490774-20250221T202000@quickscores.com
DTSTAMP:20260425T121700Z
DTSTART;TZID=America/Chicago:20250221T202000
DURATION:PT0H20M0S
SUMMARY:Legend vs. Ball Blasters
DESCRIPTION:Youth Dodgeball Grade 7-8 - Carol Stream Park District
LOCATION:Simkus - Court 2 (West)
CATEGORIES:QuickScores, Dodgeball Game
TRANSP:OPAQUE
BEGIN:VALARM
TRIGGER:-PT2H
ACTION:DISPLAY
DESCRIPTION:Legend vs. Ball Blasters
END:VALARM
END:VEVENT
BEGIN:VEVENT
UID:csparks-66477753-20250228T204000@quickscores.com
DTSTAMP:20260425T121700Z
DTSTART;TZID=America/Chicago:20250228T204000
DURATION:PT0H20M0S
SUMMARY:Cougars vs. Legend
DESCRIPTION:Youth Dodgeball Grade 7-8 - Carol Stream Park District
LOCATION:Simkus - Court 1 (East)
CATEGORIES:QuickScores, Dodgeball Game
TRANSP:OPAQUE
BEGIN:VALARM
TRIGGER:-PT2H
ACTION:DISPLAY
DESCRIPTION:Cougars vs. Legend
END:VALARM
END:VEVENT
BEGIN:VEVENT
UID:csparks-67496348-20250228T210000@quickscores.com
DTSTAMP:20260425T121700Z
DTSTART;TZID=America/Chicago:20250228T210000
DURATION:PT0H20M0S
SUMMARY:Cougars vs. Legend
DESCRIPTION:Youth Dodgeball Grade 7-8 - Carol Stream Park District
LOCATION:Simkus - Court 1 (East)
CATEGORIES:QuickScores, Dodgeball Game
TRANSP:OPAQUE
BEGIN:VALARM
TRIGGER:-PT2H
ACTION:DISPLAY
DESCRIPTION:Cougars vs. Legend
END:VALARM
END:VEVENT
BEGIN:VEVENT
UID:csparks-67276313-20250307T200000@quickscores.com
DTSTAMP:20260425T121700Z
DTSTART;TZID=America/Chicago:20250307T200000
DURATION:PT0H20M0S
SUMMARY:[3] Legend vs. [6] Pickle Goats
DESCRIPTION:Youth Dodgeball Grade 7-8 - Carol Stream Park District
LOCATION:Simkus - Court 1 (East)
CATEGORIES:QuickScores, Dodgeball Game
TRANSP:OPAQUE
BEGIN:VALARM
TRIGGER:-PT2H
ACTION:DISPLAY
DESCRIPTION:[3] Legend vs. [6] Pickle Goats
END:VALARM
END:VEVENT
BEGIN:VEVENT
UID:csparks-67276317-20250307T202000@quickscores.com
DTSTAMP:20260425T121700Z
DTSTART;TZID=America/Chicago:20250307T202000
DURATION:PT0H20M0S
SUMMARY:[7] Ball Busters vs. [3] Legend
DESCRIPTION:Youth Dodgeball Grade 7-8 - Carol Stream Park District
LOCATION:Simkus - Court 2 (West)
CATEGORIES:QuickScores, Dodgeball Game
TRANSP:OPAQUE
BEGIN:VALARM
TRIGGER:-PT2H
ACTION:DISPLAY
DESCRIPTION:[7] Ball Busters vs. [3] Legend
END:VALARM
END:VEVENT
BEGIN:VEVENT
UID:csparks-67276319-20250307T210000@quickscores.com
DTSTAMP:20260425T121700Z
DTSTART;TZID=America/Chicago:20250307T210000
DURATION:PT0H20M0S
SUMMARY:[1] Cougars vs. [3] Legend
DESCRIPTION:Youth Dodgeball Grade 7-8 - Carol Stream Park District
LOCATION:Simkus - Court 1 (East)
CATEGORIES:QuickScores, Dodgeball Game
TRANSP:OPAQUE
BEGIN:VALARM
TRIGGER:-PT2H
ACTION:DISPLAY
DESCRIPTION:[1] Cougars vs. [3] Legend
END:VALARM
END:VEVENT
END:VCALENDAR
