BEGIN:VCALENDAR
VERSION:2.0
PRODID:-//QuickScores.com//BQ Dynamic iCal Creator//EN
METHOD:PUBLISH
X-WR-CALNAME:Dodge My Balls - Youth Dodgeball Grade 7-8 - Winter 2025
X-WR-CALDESC:QuickScores game calendar
X-PUBLISHED-TTL:PT24H
REFRESH-INTERVAL;VALUE=DURATION:PT24H
CALSCALE:GREGORIAN
BEGIN:VTIMEZONE
TZID:America/Chicago
X-LIC-LOCATION:America/Chicago
BEGIN:DAYLIGHT
TZNAME:CDT
TZOFFSETFROM:-0600
TZOFFSETTO:-0500
DTSTART:19700308T020000
RRULE:FREQ=YEARLY;BYMONTH=3;BYDAY=2SU
END:DAYLIGHT
BEGIN:STANDARD
TZNAME:CST
TZOFFSETFROM:-0500
TZOFFSETTO:-0600
DTSTART:19701101T020000
RRULE:FREQ=YEARLY;BYMONTH=11;BYDAY=1SU
END:STANDARD
END:VTIMEZONE
BEGIN:VEVENT
UID:csparks-66477723-20250110T204000@quickscores.com
DTSTAMP:20260425T095500Z
DTSTART;TZID=America/Chicago:20250110T204000
DURATION:PT0H20M0S
SUMMARY:Dodge Chargers vs. Dodge My Balls
DESCRIPTION:Youth Dodgeball Grade 7-8 - Carol Stream Park District
LOCATION:Simkus - Court 1 (East)
CATEGORIES:QuickScores, Dodgeball Game
TRANSP:OPAQUE
BEGIN:VALARM
TRIGGER:-PT2H
ACTION:DISPLAY
DESCRIPTION:Dodge Chargers vs. Dodge My Balls
END:VALARM
END:VEVENT
BEGIN:VEVENT
UID:csparks-66790484-20250110T210000@quickscores.com
DTSTAMP:20260425T095500Z
DTSTART;TZID=America/Chicago:20250110T210000
DURATION:PT0H20M0S
SUMMARY:Dodge Chargers vs. Dodge My Balls
DESCRIPTION:Youth Dodgeball Grade 7-8 - Carol Stream Park District
LOCATION:Simkus - Court 1 (East)
CATEGORIES:QuickScores, Dodgeball Game
TRANSP:OPAQUE
BEGIN:VALARM
TRIGGER:-PT2H
ACTION:DISPLAY
DESCRIPTION:Dodge Chargers vs. Dodge My Balls
END:VALARM
END:VEVENT
BEGIN:VEVENT
UID:csparks-66477725-20250117T200000@quickscores.com
DTSTAMP:20260425T095500Z
DTSTART;TZID=America/Chicago:20250117T200000
DURATION:PT0H20M0S
SUMMARY:Dodge My Balls vs. Pickle Goats
DESCRIPTION:Youth Dodgeball Grade 7-8 - Carol Stream Park District
LOCATION:Simkus - Court 2 (West)
CATEGORIES:QuickScores, Dodgeball Game
TRANSP:OPAQUE
BEGIN:VALARM
TRIGGER:-PT2H
ACTION:DISPLAY
DESCRIPTION:Dodge My Balls vs. Pickle Goats
END:VALARM
END:VEVENT
BEGIN:VEVENT
UID:csparks-66899297-20250117T202000@quickscores.com
DTSTAMP:20260425T095500Z
DTSTART;TZID=America/Chicago:20250117T202000
DURATION:PT0H20M0S
SUMMARY:Dodge My Balls vs. Pickle Goats
DESCRIPTION:Youth Dodgeball Grade 7-8 - Carol Stream Park District
LOCATION:Simkus - Court 2 (West)
CATEGORIES:QuickScores, Dodgeball Game
TRANSP:OPAQUE
BEGIN:VALARM
TRIGGER:-PT2H
ACTION:DISPLAY
DESCRIPTION:Dodge My Balls vs. Pickle Goats
END:VALARM
END:VEVENT
BEGIN:VEVENT
UID:csparks-66477730-20250124T200000@quickscores.com
DTSTAMP:20260425T095500Z
DTSTART;TZID=America/Chicago:20250124T200000
DURATION:PT0H20M0S
SUMMARY:Legend vs. Dodge My Balls
DESCRIPTION:Youth Dodgeball Grade 7-8 - Carol Stream Park District
LOCATION:Simkus - Court 2 (West)
CATEGORIES:QuickScores, Dodgeball Game
TRANSP:OPAQUE
BEGIN:VALARM
TRIGGER:-PT2H
ACTION:DISPLAY
DESCRIPTION:Legend vs. Dodge My Balls
END:VALARM
END:VEVENT
BEGIN:VEVENT
UID:csparks-66971911-20250124T202000@quickscores.com
DTSTAMP:20260425T095500Z
DTSTART;TZID=America/Chicago:20250124T202000
DURATION:PT0H20M0S
SUMMARY:Legend vs. Dodge My Balls
DESCRIPTION:Youth Dodgeball Grade 7-8 - Carol Stream Park District
LOCATION:Simkus - Court 2 (West)
CATEGORIES:QuickScores, Dodgeball Game
TRANSP:OPAQUE
BEGIN:VALARM
TRIGGER:-PT2H
ACTION:DISPLAY
DESCRIPTION:Legend vs. Dodge My Balls
END:VALARM
END:VEVENT
BEGIN:VEVENT
UID:csparks-66477734-20250131T204000@quickscores.com
DTSTAMP:20260425T095500Z
DTSTART;TZID=America/Chicago:20250131T204000
DURATION:PT0H20M0S
SUMMARY:Dodge My Balls vs. Cougars
DESCRIPTION:Youth Dodgeball Grade 7-8 - Carol Stream Park District
LOCATION:Simkus - Court 2 (West)
CATEGORIES:QuickScores, Dodgeball Game
TRANSP:OPAQUE
BEGIN:VALARM
TRIGGER:-PT2H
ACTION:DISPLAY
DESCRIPTION:Dodge My Balls vs. Cougars
END:VALARM
END:VEVENT
BEGIN:VEVENT
UID:csparks-67088234-20250131T210000@quickscores.com
DTSTAMP:20260425T095500Z
DTSTART;TZID=America/Chicago:20250131T210000
DURATION:PT0H20M0S
SUMMARY:Dodge My Balls vs. Cougars
DESCRIPTION:Youth Dodgeball Grade 7-8 - Carol Stream Park District
LOCATION:Simkus - Court 2 (West)
CATEGORIES:QuickScores, Dodgeball Game
TRANSP:OPAQUE
BEGIN:VALARM
TRIGGER:-PT2H
ACTION:DISPLAY
DESCRIPTION:Dodge My Balls vs. Cougars
END:VALARM
END:VEVENT
BEGIN:VEVENT
UID:csparks-66477740-20250207T212000@quickscores.com
DTSTAMP:20260425T095500Z
DTSTART;TZID=America/Chicago:20250207T212000
DURATION:PT0H20M0S
SUMMARY:Cougars vs. Dodge My Balls
DESCRIPTION:Youth Dodgeball Grade 7-8 - Carol Stream Park District
LOCATION:Simkus - Court 1 (East)
CATEGORIES:QuickScores, Dodgeball Game
TRANSP:OPAQUE
BEGIN:VALARM
TRIGGER:-PT2H
ACTION:DISPLAY
DESCRIPTION:Cougars vs. Dodge My Balls
END:VALARM
END:VEVENT
BEGIN:VEVENT
UID:csparks-67181034-20250207T214000@quickscores.com
DTSTAMP:20260425T095500Z
DTSTART;TZID=America/Chicago:20250207T214000
DURATION:PT0H20M0S
SUMMARY:Cougars vs. Dodge My Balls
DESCRIPTION:Youth Dodgeball Grade 7-8 - Carol Stream Park District
LOCATION:Simkus - Court 1 (East)
CATEGORIES:QuickScores, Dodgeball Game
TRANSP:OPAQUE
BEGIN:VALARM
TRIGGER:-PT2H
ACTION:DISPLAY
DESCRIPTION:Cougars vs. Dodge My Balls
END:VALARM
END:VEVENT
BEGIN:VEVENT
UID:csparks-66477745-20250214T204000@quickscores.com
DTSTAMP:20260425T095500Z
DTSTART;TZID=America/Chicago:20250214T204000
DURATION:PT0H20M0S
SUMMARY:Dodge My Balls vs. Ball Busters
DESCRIPTION:Youth Dodgeball Grade 7-8 - Carol Stream Park District
LOCATION:Simkus - Court 2 (West)
CATEGORIES:QuickScores, Dodgeball Game
TRANSP:OPAQUE
BEGIN:VALARM
TRIGGER:-PT2H
ACTION:DISPLAY
DESCRIPTION:Dodge My Balls vs. Ball Busters
END:VALARM
END:VEVENT
BEGIN:VEVENT
UID:csparks-67304103-20250214T210000@quickscores.com
DTSTAMP:20260425T095500Z
DTSTART;TZID=America/Chicago:20250214T210000
DURATION:PT0H20M0S
SUMMARY:Dodge My Balls vs. Ball Busters
DESCRIPTION:Youth Dodgeball Grade 7-8 - Carol Stream Park District
LOCATION:Simkus - Court 2 (West)
CATEGORIES:QuickScores, Dodgeball Game
TRANSP:OPAQUE
BEGIN:VALARM
TRIGGER:-PT2H
ACTION:DISPLAY
DESCRIPTION:Dodge My Balls vs. Ball Busters
END:VALARM
END:VEVENT
BEGIN:VEVENT
UID:csparks-66477749-20250221T204000@quickscores.com
DTSTAMP:20260425T095500Z
DTSTART;TZID=America/Chicago:20250221T204000
DURATION:PT0H20M0S
SUMMARY:Dodge My Balls vs. Ball Blasters
DESCRIPTION:Youth Dodgeball Grade 7-8 - Carol Stream Park District
LOCATION:Simkus - Court 2 (West)
CATEGORIES:QuickScores, Dodgeball Game
TRANSP:OPAQUE
BEGIN:VALARM
TRIGGER:-PT2H
ACTION:DISPLAY
DESCRIPTION:Dodge My Balls vs. Ball Blasters
END:VALARM
END:VEVENT
BEGIN:VEVENT
UID:csparks-67490775-20250221T210000@quickscores.com
DTSTAMP:20260425T095500Z
DTSTART;TZID=America/Chicago:20250221T210000
DURATION:PT0H20M0S
SUMMARY:Dodge My Balls vs. Ball Blasters
DESCRIPTION:Youth Dodgeball Grade 7-8 - Carol Stream Park District
LOCATION:Simkus - Court 2 (West)
CATEGORIES:QuickScores, Dodgeball Game
TRANSP:OPAQUE
BEGIN:VALARM
TRIGGER:-PT2H
ACTION:DISPLAY
DESCRIPTION:Dodge My Balls vs. Ball Blasters
END:VALARM
END:VEVENT
BEGIN:VEVENT
UID:csparks-66477754-20250228T200000@quickscores.com
DTSTAMP:20260425T095500Z
DTSTART;TZID=America/Chicago:20250228T200000
DURATION:PT0H20M0S
SUMMARY:Ball Busters vs. Dodge My Balls
DESCRIPTION:Youth Dodgeball Grade 7-8 - Carol Stream Park District
LOCATION:Simkus - Court 2 (West)
CATEGORIES:QuickScores, Dodgeball Game
TRANSP:OPAQUE
BEGIN:VALARM
TRIGGER:-PT2H
ACTION:DISPLAY
DESCRIPTION:Ball Busters vs. Dodge My Balls
END:VALARM
END:VEVENT
BEGIN:VEVENT
UID:csparks-67496350-20250228T202000@quickscores.com
DTSTAMP:20260425T095500Z
DTSTART;TZID=America/Chicago:20250228T202000
DURATION:PT0H20M0S
SUMMARY:Ball Blasters vs. Dodge My Balls
DESCRIPTION:Youth Dodgeball Grade 7-8 - Carol Stream Park District
LOCATION:Simkus - Court 2 (West)
CATEGORIES:QuickScores, Dodgeball Game
TRANSP:OPAQUE
BEGIN:VALARM
TRIGGER:-PT2H
ACTION:DISPLAY
DESCRIPTION:Ball Blasters vs. Dodge My Balls
END:VALARM
END:VEVENT
BEGIN:VEVENT
UID:csparks-67276311-20250307T202000@quickscores.com
DTSTAMP:20260425T095500Z
DTSTART;TZID=America/Chicago:20250307T202000
DURATION:PT0H20M0S
SUMMARY:[4] Ball Blasters vs. [5] Dodge My Balls
DESCRIPTION:Youth Dodgeball Grade 7-8 - Carol Stream Park District
LOCATION:Simkus - Court 1 (East)
CATEGORIES:QuickScores, Dodgeball Game
TRANSP:OPAQUE
BEGIN:VALARM
TRIGGER:-PT2H
ACTION:DISPLAY
DESCRIPTION:[4] Ball Blasters vs. [5] Dodge My Balls
END:VALARM
END:VEVENT
BEGIN:VEVENT
UID:csparks-67276318-20250307T210000@quickscores.com
DTSTAMP:20260425T095500Z
DTSTART;TZID=America/Chicago:20250307T210000
DURATION:PT0H20M0S
SUMMARY:[6] Pickle Goats vs. [5] Dodge My Balls
DESCRIPTION:Youth Dodgeball Grade 7-8 - Carol Stream Park District
LOCATION:Simkus - Court 2 (West)
CATEGORIES:QuickScores, Dodgeball Game
TRANSP:OPAQUE
BEGIN:VALARM
TRIGGER:-PT2H
ACTION:DISPLAY
DESCRIPTION:[6] Pickle Goats vs. [5] Dodge My Balls
END:VALARM
END:VEVENT
END:VCALENDAR
