BEGIN:VCALENDAR
VERSION:2.0
PRODID:-//QuickScores.com//BQ Dynamic iCal Creator//EN
METHOD:PUBLISH
X-WR-CALNAME:Warriors - Slawinski - Youth Basketball Practices - 7th/8th Grade Boys - Winter 2025
X-WR-CALDESC:QuickScores game calendar
X-PUBLISHED-TTL:PT24H
REFRESH-INTERVAL;VALUE=DURATION:PT24H
CALSCALE:GREGORIAN
BEGIN:VTIMEZONE
TZID:America/Chicago
X-LIC-LOCATION:America/Chicago
BEGIN:DAYLIGHT
TZNAME:CDT
TZOFFSETFROM:-0600
TZOFFSETTO:-0500
DTSTART:19700308T020000
RRULE:FREQ=YEARLY;BYMONTH=3;BYDAY=2SU
END:DAYLIGHT
BEGIN:STANDARD
TZNAME:CST
TZOFFSETFROM:-0500
TZOFFSETTO:-0600
DTSTART:19701101T020000
RRULE:FREQ=YEARLY;BYMONTH=11;BYDAY=1SU
END:STANDARD
END:VTIMEZONE
BEGIN:VEVENT
UID:csparks-66101755-20241204T200000@quickscores.com
DTSTAMP:20260423T161800Z
DTSTART;TZID=America/Chicago:20241204T200000
DURATION:PT1H30M0S
SUMMARY:Warriors - Slawinski vs. Warriors - Slawinski
DESCRIPTION:Youth Basketball Practices - 7th/8th Grade Boys - Carol Stream Park District
LOCATION:Jay Stream - Small Gym - Full
CATEGORIES:QuickScores, Facilities Game
TRANSP:OPAQUE
BEGIN:VALARM
TRIGGER:-PT2H
ACTION:DISPLAY
DESCRIPTION:Warriors - Slawinski vs. Warriors - Slawinski
END:VALARM
END:VEVENT
BEGIN:VEVENT
UID:csparks-66101756-20241211T200000@quickscores.com
DTSTAMP:20260423T161800Z
DTSTART;TZID=America/Chicago:20241211T200000
DURATION:PT1H30M0S
SUMMARY:Warriors - Slawinski vs. Warriors - Slawinski
DESCRIPTION:Youth Basketball Practices - 7th/8th Grade Boys - Carol Stream Park District
LOCATION:Jay Stream - Small Gym - Full
CATEGORIES:QuickScores, Facilities Game
TRANSP:OPAQUE
BEGIN:VALARM
TRIGGER:-PT2H
ACTION:DISPLAY
DESCRIPTION:Warriors - Slawinski vs. Warriors - Slawinski
END:VALARM
END:VEVENT
BEGIN:VEVENT
UID:csparks-66101762-20241215T140000@quickscores.com
DTSTAMP:20260423T161800Z
DTSTART;TZID=America/Chicago:20241215T140000
DURATION:PT1H0M0S
SUMMARY:Warriors - Slawinski vs. Warriors - Slawinski
DESCRIPTION:Youth Basketball Practices - 7th/8th Grade Boys - Carol Stream Park District
LOCATION:Fountain View - Court 1
CATEGORIES:QuickScores, Facilities Game
TRANSP:OPAQUE
BEGIN:VALARM
TRIGGER:-PT2H
ACTION:DISPLAY
DESCRIPTION:Warriors - Slawinski vs. Warriors - Slawinski
END:VALARM
END:VEVENT
BEGIN:VEVENT
UID:csparks-66101757-20241218T200000@quickscores.com
DTSTAMP:20260423T161800Z
DTSTART;TZID=America/Chicago:20241218T200000
DURATION:PT1H30M0S
SUMMARY:Warriors - Slawinski vs. Warriors - Slawinski
DESCRIPTION:Youth Basketball Practices - 7th/8th Grade Boys - Carol Stream Park District
LOCATION:Jay Stream - Small Gym - Full
CATEGORIES:QuickScores, Facilities Game
TRANSP:OPAQUE
BEGIN:VALARM
TRIGGER:-PT2H
ACTION:DISPLAY
DESCRIPTION:Warriors - Slawinski vs. Warriors - Slawinski
END:VALARM
END:VEVENT
BEGIN:VEVENT
UID:csparks-66101772-20241222T123000@quickscores.com
DTSTAMP:20260423T161800Z
DTSTART;TZID=America/Chicago:20241222T123000
DURATION:PT1H0M0S
SUMMARY:Warriors - Slawinski vs. Warriors - Slawinski
DESCRIPTION:Youth Basketball Practices - 7th/8th Grade Boys - Carol Stream Park District
LOCATION:Fountain View - Court 1
CATEGORIES:QuickScores, Facilities Game
TRANSP:OPAQUE
BEGIN:VALARM
TRIGGER:-PT2H
ACTION:DISPLAY
DESCRIPTION:Warriors - Slawinski vs. Warriors - Slawinski
END:VALARM
END:VEVENT
BEGIN:VEVENT
UID:csparks-66467932-20250108T200000@quickscores.com
DTSTAMP:20260423T161800Z
DTSTART;TZID=America/Chicago:20250108T200000
DURATION:PT1H30M0S
SUMMARY:Warriors - Slawinski vs. Warriors - Slawinski
DESCRIPTION:Youth Basketball Practices - 7th/8th Grade Boys - Carol Stream Park District
LOCATION:Jay Stream - Small Gym - Full
CATEGORIES:QuickScores, Facilities Game
TRANSP:OPAQUE
BEGIN:VALARM
TRIGGER:-PT2H
ACTION:DISPLAY
DESCRIPTION:Warriors - Slawinski vs. Warriors - Slawinski
END:VALARM
END:VEVENT
BEGIN:VEVENT
UID:csparks-66467933-20250115T200000@quickscores.com
DTSTAMP:20260423T161800Z
DTSTART;TZID=America/Chicago:20250115T200000
DURATION:PT1H30M0S
SUMMARY:Warriors - Slawinski vs. Warriors - Slawinski
DESCRIPTION:Youth Basketball Practices - 7th/8th Grade Boys - Carol Stream Park District
LOCATION:Jay Stream - Small Gym - Full
CATEGORIES:QuickScores, Facilities Game
TRANSP:OPAQUE
BEGIN:VALARM
TRIGGER:-PT2H
ACTION:DISPLAY
DESCRIPTION:Warriors - Slawinski vs. Warriors - Slawinski
END:VALARM
END:VEVENT
BEGIN:VEVENT
UID:csparks-66467934-20250122T200000@quickscores.com
DTSTAMP:20260423T161800Z
DTSTART;TZID=America/Chicago:20250122T200000
DURATION:PT1H30M0S
SUMMARY:Warriors - Slawinski vs. Warriors - Slawinski
DESCRIPTION:Youth Basketball Practices - 7th/8th Grade Boys - Carol Stream Park District
LOCATION:Jay Stream - Small Gym - Full
CATEGORIES:QuickScores, Facilities Game
TRANSP:OPAQUE
BEGIN:VALARM
TRIGGER:-PT2H
ACTION:DISPLAY
DESCRIPTION:Warriors - Slawinski vs. Warriors - Slawinski
END:VALARM
END:VEVENT
BEGIN:VEVENT
UID:csparks-66467935-20250129T200000@quickscores.com
DTSTAMP:20260423T161800Z
DTSTART;TZID=America/Chicago:20250129T200000
DURATION:PT1H30M0S
SUMMARY:Warriors - Slawinski vs. Warriors - Slawinski
DESCRIPTION:Youth Basketball Practices - 7th/8th Grade Boys - Carol Stream Park District
LOCATION:Jay Stream - Small Gym - Full
CATEGORIES:QuickScores, Facilities Game
TRANSP:OPAQUE
BEGIN:VALARM
TRIGGER:-PT2H
ACTION:DISPLAY
DESCRIPTION:Warriors - Slawinski vs. Warriors - Slawinski
END:VALARM
END:VEVENT
BEGIN:VEVENT
UID:csparks-66467872-20250205T200000@quickscores.com
DTSTAMP:20260423T161800Z
DTSTART;TZID=America/Chicago:20250205T200000
DURATION:PT1H30M0S
SUMMARY:Nets - Hernandez vs. Warriors - Slawinski
DESCRIPTION:Sharing Court --- Youth Basketball Practices - 7th/8th Grade Boys - Carol Stream Park District
LOCATION:Jay Stream - Large Gym - Full
CATEGORIES:QuickScores, Facilities Game
TRANSP:OPAQUE
BEGIN:VALARM
TRIGGER:-PT2H
ACTION:DISPLAY
DESCRIPTION:Nets - Hernandez vs. Warriors - Slawinski
END:VALARM
END:VEVENT
BEGIN:VEVENT
UID:csparks-66467937-20250212T200000@quickscores.com
DTSTAMP:20260423T161800Z
DTSTART;TZID=America/Chicago:20250212T200000
DURATION:PT1H30M0S
SUMMARY:Warriors - Slawinski vs. Warriors - Slawinski
DESCRIPTION:Youth Basketball Practices - 7th/8th Grade Boys - Carol Stream Park District
LOCATION:Jay Stream - Small Gym - Full
CATEGORIES:QuickScores, Facilities Game
TRANSP:OPAQUE
BEGIN:VALARM
TRIGGER:-PT2H
ACTION:DISPLAY
DESCRIPTION:Warriors - Slawinski vs. Warriors - Slawinski
END:VALARM
END:VEVENT
BEGIN:VEVENT
UID:csparks-66467938-20250219T200000@quickscores.com
DTSTAMP:20260423T161800Z
DTSTART;TZID=America/Chicago:20250219T200000
DURATION:PT1H30M0S
SUMMARY:Warriors - Slawinski vs. Warriors - Slawinski
DESCRIPTION:Youth Basketball Practices - 7th/8th Grade Boys - Carol Stream Park District
LOCATION:Jay Stream - Small Gym - Full
CATEGORIES:QuickScores, Facilities Game
TRANSP:OPAQUE
BEGIN:VALARM
TRIGGER:-PT2H
ACTION:DISPLAY
DESCRIPTION:Warriors - Slawinski vs. Warriors - Slawinski
END:VALARM
END:VEVENT
BEGIN:VEVENT
UID:csparks-66467939-20250226T200000@quickscores.com
DTSTAMP:20260423T161800Z
DTSTART;TZID=America/Chicago:20250226T200000
DURATION:PT1H30M0S
SUMMARY:Warriors - Slawinski vs. Warriors - Slawinski
DESCRIPTION:Youth Basketball Practices - 7th/8th Grade Boys - Carol Stream Park District
LOCATION:Jay Stream - Small Gym - Full
CATEGORIES:QuickScores, Facilities Game
TRANSP:OPAQUE
BEGIN:VALARM
TRIGGER:-PT2H
ACTION:DISPLAY
DESCRIPTION:Warriors - Slawinski vs. Warriors - Slawinski
END:VALARM
END:VEVENT
BEGIN:VEVENT
UID:csparks-66467940-20250305T200000@quickscores.com
DTSTAMP:20260423T161800Z
DTSTART;TZID=America/Chicago:20250305T200000
DURATION:PT1H30M0S
SUMMARY:Warriors - Slawinski vs. Warriors - Slawinski
DESCRIPTION:Youth Basketball Practices - 7th/8th Grade Boys - Carol Stream Park District
LOCATION:Jay Stream - Small Gym - Full
CATEGORIES:QuickScores, Facilities Game
TRANSP:OPAQUE
BEGIN:VALARM
TRIGGER:-PT2H
ACTION:DISPLAY
DESCRIPTION:Warriors - Slawinski vs. Warriors - Slawinski
END:VALARM
END:VEVENT
BEGIN:VEVENT
UID:csparks-67442792-20250312T200000@quickscores.com
DTSTAMP:20260423T161800Z
DTSTART;TZID=America/Chicago:20250312T200000
DURATION:PT1H30M0S
SUMMARY:Warriors - Slawinski vs. Warriors - Slawinski
DESCRIPTION:Youth Basketball Practices - 7th/8th Grade Boys - Carol Stream Park District
LOCATION:Jay Stream - Small Gym - Full
CATEGORIES:QuickScores, Facilities Game
TRANSP:OPAQUE
BEGIN:VALARM
TRIGGER:-PT2H
ACTION:DISPLAY
DESCRIPTION:Warriors - Slawinski vs. Warriors - Slawinski
END:VALARM
END:VEVENT
END:VCALENDAR
