BEGIN:VCALENDAR
VERSION:2.0
PRODID:-//QuickScores.com//BQ Dynamic iCal Creator//EN
METHOD:PUBLISH
X-WR-CALNAME:Nets - Hernandez - Youth Basketball Practices - 7th/8th Grade Boys - Winter 2025
X-WR-CALDESC:QuickScores game calendar
X-PUBLISHED-TTL:PT24H
REFRESH-INTERVAL;VALUE=DURATION:PT24H
CALSCALE:GREGORIAN
BEGIN:VTIMEZONE
TZID:America/Chicago
X-LIC-LOCATION:America/Chicago
BEGIN:DAYLIGHT
TZNAME:CDT
TZOFFSETFROM:-0600
TZOFFSETTO:-0500
DTSTART:19700308T020000
RRULE:FREQ=YEARLY;BYMONTH=3;BYDAY=2SU
END:DAYLIGHT
BEGIN:STANDARD
TZNAME:CST
TZOFFSETFROM:-0500
TZOFFSETTO:-0600
DTSTART:19701101T020000
RRULE:FREQ=YEARLY;BYMONTH=11;BYDAY=1SU
END:STANDARD
END:VTIMEZONE
BEGIN:VEVENT
UID:csparks-66101695-20241204T200000@quickscores.com
DTSTAMP:20260424T075700Z
DTSTART;TZID=America/Chicago:20241204T200000
DURATION:PT1H30M0S
SUMMARY:Nets - Hernandez vs. Nets - Hernandez
DESCRIPTION:Youth Basketball Practices - 7th/8th Grade Boys - Carol Stream Park District
LOCATION:Jay Stream - Large Gym - Full
CATEGORIES:QuickScores, Facilities Game
TRANSP:OPAQUE
BEGIN:VALARM
TRIGGER:-PT2H
ACTION:DISPLAY
DESCRIPTION:Nets - Hernandez vs. Nets - Hernandez
END:VALARM
END:VEVENT
BEGIN:VEVENT
UID:csparks-66101758-20241208T170000@quickscores.com
DTSTAMP:20260424T075700Z
DTSTART;TZID=America/Chicago:20241208T170000
DURATION:PT1H0M0S
SUMMARY:Nets - Hernandez vs. Nets - Hernandez
DESCRIPTION:Youth Basketball Practices - 7th/8th Grade Boys - Carol Stream Park District
LOCATION:Fountain View - Court 3
CATEGORIES:QuickScores, Facilities Game
TRANSP:OPAQUE
BEGIN:VALARM
TRIGGER:-PT2H
ACTION:DISPLAY
DESCRIPTION:Nets - Hernandez vs. Nets - Hernandez
END:VALARM
END:VEVENT
BEGIN:VEVENT
UID:csparks-66101696-20241211T200000@quickscores.com
DTSTAMP:20260424T075700Z
DTSTART;TZID=America/Chicago:20241211T200000
DURATION:PT1H30M0S
SUMMARY:Nets - Hernandez vs. Nets - Hernandez
DESCRIPTION:Youth Basketball Practices - 7th/8th Grade Boys - Carol Stream Park District
LOCATION:Jay Stream - Large Gym - Full
CATEGORIES:QuickScores, Facilities Game
TRANSP:OPAQUE
BEGIN:VALARM
TRIGGER:-PT2H
ACTION:DISPLAY
DESCRIPTION:Nets - Hernandez vs. Nets - Hernandez
END:VALARM
END:VEVENT
BEGIN:VEVENT
UID:csparks-66101761-20241215T130000@quickscores.com
DTSTAMP:20260424T075700Z
DTSTART;TZID=America/Chicago:20241215T130000
DURATION:PT1H0M0S
SUMMARY:Nets - Hernandez vs. Nets - Hernandez
DESCRIPTION:Youth Basketball Practices - 7th/8th Grade Boys - Carol Stream Park District
LOCATION:Fountain View - Court 1
CATEGORIES:QuickScores, Facilities Game
TRANSP:OPAQUE
BEGIN:VALARM
TRIGGER:-PT2H
ACTION:DISPLAY
DESCRIPTION:Nets - Hernandez vs. Nets - Hernandez
END:VALARM
END:VEVENT
BEGIN:VEVENT
UID:csparks-66101697-20241218T200000@quickscores.com
DTSTAMP:20260424T075700Z
DTSTART;TZID=America/Chicago:20241218T200000
DURATION:PT1H30M0S
SUMMARY:Nets - Hernandez vs. Nets - Hernandez
DESCRIPTION:Youth Basketball Practices - 7th/8th Grade Boys - Carol Stream Park District
LOCATION:Jay Stream - Large Gym - Full
CATEGORIES:QuickScores, Facilities Game
TRANSP:OPAQUE
BEGIN:VALARM
TRIGGER:-PT2H
ACTION:DISPLAY
DESCRIPTION:Nets - Hernandez vs. Nets - Hernandez
END:VALARM
END:VEVENT
BEGIN:VEVENT
UID:csparks-66101771-20241222T143000@quickscores.com
DTSTAMP:20260424T075700Z
DTSTART;TZID=America/Chicago:20241222T143000
DURATION:PT1H0M0S
SUMMARY:Nets - Hernandez vs. Nets - Hernandez
DESCRIPTION:Youth Basketball Practices - 7th/8th Grade Boys - Carol Stream Park District
LOCATION:Fountain View - Court 1
CATEGORIES:QuickScores, Facilities Game
TRANSP:OPAQUE
BEGIN:VALARM
TRIGGER:-PT2H
ACTION:DISPLAY
DESCRIPTION:Nets - Hernandez vs. Nets - Hernandez
END:VALARM
END:VEVENT
BEGIN:VEVENT
UID:csparks-66406942-20241229T163000@quickscores.com
DTSTAMP:20260424T075700Z
DTSTART;TZID=America/Chicago:20241229T163000
DURATION:PT1H0M0S
SUMMARY:Nets - Hernandez vs. Nets - Hernandez
DESCRIPTION:Updated Day --- Youth Basketball Practices - 7th/8th Grade Boys - Carol Stream Park District
LOCATION:Fountain View - Court 2
CATEGORIES:QuickScores, Facilities Game
TRANSP:OPAQUE
BEGIN:VALARM
TRIGGER:-PT2H
ACTION:DISPLAY
DESCRIPTION:Nets - Hernandez vs. Nets - Hernandez
END:VALARM
END:VEVENT
BEGIN:VEVENT
UID:csparks-66406943-20250104T170000@quickscores.com
DTSTAMP:20260424T075700Z
DTSTART;TZID=America/Chicago:20250104T170000
DURATION:PT1H0M0S
SUMMARY:Nets - Hernandez vs. Nets - Hernandez
DESCRIPTION:Youth Basketball Practices - 7th/8th Grade Boys - Carol Stream Park District
LOCATION:Fountain View - Court 3
CATEGORIES:QuickScores, Facilities Game
TRANSP:OPAQUE
BEGIN:VALARM
TRIGGER:-PT2H
ACTION:DISPLAY
DESCRIPTION:Nets - Hernandez vs. Nets - Hernandez
END:VALARM
END:VEVENT
BEGIN:VEVENT
UID:csparks-66467868-20250108T200000@quickscores.com
DTSTAMP:20260424T075700Z
DTSTART;TZID=America/Chicago:20250108T200000
DURATION:PT1H30M0S
SUMMARY:Nets - Hernandez vs. Nets - Hernandez
DESCRIPTION:Youth Basketball Practices - 7th/8th Grade Boys - Carol Stream Park District
LOCATION:Jay Stream - Large Gym - Full
CATEGORIES:QuickScores, Facilities Game
TRANSP:OPAQUE
BEGIN:VALARM
TRIGGER:-PT2H
ACTION:DISPLAY
DESCRIPTION:Nets - Hernandez vs. Nets - Hernandez
END:VALARM
END:VEVENT
BEGIN:VEVENT
UID:csparks-66467869-20250115T200000@quickscores.com
DTSTAMP:20260424T075700Z
DTSTART;TZID=America/Chicago:20250115T200000
DURATION:PT1H30M0S
SUMMARY:Nets - Hernandez vs. Nets - Hernandez
DESCRIPTION:Youth Basketball Practices - 7th/8th Grade Boys - Carol Stream Park District
LOCATION:Jay Stream - Large Gym - Full
CATEGORIES:QuickScores, Facilities Game
TRANSP:OPAQUE
BEGIN:VALARM
TRIGGER:-PT2H
ACTION:DISPLAY
DESCRIPTION:Nets - Hernandez vs. Nets - Hernandez
END:VALARM
END:VEVENT
BEGIN:VEVENT
UID:csparks-66467870-20250122T200000@quickscores.com
DTSTAMP:20260424T075700Z
DTSTART;TZID=America/Chicago:20250122T200000
DURATION:PT1H30M0S
SUMMARY:Nets - Hernandez vs. Nets - Hernandez
DESCRIPTION:Youth Basketball Practices - 7th/8th Grade Boys - Carol Stream Park District
LOCATION:Jay Stream - Large Gym - Full
CATEGORIES:QuickScores, Facilities Game
TRANSP:OPAQUE
BEGIN:VALARM
TRIGGER:-PT2H
ACTION:DISPLAY
DESCRIPTION:Nets - Hernandez vs. Nets - Hernandez
END:VALARM
END:VEVENT
BEGIN:VEVENT
UID:csparks-66467871-20250129T200000@quickscores.com
DTSTAMP:20260424T075700Z
DTSTART;TZID=America/Chicago:20250129T200000
DURATION:PT1H30M0S
SUMMARY:Nets - Hernandez vs. Nets - Hernandez
DESCRIPTION:Youth Basketball Practices - 7th/8th Grade Boys - Carol Stream Park District
LOCATION:Jay Stream - Large Gym - Full
CATEGORIES:QuickScores, Facilities Game
TRANSP:OPAQUE
BEGIN:VALARM
TRIGGER:-PT2H
ACTION:DISPLAY
DESCRIPTION:Nets - Hernandez vs. Nets - Hernandez
END:VALARM
END:VEVENT
BEGIN:VEVENT
UID:csparks-66467872-20250205T200000@quickscores.com
DTSTAMP:20260424T075700Z
DTSTART;TZID=America/Chicago:20250205T200000
DURATION:PT1H30M0S
SUMMARY:Nets - Hernandez vs. Warriors - Slawinski
DESCRIPTION:Sharing Court --- Youth Basketball Practices - 7th/8th Grade Boys - Carol Stream Park District
LOCATION:Jay Stream - Large Gym - Full
CATEGORIES:QuickScores, Facilities Game
TRANSP:OPAQUE
BEGIN:VALARM
TRIGGER:-PT2H
ACTION:DISPLAY
DESCRIPTION:Nets - Hernandez vs. Warriors - Slawinski
END:VALARM
END:VEVENT
BEGIN:VEVENT
UID:csparks-66467873-20250212T200000@quickscores.com
DTSTAMP:20260424T075700Z
DTSTART;TZID=America/Chicago:20250212T200000
DURATION:PT1H30M0S
SUMMARY:Nets - Hernandez vs. Nets - Hernandez
DESCRIPTION:Youth Basketball Practices - 7th/8th Grade Boys - Carol Stream Park District
LOCATION:Jay Stream - Large Gym - Full
CATEGORIES:QuickScores, Facilities Game
TRANSP:OPAQUE
BEGIN:VALARM
TRIGGER:-PT2H
ACTION:DISPLAY
DESCRIPTION:Nets - Hernandez vs. Nets - Hernandez
END:VALARM
END:VEVENT
BEGIN:VEVENT
UID:csparks-66467874-20250219T200000@quickscores.com
DTSTAMP:20260424T075700Z
DTSTART;TZID=America/Chicago:20250219T200000
DURATION:PT1H30M0S
SUMMARY:Nets - Hernandez vs. Nets - Hernandez
DESCRIPTION:Youth Basketball Practices - 7th/8th Grade Boys - Carol Stream Park District
LOCATION:Jay Stream - Large Gym - Full
CATEGORIES:QuickScores, Facilities Game
TRANSP:OPAQUE
BEGIN:VALARM
TRIGGER:-PT2H
ACTION:DISPLAY
DESCRIPTION:Nets - Hernandez vs. Nets - Hernandez
END:VALARM
END:VEVENT
BEGIN:VEVENT
UID:csparks-66467875-20250226T200000@quickscores.com
DTSTAMP:20260424T075700Z
DTSTART;TZID=America/Chicago:20250226T200000
DURATION:PT1H30M0S
SUMMARY:Nets - Hernandez vs. Nets - Hernandez
DESCRIPTION:Youth Basketball Practices - 7th/8th Grade Boys - Carol Stream Park District
LOCATION:Jay Stream - Large Gym - Full
CATEGORIES:QuickScores, Facilities Game
TRANSP:OPAQUE
BEGIN:VALARM
TRIGGER:-PT2H
ACTION:DISPLAY
DESCRIPTION:Nets - Hernandez vs. Nets - Hernandez
END:VALARM
END:VEVENT
BEGIN:VEVENT
UID:csparks-66467876-20250305T200000@quickscores.com
DTSTAMP:20260424T075700Z
DTSTART;TZID=America/Chicago:20250305T200000
DURATION:PT1H30M0S
SUMMARY:Nets - Hernandez vs. Nets - Hernandez
DESCRIPTION:Youth Basketball Practices - 7th/8th Grade Boys - Carol Stream Park District
LOCATION:Jay Stream - Large Gym - Full
CATEGORIES:QuickScores, Facilities Game
TRANSP:OPAQUE
BEGIN:VALARM
TRIGGER:-PT2H
ACTION:DISPLAY
DESCRIPTION:Nets - Hernandez vs. Nets - Hernandez
END:VALARM
END:VEVENT
BEGIN:VEVENT
UID:csparks-67442791-20250312T200000@quickscores.com
DTSTAMP:20260424T075700Z
DTSTART;TZID=America/Chicago:20250312T200000
DURATION:PT1H30M0S
SUMMARY:Nets - Hernandez vs. Nets - Hernandez
DESCRIPTION:Youth Basketball Practices - 7th/8th Grade Boys - Carol Stream Park District
LOCATION:Jay Stream - Large Gym - Full
CATEGORIES:QuickScores, Facilities Game
TRANSP:OPAQUE
BEGIN:VALARM
TRIGGER:-PT2H
ACTION:DISPLAY
DESCRIPTION:Nets - Hernandez vs. Nets - Hernandez
END:VALARM
END:VEVENT
END:VCALENDAR
