BEGIN:VCALENDAR
VERSION:2.0
PRODID:-//QuickScores.com//BQ Dynamic iCal Creator//EN
METHOD:PUBLISH
X-WR-CALNAME:Pandy and Joy - Adult Pickleball - Thursday League Session 2 - Red Division - Fall 2024
X-WR-CALDESC:QuickScores game calendar
X-PUBLISHED-TTL:PT24H
REFRESH-INTERVAL;VALUE=DURATION:PT24H
CALSCALE:GREGORIAN
BEGIN:VTIMEZONE
TZID:America/Chicago
X-LIC-LOCATION:America/Chicago
BEGIN:DAYLIGHT
TZNAME:CDT
TZOFFSETFROM:-0600
TZOFFSETTO:-0500
DTSTART:19700308T020000
RRULE:FREQ=YEARLY;BYMONTH=3;BYDAY=2SU
END:DAYLIGHT
BEGIN:STANDARD
TZNAME:CST
TZOFFSETFROM:-0500
TZOFFSETTO:-0600
DTSTART:19701101T020000
RRULE:FREQ=YEARLY;BYMONTH=11;BYDAY=1SU
END:STANDARD
END:VTIMEZONE
BEGIN:VEVENT
UID:csparks-65793113-20241107T184500@quickscores.com
DTSTAMP:20260423T181100Z
DTSTART;TZID=America/Chicago:20241107T184500
DURATION:PT0H45M0S
SUMMARY:Pandy and Joy vs. M & M's
DESCRIPTION:Adult Pickleball - Thursday League Session 2 - Red Division - Carol Stream Park District
LOCATION:Simkus - Court 2 (West) - Pickleball 2
CATEGORIES:QuickScores, Pickleball Game
TRANSP:OPAQUE
BEGIN:VALARM
TRIGGER:-PT2H
ACTION:DISPLAY
DESCRIPTION:Pandy and Joy vs. M & M's
END:VALARM
END:VEVENT
BEGIN:VEVENT
UID:csparks-65793118-20241114T201500@quickscores.com
DTSTAMP:20260423T181100Z
DTSTART;TZID=America/Chicago:20241114T201500
DURATION:PT0H45M0S
SUMMARY:Dilly Dilly vs. Pandy and Joy
DESCRIPTION:Adult Pickleball - Thursday League Session 2 - Red Division - Carol Stream Park District
LOCATION:Simkus - Court 2 (West) - Pickleball 1
CATEGORIES:QuickScores, Pickleball Game
TRANSP:OPAQUE
BEGIN:VALARM
TRIGGER:-PT2H
ACTION:DISPLAY
DESCRIPTION:Dilly Dilly vs. Pandy and Joy
END:VALARM
END:VEVENT
BEGIN:VEVENT
UID:csparks-65793127-20241121T180000@quickscores.com
DTSTAMP:20260423T181100Z
DTSTART;TZID=America/Chicago:20241121T180000
DURATION:PT0H45M0S
SUMMARY:Washman vs. Pandy and Joy
DESCRIPTION:Adult Pickleball - Thursday League Session 2 - Red Division - Carol Stream Park District
LOCATION:Simkus - Court 2 (West) - Pickleball 2
CATEGORIES:QuickScores, Pickleball Game
TRANSP:OPAQUE
BEGIN:VALARM
TRIGGER:-PT2H
ACTION:DISPLAY
DESCRIPTION:Washman vs. Pandy and Joy
END:VALARM
END:VEVENT
BEGIN:VEVENT
UID:csparks-65793124-20241121T184500@quickscores.com
DTSTAMP:20260423T181100Z
DTSTART;TZID=America/Chicago:20241121T184500
DURATION:PT0H45M0S
SUMMARY:Snow Leo vs. Pandy and Joy
DESCRIPTION:Adult Pickleball - Thursday League Session 2 - Red Division - Carol Stream Park District
LOCATION:Simkus - Court 2 (West) - Pickleball 2
CATEGORIES:QuickScores, Pickleball Game
TRANSP:OPAQUE
BEGIN:VALARM
TRIGGER:-PT2H
ACTION:DISPLAY
DESCRIPTION:Snow Leo vs. Pandy and Joy
END:VALARM
END:VEVENT
BEGIN:VEVENT
UID:csparks-65793130-20241205T192000@quickscores.com
DTSTAMP:20260423T181100Z
DTSTART;TZID=America/Chicago:20241205T192000
DURATION:PT0H40M0S
SUMMARY:Pandy and Joy vs. Snow Leo
DESCRIPTION:Adult Pickleball - Thursday League Session 2 - Red Division - Carol Stream Park District
LOCATION:Simkus - Court 1 (East) - Pickleball 4
CATEGORIES:QuickScores, Pickleball Game
TRANSP:OPAQUE
BEGIN:VALARM
TRIGGER:-PT2H
ACTION:DISPLAY
DESCRIPTION:Pandy and Joy vs. Snow Leo
END:VALARM
END:VEVENT
BEGIN:VEVENT
UID:csparks-65793137-20241205T200000@quickscores.com
DTSTAMP:20260423T181100Z
DTSTART;TZID=America/Chicago:20241205T200000
DURATION:PT0H40M0S
SUMMARY:Overserved vs. Pandy and Joy
DESCRIPTION:Rescheduled from 12/12 --- Adult Pickleball - Thursday League Session 2 - Red Division - Carol Stream Park District
LOCATION:Simkus - Court 1 (East) - Pickleball 4
CATEGORIES:QuickScores, Pickleball Game
TRANSP:OPAQUE
BEGIN:VALARM
TRIGGER:-PT2H
ACTION:DISPLAY
DESCRIPTION:Overserved vs. Pandy and Joy
END:VALARM
END:VEVENT
BEGIN:VEVENT
UID:csparks-66251678-20241212T180000@quickscores.com
DTSTAMP:20260423T181100Z
DTSTART;TZID=America/Chicago:20241212T180000
DURATION:PT0H15M0S
SUMMARY:[2] M & M's vs. [7] Pandy and Joy
DESCRIPTION:Adult Pickleball - Thursday League Session 2 - Red Division - Carol Stream Park District
LOCATION:Simkus - Court 1 (East) - Pickleball 3
CATEGORIES:QuickScores, Pickleball Game
TRANSP:OPAQUE
BEGIN:VALARM
TRIGGER:-PT2H
ACTION:DISPLAY
DESCRIPTION:[2] M & M's vs. [7] Pandy and Joy
END:VALARM
END:VEVENT
BEGIN:VEVENT
UID:csparks-66251690-20241212T183000@quickscores.com
DTSTAMP:20260423T181100Z
DTSTART;TZID=America/Chicago:20241212T183000
DURATION:PT0H15M0S
SUMMARY:[3] Dilly Dilly vs. [7] Pandy and Joy
DESCRIPTION:Adult Pickleball - Thursday League Session 2 - Red Division - Carol Stream Park District
LOCATION:Simkus - Court 1 (East) - Pickleball 3
CATEGORIES:QuickScores, Pickleball Game
TRANSP:OPAQUE
BEGIN:VALARM
TRIGGER:-PT2H
ACTION:DISPLAY
DESCRIPTION:[3] Dilly Dilly vs. [7] Pandy and Joy
END:VALARM
END:VEVENT
END:VCALENDAR
