BEGIN:VCALENDAR
VERSION:2.0
PRODID:-//QuickScores.com//BQ Dynamic iCal Creator//EN
METHOD:PUBLISH
X-WR-CALNAME:Booze on First - Adult Cup In Hand Kickball - Monday League - Fall 2024
X-WR-CALDESC:QuickScores game calendar
X-PUBLISHED-TTL:PT24H
REFRESH-INTERVAL;VALUE=DURATION:PT24H
CALSCALE:GREGORIAN
BEGIN:VTIMEZONE
TZID:America/Chicago
X-LIC-LOCATION:America/Chicago
BEGIN:DAYLIGHT
TZNAME:CDT
TZOFFSETFROM:-0600
TZOFFSETTO:-0500
DTSTART:19700308T020000
RRULE:FREQ=YEARLY;BYMONTH=3;BYDAY=2SU
END:DAYLIGHT
BEGIN:STANDARD
TZNAME:CST
TZOFFSETFROM:-0500
TZOFFSETTO:-0600
DTSTART:19701101T020000
RRULE:FREQ=YEARLY;BYMONTH=11;BYDAY=1SU
END:STANDARD
END:VTIMEZONE
BEGIN:VEVENT
UID:csparks-65130096-20240909T185000@quickscores.com
DTSTAMP:20260423T054000Z
DTSTART;TZID=America/Chicago:20240909T185000
DURATION:PT0H50M0S
SUMMARY:Booze on First vs. ReKickulous
DESCRIPTION:Adult Cup In Hand Kickball - Monday League - Carol Stream Park District
LOCATION:McCaslin 4
CATEGORIES:QuickScores, Kickball Game
TRANSP:OPAQUE
BEGIN:VALARM
TRIGGER:-PT2H
ACTION:DISPLAY
DESCRIPTION:Booze on First vs. ReKickulous
END:VALARM
END:VEVENT
BEGIN:VEVENT
UID:csparks-65130100-20240916T185000@quickscores.com
DTSTAMP:20260423T054000Z
DTSTART;TZID=America/Chicago:20240916T185000
DURATION:PT0H50M0S
SUMMARY:Booze on First vs. Same Team New Name
DESCRIPTION:Adult Cup In Hand Kickball - Monday League - Carol Stream Park District
LOCATION:McCaslin 4
CATEGORIES:QuickScores, Kickball Game
TRANSP:OPAQUE
BEGIN:VALARM
TRIGGER:-PT2H
ACTION:DISPLAY
DESCRIPTION:Booze on First vs. Same Team New Name
END:VALARM
END:VEVENT
BEGIN:VEVENT
UID:csparks-65130107-20240923T194000@quickscores.com
DTSTAMP:20260423T054000Z
DTSTART;TZID=America/Chicago:20240923T194000
DURATION:PT0H50M0S
SUMMARY:D630 RIZZLYBEARS vs. Booze on First
DESCRIPTION:Adult Cup In Hand Kickball - Monday League - Carol Stream Park District
LOCATION:McCaslin 4
CATEGORIES:QuickScores, Kickball Game
TRANSP:OPAQUE
BEGIN:VALARM
TRIGGER:-PT2H
ACTION:DISPLAY
DESCRIPTION:D630 RIZZLYBEARS vs. Booze on First
END:VALARM
END:VEVENT
BEGIN:VEVENT
UID:csparks-65130109-20240930T203000@quickscores.com
DTSTAMP:20260423T054000Z
DTSTART;TZID=America/Chicago:20240930T203000
DURATION:PT0H50M0S
SUMMARY:Booze on First vs. Patriots
DESCRIPTION:Adult Cup In Hand Kickball - Monday League - Carol Stream Park District
LOCATION:McCaslin 4
CATEGORIES:QuickScores, Kickball Game
TRANSP:OPAQUE
BEGIN:VALARM
TRIGGER:-PT2H
ACTION:DISPLAY
DESCRIPTION:Booze on First vs. Patriots
END:VALARM
END:VEVENT
BEGIN:VEVENT
UID:csparks-65130117-20241007T212000@quickscores.com
DTSTAMP:20260423T054000Z
DTSTART;TZID=America/Chicago:20241007T212000
DURATION:PT0H50M0S
SUMMARY:Richard Cranium vs. Booze on First
DESCRIPTION:Adult Cup In Hand Kickball - Monday League - Carol Stream Park District
LOCATION:McCaslin 4
CATEGORIES:QuickScores, Kickball Game
TRANSP:OPAQUE
BEGIN:VALARM
TRIGGER:-PT2H
ACTION:DISPLAY
DESCRIPTION:Richard Cranium vs. Booze on First
END:VALARM
END:VEVENT
BEGIN:VEVENT
UID:csparks-65130118-20241014T180000@quickscores.com
DTSTAMP:20260423T054000Z
DTSTART;TZID=America/Chicago:20241014T180000
DURATION:PT0H50M0S
SUMMARY:Kicky Mantle vs. Booze on First
DESCRIPTION:Adult Cup In Hand Kickball - Monday League - Carol Stream Park District
LOCATION:McCaslin 4
CATEGORIES:QuickScores, Kickball Game
TRANSP:OPAQUE
BEGIN:VALARM
TRIGGER:-PT2H
ACTION:DISPLAY
DESCRIPTION:Kicky Mantle vs. Booze on First
END:VALARM
END:VEVENT
BEGIN:VEVENT
UID:csparks-65623614-20241021T194000@quickscores.com
DTSTAMP:20260423T054000Z
DTSTART;TZID=America/Chicago:20241021T194000
DURATION:PT0H50M0S
SUMMARY:[2] Richard Cranium vs. [3] Booze on First
DESCRIPTION:Adult Cup In Hand Kickball - Monday League - Carol Stream Park District
LOCATION:McCaslin 4
CATEGORIES:QuickScores, Kickball Game
TRANSP:OPAQUE
BEGIN:VALARM
TRIGGER:-PT2H
ACTION:DISPLAY
DESCRIPTION:[2] Richard Cranium vs. [3] Booze on First
END:VALARM
END:VEVENT
BEGIN:VEVENT
UID:csparks-65623615-20241021T203000@quickscores.com
DTSTAMP:20260423T054000Z
DTSTART;TZID=America/Chicago:20241021T203000
DURATION:PT0H50M0S
SUMMARY:[1] Same Team New Name vs. [3] Booze on First
DESCRIPTION:Adult Cup In Hand Kickball - Monday League - Carol Stream Park District
LOCATION:McCaslin 4
CATEGORIES:QuickScores, Kickball Game
TRANSP:OPAQUE
BEGIN:VALARM
TRIGGER:-PT2H
ACTION:DISPLAY
DESCRIPTION:[1] Same Team New Name vs. [3] Booze on First
END:VALARM
END:VEVENT
END:VCALENDAR
