BEGIN:VCALENDAR
VERSION:2.0
PRODID:-//QuickScores.com//BQ Dynamic iCal Creator//EN
METHOD:PUBLISH
X-WR-CALNAME:D630 RIZZLYBEARS - Adult Cup In Hand Kickball - Monday League - Fall 2024
X-WR-CALDESC:QuickScores game calendar
X-PUBLISHED-TTL:PT24H
REFRESH-INTERVAL;VALUE=DURATION:PT24H
CALSCALE:GREGORIAN
BEGIN:VTIMEZONE
TZID:America/Chicago
X-LIC-LOCATION:America/Chicago
BEGIN:DAYLIGHT
TZNAME:CDT
TZOFFSETFROM:-0600
TZOFFSETTO:-0500
DTSTART:19700308T020000
RRULE:FREQ=YEARLY;BYMONTH=3;BYDAY=2SU
END:DAYLIGHT
BEGIN:STANDARD
TZNAME:CST
TZOFFSETFROM:-0500
TZOFFSETTO:-0600
DTSTART:19701101T020000
RRULE:FREQ=YEARLY;BYMONTH=11;BYDAY=1SU
END:STANDARD
END:VTIMEZONE
BEGIN:VEVENT
UID:csparks-65130097-20240909T180000@quickscores.com
DTSTAMP:20260424T111700Z
DTSTART;TZID=America/Chicago:20240909T180000
DURATION:PT0H50M0S
SUMMARY:D630 RIZZLYBEARS vs. Sons of Pitches
DESCRIPTION:Adult Cup In Hand Kickball - Monday League - Carol Stream Park District
LOCATION:McCaslin 4
CATEGORIES:QuickScores, Kickball Game
TRANSP:OPAQUE
BEGIN:VALARM
TRIGGER:-PT2H
ACTION:DISPLAY
DESCRIPTION:D630 RIZZLYBEARS vs. Sons of Pitches
END:VALARM
END:VEVENT
BEGIN:VEVENT
UID:csparks-65130101-20240916T212000@quickscores.com
DTSTAMP:20260424T111700Z
DTSTART;TZID=America/Chicago:20240916T212000
DURATION:PT0H50M0S
SUMMARY:Keg Kickers vs. D630 RIZZLYBEARS
DESCRIPTION:Adult Cup In Hand Kickball - Monday League - Carol Stream Park District
LOCATION:McCaslin 4
CATEGORIES:QuickScores, Kickball Game
TRANSP:OPAQUE
BEGIN:VALARM
TRIGGER:-PT2H
ACTION:DISPLAY
DESCRIPTION:Keg Kickers vs. D630 RIZZLYBEARS
END:VALARM
END:VEVENT
BEGIN:VEVENT
UID:csparks-65130107-20240923T194000@quickscores.com
DTSTAMP:20260424T111700Z
DTSTART;TZID=America/Chicago:20240923T194000
DURATION:PT0H50M0S
SUMMARY:D630 RIZZLYBEARS vs. Booze on First
DESCRIPTION:Adult Cup In Hand Kickball - Monday League - Carol Stream Park District
LOCATION:McCaslin 4
CATEGORIES:QuickScores, Kickball Game
TRANSP:OPAQUE
BEGIN:VALARM
TRIGGER:-PT2H
ACTION:DISPLAY
DESCRIPTION:D630 RIZZLYBEARS vs. Booze on First
END:VALARM
END:VEVENT
BEGIN:VEVENT
UID:csparks-65130110-20240930T194000@quickscores.com
DTSTAMP:20260424T111700Z
DTSTART;TZID=America/Chicago:20240930T194000
DURATION:PT0H50M0S
SUMMARY:Sit On My Base vs. D630 RIZZLYBEARS
DESCRIPTION:Adult Cup In Hand Kickball - Monday League - Carol Stream Park District
LOCATION:McCaslin 4
CATEGORIES:QuickScores, Kickball Game
TRANSP:OPAQUE
BEGIN:VALARM
TRIGGER:-PT2H
ACTION:DISPLAY
DESCRIPTION:Sit On My Base vs. D630 RIZZLYBEARS
END:VALARM
END:VEVENT
BEGIN:VEVENT
UID:csparks-65130116-20241007T203000@quickscores.com
DTSTAMP:20260424T111700Z
DTSTART;TZID=America/Chicago:20241007T203000
DURATION:PT0H50M0S
SUMMARY:Patriots vs. D630 RIZZLYBEARS
DESCRIPTION:Adult Cup In Hand Kickball - Monday League - Carol Stream Park District
LOCATION:McCaslin 4
CATEGORIES:QuickScores, Kickball Game
TRANSP:OPAQUE
BEGIN:VALARM
TRIGGER:-PT2H
ACTION:DISPLAY
DESCRIPTION:Patriots vs. D630 RIZZLYBEARS
END:VALARM
END:VEVENT
BEGIN:VEVENT
UID:csparks-65130119-20241014T185000@quickscores.com
DTSTAMP:20260424T111700Z
DTSTART;TZID=America/Chicago:20241014T185000
DURATION:PT0H50M0S
SUMMARY:D630 RIZZLYBEARS vs. Richard Cranium
DESCRIPTION:Adult Cup In Hand Kickball - Monday League - Carol Stream Park District
LOCATION:McCaslin 4
CATEGORIES:QuickScores, Kickball Game
TRANSP:OPAQUE
BEGIN:VALARM
TRIGGER:-PT2H
ACTION:DISPLAY
DESCRIPTION:D630 RIZZLYBEARS vs. Richard Cranium
END:VALARM
END:VEVENT
BEGIN:VEVENT
UID:csparks-65623610-20241021T180000@quickscores.com
DTSTAMP:20260424T111700Z
DTSTART;TZID=America/Chicago:20241021T180000
DURATION:PT0H50M0S
SUMMARY:[4] D630 RIZZLYBEARS vs. [5] Kicky Mantle
DESCRIPTION:Adult Cup In Hand Kickball - Monday League - Carol Stream Park District
LOCATION:McCaslin 4
CATEGORIES:QuickScores, Kickball Game
TRANSP:OPAQUE
BEGIN:VALARM
TRIGGER:-PT2H
ACTION:DISPLAY
DESCRIPTION:[4] D630 RIZZLYBEARS vs. [5] Kicky Mantle
END:VALARM
END:VEVENT
BEGIN:VEVENT
UID:csparks-65623613-20241021T185000@quickscores.com
DTSTAMP:20260424T111700Z
DTSTART;TZID=America/Chicago:20241021T185000
DURATION:PT0H50M0S
SUMMARY:[1] Same Team New Name vs. [4] D630 RIZZLYBEARS
DESCRIPTION:Adult Cup In Hand Kickball - Monday League - Carol Stream Park District
LOCATION:McCaslin 4
CATEGORIES:QuickScores, Kickball Game
TRANSP:OPAQUE
BEGIN:VALARM
TRIGGER:-PT2H
ACTION:DISPLAY
DESCRIPTION:[1] Same Team New Name vs. [4] D630 RIZZLYBEARS
END:VALARM
END:VEVENT
END:VCALENDAR
