BEGIN:VCALENDAR
VERSION:2.0
PRODID:-//QuickScores.com//BQ Dynamic iCal Creator//EN
METHOD:PUBLISH
X-WR-CALNAME:Sons of Pitches - Adult Cup In Hand Kickball - Monday League - Fall 2024
X-WR-CALDESC:QuickScores game calendar
X-PUBLISHED-TTL:PT24H
REFRESH-INTERVAL;VALUE=DURATION:PT24H
CALSCALE:GREGORIAN
BEGIN:VTIMEZONE
TZID:America/Chicago
X-LIC-LOCATION:America/Chicago
BEGIN:DAYLIGHT
TZNAME:CDT
TZOFFSETFROM:-0600
TZOFFSETTO:-0500
DTSTART:19700308T020000
RRULE:FREQ=YEARLY;BYMONTH=3;BYDAY=2SU
END:DAYLIGHT
BEGIN:STANDARD
TZNAME:CST
TZOFFSETFROM:-0500
TZOFFSETTO:-0600
DTSTART:19701101T020000
RRULE:FREQ=YEARLY;BYMONTH=11;BYDAY=1SU
END:STANDARD
END:VTIMEZONE
BEGIN:VEVENT
UID:csparks-65130097-20240909T180000@quickscores.com
DTSTAMP:20260422T062100Z
DTSTART;TZID=America/Chicago:20240909T180000
DURATION:PT0H50M0S
SUMMARY:D630 RIZZLYBEARS vs. Sons of Pitches
DESCRIPTION:Adult Cup In Hand Kickball - Monday League - Carol Stream Park District
LOCATION:McCaslin 4
CATEGORIES:QuickScores, Kickball Game
TRANSP:OPAQUE
BEGIN:VALARM
TRIGGER:-PT2H
ACTION:DISPLAY
DESCRIPTION:D630 RIZZLYBEARS vs. Sons of Pitches
END:VALARM
END:VEVENT
BEGIN:VEVENT
UID:csparks-65130102-20240916T203000@quickscores.com
DTSTAMP:20260422T062100Z
DTSTART;TZID=America/Chicago:20240916T203000
DURATION:PT0H50M0S
SUMMARY:Sons of Pitches vs. ReKickulous
DESCRIPTION:Adult Cup In Hand Kickball - Monday League - Carol Stream Park District
LOCATION:McCaslin 4
CATEGORIES:QuickScores, Kickball Game
TRANSP:OPAQUE
BEGIN:VALARM
TRIGGER:-PT2H
ACTION:DISPLAY
DESCRIPTION:Sons of Pitches vs. ReKickulous
END:VALARM
END:VEVENT
BEGIN:VEVENT
UID:csparks-65130106-20240923T203000@quickscores.com
DTSTAMP:20260422T062100Z
DTSTART;TZID=America/Chicago:20240923T203000
DURATION:PT0H50M0S
SUMMARY:Sons of Pitches vs. Richard Cranium
DESCRIPTION:Adult Cup In Hand Kickball - Monday League - Carol Stream Park District
LOCATION:McCaslin 4
CATEGORIES:QuickScores, Kickball Game
TRANSP:OPAQUE
BEGIN:VALARM
TRIGGER:-PT2H
ACTION:DISPLAY
DESCRIPTION:Sons of Pitches vs. Richard Cranium
END:VALARM
END:VEVENT
BEGIN:VEVENT
UID:csparks-65130111-20240930T180000@quickscores.com
DTSTAMP:20260422T062100Z
DTSTART;TZID=America/Chicago:20240930T180000
DURATION:PT0H50M0S
SUMMARY:Same Team New Name vs. Sons of Pitches
DESCRIPTION:Adult Cup In Hand Kickball - Monday League - Carol Stream Park District
LOCATION:McCaslin 4
CATEGORIES:QuickScores, Kickball Game
TRANSP:OPAQUE
BEGIN:VALARM
TRIGGER:-PT2H
ACTION:DISPLAY
DESCRIPTION:Same Team New Name vs. Sons of Pitches
END:VALARM
END:VEVENT
BEGIN:VEVENT
UID:csparks-65130115-20241007T185000@quickscores.com
DTSTAMP:20260422T062100Z
DTSTART;TZID=America/Chicago:20241007T185000
DURATION:PT0H50M0S
SUMMARY:Sons of Pitches vs. Sit On My Base
DESCRIPTION:Adult Cup In Hand Kickball - Monday League - Carol Stream Park District
LOCATION:McCaslin 4
CATEGORIES:QuickScores, Kickball Game
TRANSP:OPAQUE
BEGIN:VALARM
TRIGGER:-PT2H
ACTION:DISPLAY
DESCRIPTION:Sons of Pitches vs. Sit On My Base
END:VALARM
END:VEVENT
BEGIN:VEVENT
UID:csparks-65130120-20241014T194000@quickscores.com
DTSTAMP:20260422T062100Z
DTSTART;TZID=America/Chicago:20241014T194000
DURATION:PT0H50M0S
SUMMARY:Patriots vs. Sons of Pitches
DESCRIPTION:Adult Cup In Hand Kickball - Monday League - Carol Stream Park District
LOCATION:McCaslin 4
CATEGORIES:QuickScores, Kickball Game
TRANSP:OPAQUE
BEGIN:VALARM
TRIGGER:-PT2H
ACTION:DISPLAY
DESCRIPTION:Patriots vs. Sons of Pitches
END:VALARM
END:VEVENT
END:VCALENDAR
