BEGIN:VCALENDAR
VERSION:2.0
PRODID:-//QuickScores.com//BQ Dynamic iCal Creator//EN
METHOD:PUBLISH
X-WR-CALNAME:Wheaton Wildcats - Travel Softball League - 14u - Fall 2024
X-WR-CALDESC:QuickScores game calendar
X-PUBLISHED-TTL:PT24H
REFRESH-INTERVAL;VALUE=DURATION:PT24H
CALSCALE:GREGORIAN
BEGIN:VTIMEZONE
TZID:America/Chicago
X-LIC-LOCATION:America/Chicago
BEGIN:DAYLIGHT
TZNAME:CDT
TZOFFSETFROM:-0600
TZOFFSETTO:-0500
DTSTART:19700308T020000
RRULE:FREQ=YEARLY;BYMONTH=3;BYDAY=2SU
END:DAYLIGHT
BEGIN:STANDARD
TZNAME:CST
TZOFFSETFROM:-0500
TZOFFSETTO:-0600
DTSTART:19701101T020000
RRULE:FREQ=YEARLY;BYMONTH=11;BYDAY=1SU
END:STANDARD
END:VTIMEZONE
BEGIN:VEVENT
UID:csparks-64753144-20240904T190000@quickscores.com
DTSTAMP:20260422T025600Z
DTSTART;TZID=America/Chicago:20240904T190000
DURATION:PT1H30M0S
SUMMARY:Wheaton Wildcats vs. Carol Stream Storm
DESCRIPTION:Travel Softball League - 14u - Carol Stream Park District
LOCATION:McCaslin 3
CATEGORIES:QuickScores, Softball Game
TRANSP:OPAQUE
BEGIN:VALARM
TRIGGER:-PT2H
ACTION:DISPLAY
DESCRIPTION:Wheaton Wildcats vs. Carol Stream Storm
END:VALARM
END:VEVENT
BEGIN:VEVENT
UID:csparks-64753143-20240906T190000@quickscores.com
DTSTAMP:20260422T025600Z
DTSTART;TZID=America/Chicago:20240906T190000
DURATION:PT1H30M0S
SUMMARY:DuPage Revolution vs. Wheaton Wildcats
DESCRIPTION:Travel Softball League - 14u - Carol Stream Park District
LOCATION:McCaslin 2
CATEGORIES:QuickScores, Softball Game
TRANSP:OPAQUE
BEGIN:VALARM
TRIGGER:-PT2H
ACTION:DISPLAY
DESCRIPTION:DuPage Revolution vs. Wheaton Wildcats
END:VALARM
END:VEVENT
BEGIN:VEVENT
UID:csparks-64753148-20240913T190000@quickscores.com
DTSTAMP:20260422T025600Z
DTSTART;TZID=America/Chicago:20240913T190000
DURATION:PT1H30M0S
SUMMARY:Wheaton Wildcats vs. MSP Stars
DESCRIPTION:Travel Softball League - 14u - Carol Stream Park District
LOCATION:McCaslin 2
CATEGORIES:QuickScores, Softball Game
TRANSP:OPAQUE
BEGIN:VALARM
TRIGGER:-PT2H
ACTION:DISPLAY
DESCRIPTION:Wheaton Wildcats vs. MSP Stars
END:VALARM
END:VEVENT
BEGIN:VEVENT
UID:csparks-64753154-20240920T190000@quickscores.com
DTSTAMP:20260422T025600Z
DTSTART;TZID=America/Chicago:20240920T190000
DURATION:PT1H30M0S
SUMMARY:Bloomingdale Blast vs. Wheaton Wildcats
DESCRIPTION:Travel Softball League - 14u - Carol Stream Park District
LOCATION:McCaslin 4
CATEGORIES:QuickScores, Softball Game
TRANSP:OPAQUE
BEGIN:VALARM
TRIGGER:-PT2H
ACTION:DISPLAY
DESCRIPTION:Bloomingdale Blast vs. Wheaton Wildcats
END:VALARM
END:VEVENT
BEGIN:VEVENT
UID:csparks-64753165-20240923T190000@quickscores.com
DTSTAMP:20260422T025600Z
DTSTART;TZID=America/Chicago:20240923T190000
DURATION:PT1H30M0S
SUMMARY:Elmhurst Emeralds vs. Wheaton Wildcats
DESCRIPTION:Travel Softball League - 14u - Carol Stream Park District
LOCATION:McCaslin 2
CATEGORIES:QuickScores, Softball Game
TRANSP:OPAQUE
BEGIN:VALARM
TRIGGER:-PT2H
ACTION:DISPLAY
DESCRIPTION:Elmhurst Emeralds vs. Wheaton Wildcats
END:VALARM
END:VEVENT
BEGIN:VEVENT
UID:csparks-64753161-20240925T190000@quickscores.com
DTSTAMP:20260422T025600Z
DTSTART;TZID=America/Chicago:20240925T190000
DURATION:PT1H30M0S
SUMMARY:Wheaton Wildcats vs. Lombard Thunder
DESCRIPTION:Travel Softball League - 14u - Carol Stream Park District
LOCATION:McCaslin 4
CATEGORIES:QuickScores, Softball Game
TRANSP:OPAQUE
BEGIN:VALARM
TRIGGER:-PT2H
ACTION:DISPLAY
DESCRIPTION:Wheaton Wildcats vs. Lombard Thunder
END:VALARM
END:VEVENT
BEGIN:VEVENT
UID:csparks-64753174-20241002T190000@quickscores.com
DTSTAMP:20260422T025600Z
DTSTART;TZID=America/Chicago:20241002T190000
DURATION:PT1H30M0S
SUMMARY:Carol Stream Storm vs. Wheaton Wildcats
DESCRIPTION:Travel Softball League - 14u - Carol Stream Park District
LOCATION:McCaslin 3
CATEGORIES:QuickScores, Softball Game
TRANSP:OPAQUE
BEGIN:VALARM
TRIGGER:-PT2H
ACTION:DISPLAY
DESCRIPTION:Carol Stream Storm vs. Wheaton Wildcats
END:VALARM
END:VEVENT
BEGIN:VEVENT
UID:csparks-64753168-20241006T123000@quickscores.com
DTSTAMP:20260422T025600Z
DTSTART;TZID=America/Chicago:20241006T123000
DURATION:PT1H30M0S
SUMMARY:Wheaton Wildcats vs. Roselle Rockers
DESCRIPTION:Rescheduled from 10/5 --- Travel Softball League - 14u - Carol Stream Park District
LOCATION:McCaslin 3
CATEGORIES:QuickScores, Softball Game
TRANSP:OPAQUE
BEGIN:VALARM
TRIGGER:-PT2H
ACTION:DISPLAY
DESCRIPTION:Wheaton Wildcats vs. Roselle Rockers
END:VALARM
END:VEVENT
BEGIN:VEVENT
UID:csparks-65333033-20241008T190000@quickscores.com
DTSTAMP:20260422T025600Z
DTSTART;TZID=America/Chicago:20241008T190000
DURATION:PT1H30M0S
SUMMARY:[2] Wheaton Wildcats vs. [7] Bloomingdale Blast
DESCRIPTION:Travel Softball League - 14u - Carol Stream Park District
LOCATION:McCaslin 1
CATEGORIES:QuickScores, Softball Game
TRANSP:OPAQUE
BEGIN:VALARM
TRIGGER:-PT2H
ACTION:DISPLAY
DESCRIPTION:[2] Wheaton Wildcats vs. [7] Bloomingdale Blast
END:VALARM
END:VEVENT
BEGIN:VEVENT
UID:csparks-65333036-20241009T203000@quickscores.com
DTSTAMP:20260422T025600Z
DTSTART;TZID=America/Chicago:20241009T203000
DURATION:PT1H30M0S
SUMMARY:[2] Wheaton Wildcats vs. [6] Carol Stream Storm
DESCRIPTION:Travel Softball League - 14u - Carol Stream Park District
LOCATION:McCaslin 4
CATEGORIES:QuickScores, Softball Game
TRANSP:OPAQUE
BEGIN:VALARM
TRIGGER:-PT2H
ACTION:DISPLAY
DESCRIPTION:[2] Wheaton Wildcats vs. [6] Carol Stream Storm
END:VALARM
END:VEVENT
BEGIN:VEVENT
UID:csparks-65333037-20241011T201500@quickscores.com
DTSTAMP:20260422T025600Z
DTSTART;TZID=America/Chicago:20241011T201500
DURATION:PT1H30M0S
SUMMARY:[1] MSP Stars vs. [2] Wheaton Wildcats
DESCRIPTION:Travel Softball League - 14u - Carol Stream Park District
LOCATION:McCaslin 4
CATEGORIES:QuickScores, Softball Game
TRANSP:OPAQUE
BEGIN:VALARM
TRIGGER:-PT2H
ACTION:DISPLAY
DESCRIPTION:[1] MSP Stars vs. [2] Wheaton Wildcats
END:VALARM
END:VEVENT
END:VCALENDAR
