BEGIN:VCALENDAR
VERSION:2.0
PRODID:-//QuickScores.com//BQ Dynamic iCal Creator//EN
METHOD:PUBLISH
X-WR-CALNAME:Elmhurst Emeralds - Travel Softball League - 14u - Fall 2024
X-WR-CALDESC:QuickScores game calendar
X-PUBLISHED-TTL:PT24H
REFRESH-INTERVAL;VALUE=DURATION:PT24H
CALSCALE:GREGORIAN
BEGIN:VTIMEZONE
TZID:America/Chicago
X-LIC-LOCATION:America/Chicago
BEGIN:DAYLIGHT
TZNAME:CDT
TZOFFSETFROM:-0600
TZOFFSETTO:-0500
DTSTART:19700308T020000
RRULE:FREQ=YEARLY;BYMONTH=3;BYDAY=2SU
END:DAYLIGHT
BEGIN:STANDARD
TZNAME:CST
TZOFFSETFROM:-0500
TZOFFSETTO:-0600
DTSTART:19701101T020000
RRULE:FREQ=YEARLY;BYMONTH=11;BYDAY=1SU
END:STANDARD
END:VTIMEZONE
BEGIN:VEVENT
UID:csparks-64753147-20240905T203000@quickscores.com
DTSTAMP:20260421T151800Z
DTSTART;TZID=America/Chicago:20240905T203000
DURATION:PT1H30M0S
SUMMARY:Elmhurst Emeralds vs. DuPage Revolution
DESCRIPTION:Travel Softball League - 14u - Carol Stream Park District
LOCATION:Armstrong 4
CATEGORIES:QuickScores, Softball Game
TRANSP:OPAQUE
BEGIN:VALARM
TRIGGER:-PT2H
ACTION:DISPLAY
DESCRIPTION:Elmhurst Emeralds vs. DuPage Revolution
END:VALARM
END:VEVENT
BEGIN:VEVENT
UID:csparks-64753150-20240911T173000@quickscores.com
DTSTAMP:20260421T151800Z
DTSTART;TZID=America/Chicago:20240911T173000
DURATION:PT1H30M0S
SUMMARY:Elmhurst Emeralds vs. Bloomingdale Blast
DESCRIPTION:Travel Softball League - 14u - Carol Stream Park District
LOCATION:McCaslin 4
CATEGORIES:QuickScores, Softball Game
TRANSP:OPAQUE
BEGIN:VALARM
TRIGGER:-PT2H
ACTION:DISPLAY
DESCRIPTION:Elmhurst Emeralds vs. Bloomingdale Blast
END:VALARM
END:VEVENT
BEGIN:VEVENT
UID:csparks-64753160-20240917T183000@quickscores.com
DTSTAMP:20260421T151800Z
DTSTART;TZID=America/Chicago:20240917T183000
DURATION:PT1H30M0S
SUMMARY:DuPage Revolution vs. Elmhurst Emeralds
DESCRIPTION:Travel Softball League - 14u - Carol Stream Park District
LOCATION:McCaslin 2
CATEGORIES:QuickScores, Softball Game
TRANSP:OPAQUE
BEGIN:VALARM
TRIGGER:-PT2H
ACTION:DISPLAY
DESCRIPTION:DuPage Revolution vs. Elmhurst Emeralds
END:VALARM
END:VEVENT
BEGIN:VEVENT
UID:csparks-64753157-20240919T203000@quickscores.com
DTSTAMP:20260421T151800Z
DTSTART;TZID=America/Chicago:20240919T203000
DURATION:PT1H30M0S
SUMMARY:Lombard Thunder vs. Elmhurst Emeralds
DESCRIPTION:Travel Softball League - 14u - Carol Stream Park District
LOCATION:Armstrong 4
CATEGORIES:QuickScores, Softball Game
TRANSP:OPAQUE
BEGIN:VALARM
TRIGGER:-PT2H
ACTION:DISPLAY
DESCRIPTION:Lombard Thunder vs. Elmhurst Emeralds
END:VALARM
END:VEVENT
BEGIN:VEVENT
UID:csparks-64753165-20240923T190000@quickscores.com
DTSTAMP:20260421T151800Z
DTSTART;TZID=America/Chicago:20240923T190000
DURATION:PT1H30M0S
SUMMARY:Elmhurst Emeralds vs. Wheaton Wildcats
DESCRIPTION:Travel Softball League - 14u - Carol Stream Park District
LOCATION:McCaslin 2
CATEGORIES:QuickScores, Softball Game
TRANSP:OPAQUE
BEGIN:VALARM
TRIGGER:-PT2H
ACTION:DISPLAY
DESCRIPTION:Elmhurst Emeralds vs. Wheaton Wildcats
END:VALARM
END:VEVENT
BEGIN:VEVENT
UID:csparks-64753162-20240925T203000@quickscores.com
DTSTAMP:20260421T151800Z
DTSTART;TZID=America/Chicago:20240925T203000
DURATION:PT1H30M0S
SUMMARY:MSP Stars vs. Elmhurst Emeralds
DESCRIPTION:Travel Softball League - 14u - Carol Stream Park District
LOCATION:McCaslin 4
CATEGORIES:QuickScores, Softball Game
TRANSP:OPAQUE
BEGIN:VALARM
TRIGGER:-PT2H
ACTION:DISPLAY
DESCRIPTION:MSP Stars vs. Elmhurst Emeralds
END:VALARM
END:VEVENT
BEGIN:VEVENT
UID:csparks-64753170-20240930T173000@quickscores.com
DTSTAMP:20260421T151800Z
DTSTART;TZID=America/Chicago:20240930T173000
DURATION:PT1H30M0S
SUMMARY:Roselle Rockers vs. Elmhurst Emeralds
DESCRIPTION:Travel Softball League - 14u - Carol Stream Park District
LOCATION:McCaslin 3
CATEGORIES:QuickScores, Softball Game
TRANSP:OPAQUE
BEGIN:VALARM
TRIGGER:-PT2H
ACTION:DISPLAY
DESCRIPTION:Roselle Rockers vs. Elmhurst Emeralds
END:VALARM
END:VEVENT
BEGIN:VEVENT
UID:csparks-64753173-20241003T203000@quickscores.com
DTSTAMP:20260421T151800Z
DTSTART;TZID=America/Chicago:20241003T203000
DURATION:PT1H30M0S
SUMMARY:Elmhurst Emeralds vs. Carol Stream Storm
DESCRIPTION:Travel Softball League - 14u - Carol Stream Park District
LOCATION:Armstrong 4
CATEGORIES:QuickScores, Softball Game
TRANSP:OPAQUE
BEGIN:VALARM
TRIGGER:-PT2H
ACTION:DISPLAY
DESCRIPTION:Elmhurst Emeralds vs. Carol Stream Storm
END:VALARM
END:VEVENT
BEGIN:VEVENT
UID:csparks-65333032-20241007T203000@quickscores.com
DTSTAMP:20260421T151800Z
DTSTART;TZID=America/Chicago:20241007T203000
DURATION:PT1H30M0S
SUMMARY:[4] DuPage Revolution vs. [5] Elmhurst Emeralds
DESCRIPTION:Travel Softball League - 14u - Carol Stream Park District
LOCATION:McCaslin 2
CATEGORIES:QuickScores, Softball Game
TRANSP:OPAQUE
BEGIN:VALARM
TRIGGER:-PT2H
ACTION:DISPLAY
DESCRIPTION:[4] DuPage Revolution vs. [5] Elmhurst Emeralds
END:VALARM
END:VEVENT
BEGIN:VEVENT
UID:csparks-65333035-20241009T190000@quickscores.com
DTSTAMP:20260421T151800Z
DTSTART;TZID=America/Chicago:20241009T190000
DURATION:PT1H30M0S
SUMMARY:[1] MSP Stars vs. [5] Elmhurst Emeralds
DESCRIPTION:Travel Softball League - 14u - Carol Stream Park District
LOCATION:McCaslin 4
CATEGORIES:QuickScores, Softball Game
TRANSP:OPAQUE
BEGIN:VALARM
TRIGGER:-PT2H
ACTION:DISPLAY
DESCRIPTION:[1] MSP Stars vs. [5] Elmhurst Emeralds
END:VALARM
END:VEVENT
END:VCALENDAR
