BEGIN:VCALENDAR
VERSION:2.0
PRODID:-//QuickScores.com//BQ Dynamic iCal Creator//EN
METHOD:PUBLISH
X-WR-CALNAME:DuPage Revolution - Travel Softball League - 14u - Fall 2024
X-WR-CALDESC:QuickScores game calendar
X-PUBLISHED-TTL:PT24H
REFRESH-INTERVAL;VALUE=DURATION:PT24H
CALSCALE:GREGORIAN
BEGIN:VTIMEZONE
TZID:America/Chicago
X-LIC-LOCATION:America/Chicago
BEGIN:DAYLIGHT
TZNAME:CDT
TZOFFSETFROM:-0600
TZOFFSETTO:-0500
DTSTART:19700308T020000
RRULE:FREQ=YEARLY;BYMONTH=3;BYDAY=2SU
END:DAYLIGHT
BEGIN:STANDARD
TZNAME:CST
TZOFFSETFROM:-0500
TZOFFSETTO:-0600
DTSTART:19701101T020000
RRULE:FREQ=YEARLY;BYMONTH=11;BYDAY=1SU
END:STANDARD
END:VTIMEZONE
BEGIN:VEVENT
UID:csparks-64753147-20240905T203000@quickscores.com
DTSTAMP:20260421T235100Z
DTSTART;TZID=America/Chicago:20240905T203000
DURATION:PT1H30M0S
SUMMARY:Elmhurst Emeralds vs. DuPage Revolution
DESCRIPTION:Travel Softball League - 14u - Carol Stream Park District
LOCATION:Armstrong 4
CATEGORIES:QuickScores, Softball Game
TRANSP:OPAQUE
BEGIN:VALARM
TRIGGER:-PT2H
ACTION:DISPLAY
DESCRIPTION:Elmhurst Emeralds vs. DuPage Revolution
END:VALARM
END:VEVENT
BEGIN:VEVENT
UID:csparks-64753143-20240906T190000@quickscores.com
DTSTAMP:20260421T235100Z
DTSTART;TZID=America/Chicago:20240906T190000
DURATION:PT1H30M0S
SUMMARY:DuPage Revolution vs. Wheaton Wildcats
DESCRIPTION:Travel Softball League - 14u - Carol Stream Park District
LOCATION:McCaslin 2
CATEGORIES:QuickScores, Softball Game
TRANSP:OPAQUE
BEGIN:VALARM
TRIGGER:-PT2H
ACTION:DISPLAY
DESCRIPTION:DuPage Revolution vs. Wheaton Wildcats
END:VALARM
END:VEVENT
BEGIN:VEVENT
UID:csparks-64753151-20240914T180000@quickscores.com
DTSTAMP:20260421T235100Z
DTSTART;TZID=America/Chicago:20240914T180000
DURATION:PT1H30M0S
SUMMARY:Roselle Rockers vs. DuPage Revolution
DESCRIPTION:Travel Softball League - 14u - Carol Stream Park District
LOCATION:Armstrong 2
CATEGORIES:QuickScores, Softball Game
TRANSP:OPAQUE
BEGIN:VALARM
TRIGGER:-PT2H
ACTION:DISPLAY
DESCRIPTION:Roselle Rockers vs. DuPage Revolution
END:VALARM
END:VEVENT
BEGIN:VEVENT
UID:csparks-64753160-20240917T183000@quickscores.com
DTSTAMP:20260421T235100Z
DTSTART;TZID=America/Chicago:20240917T183000
DURATION:PT1H30M0S
SUMMARY:DuPage Revolution vs. Elmhurst Emeralds
DESCRIPTION:Travel Softball League - 14u - Carol Stream Park District
LOCATION:McCaslin 2
CATEGORIES:QuickScores, Softball Game
TRANSP:OPAQUE
BEGIN:VALARM
TRIGGER:-PT2H
ACTION:DISPLAY
DESCRIPTION:DuPage Revolution vs. Elmhurst Emeralds
END:VALARM
END:VEVENT
BEGIN:VEVENT
UID:csparks-64753156-20240918T190000@quickscores.com
DTSTAMP:20260421T235100Z
DTSTART;TZID=America/Chicago:20240918T190000
DURATION:PT1H30M0S
SUMMARY:DuPage Revolution vs. MSP Stars
DESCRIPTION:Travel Softball League - 14u - Carol Stream Park District
LOCATION:McCaslin 2
CATEGORIES:QuickScores, Softball Game
TRANSP:OPAQUE
BEGIN:VALARM
TRIGGER:-PT2H
ACTION:DISPLAY
DESCRIPTION:DuPage Revolution vs. MSP Stars
END:VALARM
END:VEVENT
BEGIN:VEVENT
UID:csparks-64753163-20240926T203000@quickscores.com
DTSTAMP:20260421T235100Z
DTSTART;TZID=America/Chicago:20240926T203000
DURATION:PT1H30M0S
SUMMARY:Carol Stream Storm vs. DuPage Revolution
DESCRIPTION:Travel Softball League - 14u - Carol Stream Park District
LOCATION:Armstrong 3
CATEGORIES:QuickScores, Softball Game
TRANSP:OPAQUE
BEGIN:VALARM
TRIGGER:-PT2H
ACTION:DISPLAY
DESCRIPTION:Carol Stream Storm vs. DuPage Revolution
END:VALARM
END:VEVENT
BEGIN:VEVENT
UID:csparks-64753172-20241001T203000@quickscores.com
DTSTAMP:20260421T235100Z
DTSTART;TZID=America/Chicago:20241001T203000
DURATION:PT1H30M0S
SUMMARY:DuPage Revolution vs. Lombard Thunder
DESCRIPTION:Travel Softball League - 14u - Carol Stream Park District
LOCATION:McCaslin 1
CATEGORIES:QuickScores, Softball Game
TRANSP:OPAQUE
BEGIN:VALARM
TRIGGER:-PT2H
ACTION:DISPLAY
DESCRIPTION:DuPage Revolution vs. Lombard Thunder
END:VALARM
END:VEVENT
BEGIN:VEVENT
UID:csparks-64753169-20241004T203000@quickscores.com
DTSTAMP:20260421T235100Z
DTSTART;TZID=America/Chicago:20241004T203000
DURATION:PT1H30M0S
SUMMARY:Bloomingdale Blast vs. DuPage Revolution
DESCRIPTION:Travel Softball League - 14u - Carol Stream Park District
LOCATION:McCaslin 2
CATEGORIES:QuickScores, Softball Game
TRANSP:OPAQUE
BEGIN:VALARM
TRIGGER:-PT2H
ACTION:DISPLAY
DESCRIPTION:Bloomingdale Blast vs. DuPage Revolution
END:VALARM
END:VEVENT
BEGIN:VEVENT
UID:csparks-65333032-20241007T203000@quickscores.com
DTSTAMP:20260421T235100Z
DTSTART;TZID=America/Chicago:20241007T203000
DURATION:PT1H30M0S
SUMMARY:[4] DuPage Revolution vs. [5] Elmhurst Emeralds
DESCRIPTION:Travel Softball League - 14u - Carol Stream Park District
LOCATION:McCaslin 2
CATEGORIES:QuickScores, Softball Game
TRANSP:OPAQUE
BEGIN:VALARM
TRIGGER:-PT2H
ACTION:DISPLAY
DESCRIPTION:[4] DuPage Revolution vs. [5] Elmhurst Emeralds
END:VALARM
END:VEVENT
END:VCALENDAR
