BEGIN:VCALENDAR
VERSION:2.0
PRODID:-//QuickScores.com//BQ Dynamic iCal Creator//EN
METHOD:PUBLISH
X-WR-CALNAME:Genva Valkyrie - Travel Softball League - 13u - Fall 2024
X-WR-CALDESC:QuickScores game calendar
X-PUBLISHED-TTL:PT24H
REFRESH-INTERVAL;VALUE=DURATION:PT24H
CALSCALE:GREGORIAN
BEGIN:VTIMEZONE
TZID:America/Chicago
X-LIC-LOCATION:America/Chicago
BEGIN:DAYLIGHT
TZNAME:CDT
TZOFFSETFROM:-0600
TZOFFSETTO:-0500
DTSTART:19700308T020000
RRULE:FREQ=YEARLY;BYMONTH=3;BYDAY=2SU
END:DAYLIGHT
BEGIN:STANDARD
TZNAME:CST
TZOFFSETFROM:-0500
TZOFFSETTO:-0600
DTSTART:19701101T020000
RRULE:FREQ=YEARLY;BYMONTH=11;BYDAY=1SU
END:STANDARD
END:VTIMEZONE
BEGIN:VEVENT
UID:csparks-64751977-20240903T190000@quickscores.com
DTSTAMP:20260422T224100Z
DTSTART;TZID=America/Chicago:20240903T190000
DURATION:PT1H30M0S
SUMMARY:Genva Valkyrie vs. DuPage Revolution
DESCRIPTION:Travel Softball League - 13u - Carol Stream Park District
LOCATION:McCaslin 1
CATEGORIES:QuickScores, Softball Game
TRANSP:OPAQUE
BEGIN:VALARM
TRIGGER:-PT2H
ACTION:DISPLAY
DESCRIPTION:Genva Valkyrie vs. DuPage Revolution
END:VALARM
END:VEVENT
BEGIN:VEVENT
UID:csparks-64751976-20240904T203000@quickscores.com
DTSTAMP:20260422T224100Z
DTSTART;TZID=America/Chicago:20240904T203000
DURATION:PT1H30M0S
SUMMARY:Genva Valkyrie vs. Illinois Hawks - DeCubellis
DESCRIPTION:Travel Softball League - 13u - Carol Stream Park District
LOCATION:McCaslin 3
CATEGORIES:QuickScores, Softball Game
TRANSP:OPAQUE
BEGIN:VALARM
TRIGGER:-PT2H
ACTION:DISPLAY
DESCRIPTION:Genva Valkyrie vs. Illinois Hawks - DeCubellis
END:VALARM
END:VEVENT
BEGIN:VEVENT
UID:csparks-64751978-20240910T190000@quickscores.com
DTSTAMP:20260422T224100Z
DTSTART;TZID=America/Chicago:20240910T190000
DURATION:PT1H30M0S
SUMMARY:DuPage Revolution vs. Genva Valkyrie
DESCRIPTION:Travel Softball League - 13u - Carol Stream Park District
LOCATION:McCaslin 1
CATEGORIES:QuickScores, Softball Game
TRANSP:OPAQUE
BEGIN:VALARM
TRIGGER:-PT2H
ACTION:DISPLAY
DESCRIPTION:DuPage Revolution vs. Genva Valkyrie
END:VALARM
END:VEVENT
BEGIN:VEVENT
UID:csparks-64751987-20240917T203000@quickscores.com
DTSTAMP:20260422T224100Z
DTSTART;TZID=America/Chicago:20240917T203000
DURATION:PT1H30M0S
SUMMARY:MSP Stars vs. Genva Valkyrie
DESCRIPTION:Travel Softball League - 13u - Carol Stream Park District
LOCATION:McCaslin 1
CATEGORIES:QuickScores, Softball Game
TRANSP:OPAQUE
BEGIN:VALARM
TRIGGER:-PT2H
ACTION:DISPLAY
DESCRIPTION:MSP Stars vs. Genva Valkyrie
END:VALARM
END:VEVENT
BEGIN:VEVENT
UID:csparks-64751983-20240918T183000@quickscores.com
DTSTAMP:20260422T224100Z
DTSTART;TZID=America/Chicago:20240918T183000
DURATION:PT1H30M0S
SUMMARY:Illinois Hawks - DeCubellis vs. Genva Valkyrie
DESCRIPTION:Travel Softball League - 13u - Carol Stream Park District
LOCATION:McCaslin 3
CATEGORIES:QuickScores, Softball Game
TRANSP:OPAQUE
BEGIN:VALARM
TRIGGER:-PT2H
ACTION:DISPLAY
DESCRIPTION:Illinois Hawks - DeCubellis vs. Genva Valkyrie
END:VALARM
END:VEVENT
BEGIN:VEVENT
UID:csparks-64751988-20240927T203000@quickscores.com
DTSTAMP:20260422T224100Z
DTSTART;TZID=America/Chicago:20240927T203000
DURATION:PT1H30M0S
SUMMARY:Genva Valkyrie vs. Illinois Hawks - Stockdale
DESCRIPTION:Travel Softball League - 13u - Carol Stream Park District
LOCATION:Armstrong 3
CATEGORIES:QuickScores, Softball Game
TRANSP:OPAQUE
BEGIN:VALARM
TRIGGER:-PT2H
ACTION:DISPLAY
DESCRIPTION:Genva Valkyrie vs. Illinois Hawks - Stockdale
END:VALARM
END:VEVENT
BEGIN:VEVENT
UID:csparks-64751994-20241002T173000@quickscores.com
DTSTAMP:20260422T224100Z
DTSTART;TZID=America/Chicago:20241002T173000
DURATION:PT1H30M0S
SUMMARY:Batavia Bulldogs vs. Genva Valkyrie
DESCRIPTION:Travel Softball League - 13u - Carol Stream Park District
LOCATION:McCaslin 3
CATEGORIES:QuickScores, Softball Game
TRANSP:OPAQUE
BEGIN:VALARM
TRIGGER:-PT2H
ACTION:DISPLAY
DESCRIPTION:Batavia Bulldogs vs. Genva Valkyrie
END:VALARM
END:VEVENT
BEGIN:VEVENT
UID:csparks-64751997-20241002T203000@quickscores.com
DTSTAMP:20260422T224100Z
DTSTART;TZID=America/Chicago:20241002T203000
DURATION:PT1H30M0S
SUMMARY:Genva Valkyrie vs. MSP Stars
DESCRIPTION:Travel Softball League - 13u - Carol Stream Park District
LOCATION:McCaslin 2
CATEGORIES:QuickScores, Softball Game
TRANSP:OPAQUE
BEGIN:VALARM
TRIGGER:-PT2H
ACTION:DISPLAY
DESCRIPTION:Genva Valkyrie vs. MSP Stars
END:VALARM
END:VEVENT
BEGIN:VEVENT
UID:csparks-65333023-20241007T203000@quickscores.com
DTSTAMP:20260422T224100Z
DTSTART;TZID=America/Chicago:20241007T203000
DURATION:PT1H30M0S
SUMMARY:[3] Batavia Bulldogs vs. [6] Genva Valkyrie
DESCRIPTION:Travel Softball League - 13u - Carol Stream Park District
LOCATION:McCaslin 1
CATEGORIES:QuickScores, Softball Game
TRANSP:OPAQUE
BEGIN:VALARM
TRIGGER:-PT2H
ACTION:DISPLAY
DESCRIPTION:[3] Batavia Bulldogs vs. [6] Genva Valkyrie
END:VALARM
END:VEVENT
BEGIN:VEVENT
UID:csparks-65333025-20241009T203000@quickscores.com
DTSTAMP:20260422T224100Z
DTSTART;TZID=America/Chicago:20241009T203000
DURATION:PT1H30M0S
SUMMARY:[2] Illinois Hawks - DeCubellis vs. [6] Genva Valkyrie
DESCRIPTION:Travel Softball League - 13u - Carol Stream Park District
LOCATION:McCaslin 3
CATEGORIES:QuickScores, Softball Game
TRANSP:OPAQUE
BEGIN:VALARM
TRIGGER:-PT2H
ACTION:DISPLAY
DESCRIPTION:[2] Illinois Hawks - DeCubellis vs. [6] Genva Valkyrie
END:VALARM
END:VEVENT
END:VCALENDAR
