BEGIN:VCALENDAR
VERSION:2.0
PRODID:-//QuickScores.com//BQ Dynamic iCal Creator//EN
METHOD:PUBLISH
X-WR-CALNAME:Fagan - Youth Soccer Practices - 5th/6th Grade Coed - Fall 2024
X-WR-CALDESC:QuickScores game calendar
X-PUBLISHED-TTL:PT24H
REFRESH-INTERVAL;VALUE=DURATION:PT24H
CALSCALE:GREGORIAN
BEGIN:VTIMEZONE
TZID:America/Chicago
X-LIC-LOCATION:America/Chicago
BEGIN:DAYLIGHT
TZNAME:CDT
TZOFFSETFROM:-0600
TZOFFSETTO:-0500
DTSTART:19700308T020000
RRULE:FREQ=YEARLY;BYMONTH=3;BYDAY=2SU
END:DAYLIGHT
BEGIN:STANDARD
TZNAME:CST
TZOFFSETFROM:-0500
TZOFFSETTO:-0600
DTSTART:19701101T020000
RRULE:FREQ=YEARLY;BYMONTH=11;BYDAY=1SU
END:STANDARD
END:VTIMEZONE
BEGIN:VEVENT
UID:csparks-64354413-20240805T173000@quickscores.com
DTSTAMP:20260424T063900Z
DTSTART;TZID=America/Chicago:20240805T173000
DURATION:PT1H0M0S
SUMMARY:Fagan vs. Fagan
DESCRIPTION:Youth Soccer Practices - 5th/6th Grade Coed - Carol Stream Park District
LOCATION:Hampe 4 - Lower Soccer
CATEGORIES:QuickScores, Facilities Game
TRANSP:OPAQUE
BEGIN:VALARM
TRIGGER:-PT2H
ACTION:DISPLAY
DESCRIPTION:Fagan vs. Fagan
END:VALARM
END:VEVENT
BEGIN:VEVENT
UID:csparks-64354418-20240812T173000@quickscores.com
DTSTAMP:20260424T063900Z
DTSTART;TZID=America/Chicago:20240812T173000
DURATION:PT1H0M0S
SUMMARY:Fagan vs. Fagan
DESCRIPTION:Youth Soccer Practices - 5th/6th Grade Coed - Carol Stream Park District
LOCATION:Hampe 4 - Lower Soccer
CATEGORIES:QuickScores, Facilities Game
TRANSP:OPAQUE
BEGIN:VALARM
TRIGGER:-PT2H
ACTION:DISPLAY
DESCRIPTION:Fagan vs. Fagan
END:VALARM
END:VEVENT
BEGIN:VEVENT
UID:csparks-64354419-20240819T173000@quickscores.com
DTSTAMP:20260424T063900Z
DTSTART;TZID=America/Chicago:20240819T173000
DURATION:PT1H0M0S
SUMMARY:Fagan vs. Fagan
DESCRIPTION:Youth Soccer Practices - 5th/6th Grade Coed - Carol Stream Park District
LOCATION:Hampe 4 - Lower Soccer
CATEGORIES:QuickScores, Facilities Game
TRANSP:OPAQUE
BEGIN:VALARM
TRIGGER:-PT2H
ACTION:DISPLAY
DESCRIPTION:Fagan vs. Fagan
END:VALARM
END:VEVENT
BEGIN:VEVENT
UID:csparks-64354420-20240826T173000@quickscores.com
DTSTAMP:20260424T063900Z
DTSTART;TZID=America/Chicago:20240826T173000
DURATION:PT1H0M0S
SUMMARY:Fagan vs. Fagan
DESCRIPTION:Youth Soccer Practices - 5th/6th Grade Coed - Carol Stream Park District
LOCATION:Hampe 4 - Lower Soccer
CATEGORIES:QuickScores, Facilities Game
TRANSP:OPAQUE
BEGIN:VALARM
TRIGGER:-PT2H
ACTION:DISPLAY
DESCRIPTION:Fagan vs. Fagan
END:VALARM
END:VEVENT
BEGIN:VEVENT
UID:csparks-64354421-20240905T183000@quickscores.com
DTSTAMP:20260424T063900Z
DTSTART;TZID=America/Chicago:20240905T183000
DURATION:PT1H0M0S
SUMMARY:Fagan vs. Fagan
DESCRIPTION:Updated --- Youth Soccer Practices - 5th/6th Grade Coed - Carol Stream Park District
LOCATION:Hampe 4 - Lower Soccer
CATEGORIES:QuickScores, Facilities Game
TRANSP:OPAQUE
BEGIN:VALARM
TRIGGER:-PT2H
ACTION:DISPLAY
DESCRIPTION:Fagan vs. Fagan
END:VALARM
END:VEVENT
BEGIN:VEVENT
UID:csparks-64354422-20240909T173000@quickscores.com
DTSTAMP:20260424T063900Z
DTSTART;TZID=America/Chicago:20240909T173000
DURATION:PT1H0M0S
SUMMARY:Fagan vs. Fagan
DESCRIPTION:Youth Soccer Practices - 5th/6th Grade Coed - Carol Stream Park District
LOCATION:Hampe 4 - Lower Soccer
CATEGORIES:QuickScores, Facilities Game
TRANSP:OPAQUE
BEGIN:VALARM
TRIGGER:-PT2H
ACTION:DISPLAY
DESCRIPTION:Fagan vs. Fagan
END:VALARM
END:VEVENT
BEGIN:VEVENT
UID:csparks-64354423-20240916T173000@quickscores.com
DTSTAMP:20260424T063900Z
DTSTART;TZID=America/Chicago:20240916T173000
DURATION:PT1H0M0S
SUMMARY:Fagan vs. Fagan
DESCRIPTION:Youth Soccer Practices - 5th/6th Grade Coed - Carol Stream Park District
LOCATION:Hampe 4 - Lower Soccer
CATEGORIES:QuickScores, Facilities Game
TRANSP:OPAQUE
BEGIN:VALARM
TRIGGER:-PT2H
ACTION:DISPLAY
DESCRIPTION:Fagan vs. Fagan
END:VALARM
END:VEVENT
BEGIN:VEVENT
UID:csparks-64354424-20240923T173000@quickscores.com
DTSTAMP:20260424T063900Z
DTSTART;TZID=America/Chicago:20240923T173000
DURATION:PT1H0M0S
SUMMARY:Fagan vs. Fagan
DESCRIPTION:Youth Soccer Practices - 5th/6th Grade Coed - Carol Stream Park District
LOCATION:Hampe 4 - Lower Soccer
CATEGORIES:QuickScores, Facilities Game
TRANSP:OPAQUE
BEGIN:VALARM
TRIGGER:-PT2H
ACTION:DISPLAY
DESCRIPTION:Fagan vs. Fagan
END:VALARM
END:VEVENT
BEGIN:VEVENT
UID:csparks-64354425-20240930T173000@quickscores.com
DTSTAMP:20260424T063900Z
DTSTART;TZID=America/Chicago:20240930T173000
DURATION:PT1H0M0S
SUMMARY:Fagan vs. Fagan
DESCRIPTION:Youth Soccer Practices - 5th/6th Grade Coed - Carol Stream Park District
LOCATION:Hampe 4 - Lower Soccer
CATEGORIES:QuickScores, Facilities Game
TRANSP:OPAQUE
BEGIN:VALARM
TRIGGER:-PT2H
ACTION:DISPLAY
DESCRIPTION:Fagan vs. Fagan
END:VALARM
END:VEVENT
BEGIN:VEVENT
UID:csparks-65544989-20241007T173000@quickscores.com
DTSTAMP:20260424T063900Z
DTSTART;TZID=America/Chicago:20241007T173000
DURATION:PT1H0M0S
SUMMARY:Fagan vs. Fagan
DESCRIPTION:Youth Soccer Practices - 5th/6th Grade Coed - Carol Stream Park District
LOCATION:Hampe 4 - Lower Soccer
CATEGORIES:QuickScores, Facilities Game
TRANSP:OPAQUE
BEGIN:VALARM
TRIGGER:-PT2H
ACTION:DISPLAY
DESCRIPTION:Fagan vs. Fagan
END:VALARM
END:VEVENT
BEGIN:VEVENT
UID:csparks-65544993-20241014T173000@quickscores.com
DTSTAMP:20260424T063900Z
DTSTART;TZID=America/Chicago:20241014T173000
DURATION:PT1H0M0S
SUMMARY:Fagan vs. Fagan
DESCRIPTION:Youth Soccer Practices - 5th/6th Grade Coed - Carol Stream Park District
LOCATION:Hampe 4 - Lower Soccer
CATEGORIES:QuickScores, Facilities Game
TRANSP:OPAQUE
BEGIN:VALARM
TRIGGER:-PT2H
ACTION:DISPLAY
DESCRIPTION:Fagan vs. Fagan
END:VALARM
END:VEVENT
END:VCALENDAR
