BEGIN:VCALENDAR
VERSION:2.0
PRODID:-//QuickScores.com//BQ Dynamic iCal Creator//EN
METHOD:PUBLISH
X-WR-CALNAME:The Beatdowns - Adult Softball - Tuesday Coed League (updated) - Summer 2024
X-WR-CALDESC:QuickScores game calendar
X-PUBLISHED-TTL:PT24H
REFRESH-INTERVAL;VALUE=DURATION:PT24H
CALSCALE:GREGORIAN
BEGIN:VTIMEZONE
TZID:America/Chicago
X-LIC-LOCATION:America/Chicago
BEGIN:DAYLIGHT
TZNAME:CDT
TZOFFSETFROM:-0600
TZOFFSETTO:-0500
DTSTART:19700308T020000
RRULE:FREQ=YEARLY;BYMONTH=3;BYDAY=2SU
END:DAYLIGHT
BEGIN:STANDARD
TZNAME:CST
TZOFFSETFROM:-0500
TZOFFSETTO:-0600
DTSTART:19701101T020000
RRULE:FREQ=YEARLY;BYMONTH=11;BYDAY=1SU
END:STANDARD
END:VTIMEZONE
BEGIN:VEVENT
UID:csparks-63698173-20240611T191500@quickscores.com
DTSTAMP:20260423T122600Z
DTSTART;TZID=America/Chicago:20240611T191500
DURATION:PT1H0M0S
SUMMARY:Screwballs - Wolter vs. The Beatdowns
DESCRIPTION:Adult Softball - Tuesday Coed League (updated) - Carol Stream Park District
LOCATION:McCaslin 3
CATEGORIES:QuickScores, Softball - Adult Game
TRANSP:OPAQUE
BEGIN:VALARM
TRIGGER:-PT2H
ACTION:DISPLAY
DESCRIPTION:Screwballs - Wolter vs. The Beatdowns
END:VALARM
END:VEVENT
BEGIN:VEVENT
UID:csparks-63698179-20240618T191500@quickscores.com
DTSTAMP:20260423T122600Z
DTSTART;TZID=America/Chicago:20240618T191500
DURATION:PT1H0M0S
SUMMARY:Smooch Squad vs. The Beatdowns
DESCRIPTION:Adult Softball - Tuesday Coed League (updated) - Carol Stream Park District
LOCATION:McCaslin 3
CATEGORIES:QuickScores, Softball - Adult Game
TRANSP:OPAQUE
BEGIN:VALARM
TRIGGER:-PT2H
ACTION:DISPLAY
DESCRIPTION:Smooch Squad vs. The Beatdowns
END:VALARM
END:VEVENT
BEGIN:VEVENT
UID:csparks-63698185-20240625T211500@quickscores.com
DTSTAMP:20260423T122600Z
DTSTART;TZID=America/Chicago:20240625T211500
DURATION:PT1H0M0S
SUMMARY:The Beatdowns vs. Biggie Bats
DESCRIPTION:Adult Softball - Tuesday Coed League (updated) - Carol Stream Park District
LOCATION:McCaslin 3
CATEGORIES:QuickScores, Softball - Adult Game
TRANSP:OPAQUE
BEGIN:VALARM
TRIGGER:-PT2H
ACTION:DISPLAY
DESCRIPTION:The Beatdowns vs. Biggie Bats
END:VALARM
END:VEVENT
BEGIN:VEVENT
UID:csparks-63698191-20240702T181500@quickscores.com
DTSTAMP:20260423T122600Z
DTSTART;TZID=America/Chicago:20240702T181500
DURATION:PT1H0M0S
SUMMARY:The Beatdowns vs. Kumquats
DESCRIPTION:Adult Softball - Tuesday Coed League (updated) - Carol Stream Park District
LOCATION:McCaslin 4
CATEGORIES:QuickScores, Softball - Adult Game
TRANSP:OPAQUE
BEGIN:VALARM
TRIGGER:-PT2H
ACTION:DISPLAY
DESCRIPTION:The Beatdowns vs. Kumquats
END:VALARM
END:VEVENT
BEGIN:VEVENT
UID:csparks-63698209-20240730T181500@quickscores.com
DTSTAMP:20260423T122600Z
DTSTART;TZID=America/Chicago:20240730T181500
DURATION:PT1H0M0S
SUMMARY:The Beatdowns vs. Should've Been Amish
DESCRIPTION:Adult Softball - Tuesday Coed League (updated) - Carol Stream Park District
LOCATION:McCaslin 3
CATEGORIES:QuickScores, Softball - Adult Game
TRANSP:OPAQUE
BEGIN:VALARM
TRIGGER:-PT2H
ACTION:DISPLAY
DESCRIPTION:The Beatdowns vs. Should've Been Amish
END:VALARM
END:VEVENT
BEGIN:VEVENT
UID:csparks-63698167-20240730T191500@quickscores.com
DTSTAMP:20260423T122600Z
DTSTART;TZID=America/Chicago:20240730T191500
DURATION:PT1H0M0S
SUMMARY:Chrissy's vs. The Beatdowns
DESCRIPTION:Rescheduled from 6/4 --- Adult Softball - Tuesday Coed League (updated) - Carol Stream Park District
LOCATION:McCaslin 4
CATEGORIES:QuickScores, Softball - Adult Game
TRANSP:OPAQUE
BEGIN:VALARM
TRIGGER:-PT2H
ACTION:DISPLAY
DESCRIPTION:Chrissy's vs. The Beatdowns
END:VALARM
END:VEVENT
BEGIN:VEVENT
UID:csparks-63698197-20240806T201500@quickscores.com
DTSTAMP:20260423T122600Z
DTSTART;TZID=America/Chicago:20240806T201500
DURATION:PT1H0M0S
SUMMARY:Midpoint vs. The Beatdowns
DESCRIPTION:Moved from 7/9 --- Adult Softball - Tuesday Coed League (updated) - Carol Stream Park District
LOCATION:McCaslin 4
CATEGORIES:QuickScores, Softball - Adult Game
TRANSP:OPAQUE
BEGIN:VALARM
TRIGGER:-PT2H
ACTION:DISPLAY
DESCRIPTION:Midpoint vs. The Beatdowns
END:VALARM
END:VEVENT
BEGIN:VEVENT
UID:csparks-63698203-20240806T211500@quickscores.com
DTSTAMP:20260423T122600Z
DTSTART;TZID=America/Chicago:20240806T211500
DURATION:PT1H0M0S
SUMMARY:The Beatdowns vs. Bulldogs
DESCRIPTION:Rescheduled from 7/23 --- Adult Softball - Tuesday Coed League (updated) - Carol Stream Park District
LOCATION:McCaslin 1
CATEGORIES:QuickScores, Softball - Adult Game
TRANSP:OPAQUE
BEGIN:VALARM
TRIGGER:-PT2H
ACTION:DISPLAY
DESCRIPTION:The Beatdowns vs. Bulldogs
END:VALARM
END:VEVENT
END:VCALENDAR
