BEGIN:VCALENDAR
VERSION:2.0
PRODID:-//QuickScores.com//BQ Dynamic iCal Creator//EN
METHOD:PUBLISH
X-WR-CALNAME:Lightning - Adult Softball - Tuesday Coed League (updated) - Summer 2024
X-WR-CALDESC:QuickScores game calendar
X-PUBLISHED-TTL:PT24H
REFRESH-INTERVAL;VALUE=DURATION:PT24H
CALSCALE:GREGORIAN
BEGIN:VTIMEZONE
TZID:America/Chicago
X-LIC-LOCATION:America/Chicago
BEGIN:DAYLIGHT
TZNAME:CDT
TZOFFSETFROM:-0600
TZOFFSETTO:-0500
DTSTART:19700308T020000
RRULE:FREQ=YEARLY;BYMONTH=3;BYDAY=2SU
END:DAYLIGHT
BEGIN:STANDARD
TZNAME:CST
TZOFFSETFROM:-0500
TZOFFSETTO:-0600
DTSTART:19701101T020000
RRULE:FREQ=YEARLY;BYMONTH=11;BYDAY=1SU
END:STANDARD
END:VTIMEZONE
BEGIN:VEVENT
UID:csparks-63698168-20240604T211500@quickscores.com
DTSTAMP:20260424T202200Z
DTSTART;TZID=America/Chicago:20240604T211500
DURATION:PT1H0M0S
SUMMARY:Lightning vs. Should've Been Amish
DESCRIPTION:Adult Softball - Tuesday Coed League (updated) - Carol Stream Park District
LOCATION:McCaslin 2
CATEGORIES:QuickScores, Softball - Adult Game
TRANSP:OPAQUE
BEGIN:VALARM
TRIGGER:-PT2H
ACTION:DISPLAY
DESCRIPTION:Lightning vs. Should've Been Amish
END:VALARM
END:VEVENT
BEGIN:VEVENT
UID:csparks-63698178-20240611T211500@quickscores.com
DTSTAMP:20260424T202200Z
DTSTART;TZID=America/Chicago:20240611T211500
DURATION:PT1H0M0S
SUMMARY:Screwballs - Walker vs. Lightning
DESCRIPTION:Adult Softball - Tuesday Coed League (updated) - Carol Stream Park District
LOCATION:McCaslin 3
CATEGORIES:QuickScores, Softball - Adult Game
TRANSP:OPAQUE
BEGIN:VALARM
TRIGGER:-PT2H
ACTION:DISPLAY
DESCRIPTION:Screwballs - Walker vs. Lightning
END:VALARM
END:VEVENT
BEGIN:VEVENT
UID:csparks-63698182-20240618T211500@quickscores.com
DTSTAMP:20260424T202200Z
DTSTART;TZID=America/Chicago:20240618T211500
DURATION:PT1H0M0S
SUMMARY:Biggie Bats vs. Lightning
DESCRIPTION:Adult Softball - Tuesday Coed League (updated) - Carol Stream Park District
LOCATION:McCaslin 2
CATEGORIES:QuickScores, Softball - Adult Game
TRANSP:OPAQUE
BEGIN:VALARM
TRIGGER:-PT2H
ACTION:DISPLAY
DESCRIPTION:Biggie Bats vs. Lightning
END:VALARM
END:VEVENT
BEGIN:VEVENT
UID:csparks-63698190-20240625T201500@quickscores.com
DTSTAMP:20260424T202200Z
DTSTART;TZID=America/Chicago:20240625T201500
DURATION:PT1H0M0S
SUMMARY:Lightning vs. Bulldogs
DESCRIPTION:Adult Softball - Tuesday Coed League (updated) - Carol Stream Park District
LOCATION:McCaslin 3
CATEGORIES:QuickScores, Softball - Adult Game
TRANSP:OPAQUE
BEGIN:VALARM
TRIGGER:-PT2H
ACTION:DISPLAY
DESCRIPTION:Lightning vs. Bulldogs
END:VALARM
END:VEVENT
BEGIN:VEVENT
UID:csparks-63698171-20240702T181500@quickscores.com
DTSTAMP:20260424T202200Z
DTSTART;TZID=America/Chicago:20240702T181500
DURATION:PT1H0M0S
SUMMARY:Chrissy's vs. Lightning
DESCRIPTION:Adult Softball - Tuesday Coed League (updated) - Carol Stream Park District
LOCATION:McCaslin 3
CATEGORIES:QuickScores, Softball - Adult Game
TRANSP:OPAQUE
BEGIN:VALARM
TRIGGER:-PT2H
ACTION:DISPLAY
DESCRIPTION:Chrissy's vs. Lightning
END:VALARM
END:VEVENT
BEGIN:VEVENT
UID:csparks-63698212-20240730T181500@quickscores.com
DTSTAMP:20260424T202200Z
DTSTART;TZID=America/Chicago:20240730T181500
DURATION:PT1H0M0S
SUMMARY:Screwballs - Wolter vs. Lightning
DESCRIPTION:Adult Softball - Tuesday Coed League (updated) - Carol Stream Park District
LOCATION:McCaslin 4
CATEGORIES:QuickScores, Softball - Adult Game
TRANSP:OPAQUE
BEGIN:VALARM
TRIGGER:-PT2H
ACTION:DISPLAY
DESCRIPTION:Screwballs - Wolter vs. Lightning
END:VALARM
END:VEVENT
BEGIN:VEVENT
UID:csparks-63698201-20240806T191500@quickscores.com
DTSTAMP:20260424T202200Z
DTSTART;TZID=America/Chicago:20240806T191500
DURATION:PT1H0M0S
SUMMARY:Lightning vs. Smooch Squad
DESCRIPTION:Moved from 7/9 --- Adult Softball - Tuesday Coed League (updated) - Carol Stream Park District
LOCATION:McCaslin 4
CATEGORIES:QuickScores, Softball - Adult Game
TRANSP:OPAQUE
BEGIN:VALARM
TRIGGER:-PT2H
ACTION:DISPLAY
DESCRIPTION:Lightning vs. Smooch Squad
END:VALARM
END:VEVENT
BEGIN:VEVENT
UID:csparks-63698204-20240806T211500@quickscores.com
DTSTAMP:20260424T202200Z
DTSTART;TZID=America/Chicago:20240806T211500
DURATION:PT1H0M0S
SUMMARY:Lightning vs. Kumquats
DESCRIPTION:Rescheduled from 7/23 --- Adult Softball - Tuesday Coed League (updated) - Carol Stream Park District
LOCATION:McCaslin 3
CATEGORIES:QuickScores, Softball - Adult Game
TRANSP:OPAQUE
BEGIN:VALARM
TRIGGER:-PT2H
ACTION:DISPLAY
DESCRIPTION:Lightning vs. Kumquats
END:VALARM
END:VEVENT
END:VCALENDAR
