BEGIN:VCALENDAR
VERSION:2.0
PRODID:-//QuickScores.com//BQ Dynamic iCal Creator//EN
METHOD:PUBLISH
X-WR-CALNAME:Mike and Mary Lynn - Adult Pickleball - Thursday - Session 1 - Winter 2022
X-WR-CALDESC:QuickScores game calendar
X-PUBLISHED-TTL:PT24H
REFRESH-INTERVAL;VALUE=DURATION:PT24H
CALSCALE:GREGORIAN
BEGIN:VTIMEZONE
TZID:America/Chicago
X-LIC-LOCATION:America/Chicago
BEGIN:DAYLIGHT
TZNAME:CDT
TZOFFSETFROM:-0600
TZOFFSETTO:-0500
DTSTART:19700308T020000
RRULE:FREQ=YEARLY;BYMONTH=3;BYDAY=2SU
END:DAYLIGHT
BEGIN:STANDARD
TZNAME:CST
TZOFFSETFROM:-0500
TZOFFSETTO:-0600
DTSTART:19701101T020000
RRULE:FREQ=YEARLY;BYMONTH=11;BYDAY=1SU
END:STANDARD
END:VTIMEZONE
BEGIN:VEVENT
UID:csparks-51767808-20220106T193000@quickscores.com
DTSTAMP:20260424T082100Z
DTSTART;TZID=America/Chicago:20220106T193000
DURATION:PT0H45M0S
SUMMARY:Mike and Mary Lynn vs. Dinking Problems
DESCRIPTION:Adult Pickleball - Thursday - Session 1 - Carol Stream Park District
LOCATION:Simkus - Court 2 (West) - Pickleball 1
CATEGORIES:QuickScores, Pickleball Game
TRANSP:OPAQUE
BEGIN:VALARM
TRIGGER:-PT2H
ACTION:DISPLAY
DESCRIPTION:Mike and Mary Lynn vs. Dinking Problems
END:VALARM
END:VEVENT
BEGIN:VEVENT
UID:csparks-51767814-20220113T180000@quickscores.com
DTSTAMP:20260424T082100Z
DTSTART;TZID=America/Chicago:20220113T180000
DURATION:PT0H45M0S
SUMMARY:Mike and Mary Lynn vs. Rugrats
DESCRIPTION:Adult Pickleball - Thursday - Session 1 - Carol Stream Park District
LOCATION:Simkus - Court 2 (West) - Pickleball 1
CATEGORIES:QuickScores, Pickleball Game
TRANSP:OPAQUE
BEGIN:VALARM
TRIGGER:-PT2H
ACTION:DISPLAY
DESCRIPTION:Mike and Mary Lynn vs. Rugrats
END:VALARM
END:VEVENT
BEGIN:VEVENT
UID:csparks-51767826-20220120T180000@quickscores.com
DTSTAMP:20260424T082100Z
DTSTART;TZID=America/Chicago:20220120T180000
DURATION:PT0H45M0S
SUMMARY:Mike and Mary Lynn vs. Fickle Pickle
DESCRIPTION:Time Change --- Adult Pickleball - Thursday - Session 1 - Carol Stream Park District
LOCATION:Simkus - Court 2 (West) - Pickleball 1
CATEGORIES:QuickScores, Pickleball Game
TRANSP:OPAQUE
BEGIN:VALARM
TRIGGER:-PT2H
ACTION:DISPLAY
DESCRIPTION:Mike and Mary Lynn vs. Fickle Pickle
END:VALARM
END:VEVENT
BEGIN:VEVENT
UID:csparks-51767823-20220120T184500@quickscores.com
DTSTAMP:20260424T082100Z
DTSTART;TZID=America/Chicago:20220120T184500
DURATION:PT0H45M0S
SUMMARY:Fifth Element Fitness vs. Mike and Mary Lynn
DESCRIPTION:Time Change --- Adult Pickleball - Thursday - Session 1 - Carol Stream Park District
LOCATION:Simkus - Court 2 (West) - Pickleball 1
CATEGORIES:QuickScores, Pickleball Game
TRANSP:OPAQUE
BEGIN:VALARM
TRIGGER:-PT2H
ACTION:DISPLAY
DESCRIPTION:Fifth Element Fitness vs. Mike and Mary Lynn
END:VALARM
END:VEVENT
BEGIN:VEVENT
UID:csparks-51767830-20220127T184500@quickscores.com
DTSTAMP:20260424T082100Z
DTSTART;TZID=America/Chicago:20220127T184500
DURATION:PT0H45M0S
SUMMARY:Jeff and Colleen vs. Mike and Mary Lynn
DESCRIPTION:Adult Pickleball - Thursday - Session 1 - Carol Stream Park District
LOCATION:Simkus - Court 2 (West) - Pickleball 1
CATEGORIES:QuickScores, Pickleball Game
TRANSP:OPAQUE
BEGIN:VALARM
TRIGGER:-PT2H
ACTION:DISPLAY
DESCRIPTION:Jeff and Colleen vs. Mike and Mary Lynn
END:VALARM
END:VEVENT
BEGIN:VEVENT
UID:csparks-51767841-20220203T201500@quickscores.com
DTSTAMP:20260424T082100Z
DTSTART;TZID=America/Chicago:20220203T201500
DURATION:PT0H45M0S
SUMMARY:King Godilla vs. Mike and Mary Lynn
DESCRIPTION:Adult Pickleball - Thursday - Session 1 - Carol Stream Park District
LOCATION:Simkus - Court 2 (West) - Pickleball 2
CATEGORIES:QuickScores, Pickleball Game
TRANSP:OPAQUE
BEGIN:VALARM
TRIGGER:-PT2H
ACTION:DISPLAY
DESCRIPTION:King Godilla vs. Mike and Mary Lynn
END:VALARM
END:VEVENT
END:VCALENDAR
