BEGIN:VCALENDAR
VERSION:2.0
PRODID:-//QuickScores.com//BQ Dynamic iCal Creator//EN
METHOD:PUBLISH
X-WR-CALNAME:Organized Chaos - Thursday D - 2026 Spring Basketball League
X-WR-CALDESC:QuickScores game calendar
X-PUBLISHED-TTL:PT24H
REFRESH-INTERVAL;VALUE=DURATION:PT24H
CALSCALE:GREGORIAN
BEGIN:VTIMEZONE
TZID:America/Los_Angeles
X-LIC-LOCATION:America/Los_Angeles
BEGIN:DAYLIGHT
TZNAME:PDT
TZOFFSETFROM:-0800
TZOFFSETTO:-0700
DTSTART:19700308T020000
RRULE:FREQ=YEARLY;BYMONTH=3;BYDAY=2SU
END:DAYLIGHT
BEGIN:STANDARD
TZNAME:PST
TZOFFSETFROM:-0700
TZOFFSETTO:-0800
DTSTART:19701101T020000
RRULE:FREQ=YEARLY;BYMONTH=11;BYDAY=1SU
END:STANDARD
END:VTIMEZONE
BEGIN:VEVENT
UID:crpd-72794262-20260205T213000@quickscores.com
DTSTAMP:20260425T144800Z
DTSTART;TZID=America/Los_Angeles:20260205T213000
DURATION:PT1H0M0S
SUMMARY:Skyworks vs. Organized Chaos
DESCRIPTION:Thursday D - Conejo Recreation and Park District
LOCATION:Thousand Oaks Community Center
CATEGORIES:QuickScores, Basketball - Adult Game
TRANSP:OPAQUE
BEGIN:VALARM
TRIGGER:-PT2H
ACTION:DISPLAY
DESCRIPTION:Skyworks vs. Organized Chaos
END:VALARM
END:VEVENT
BEGIN:VEVENT
UID:crpd-72794268-20260212T203000@quickscores.com
DTSTAMP:20260425T144800Z
DTSTART;TZID=America/Los_Angeles:20260212T203000
DURATION:PT1H0M0S
SUMMARY:T.O. Soft vs. Organized Chaos
DESCRIPTION:Thursday D - Conejo Recreation and Park District
LOCATION:Thousand Oaks Community Center
CATEGORIES:QuickScores, Basketball - Adult Game
TRANSP:OPAQUE
BEGIN:VALARM
TRIGGER:-PT2H
ACTION:DISPLAY
DESCRIPTION:T.O. Soft vs. Organized Chaos
END:VALARM
END:VEVENT
BEGIN:VEVENT
UID:crpd-72794271-20260219T193000@quickscores.com
DTSTAMP:20260425T144800Z
DTSTART;TZID=America/Los_Angeles:20260219T193000
DURATION:PT1H0M0S
SUMMARY:Win or Lose vs. Organized Chaos
DESCRIPTION:Thursday D - Conejo Recreation and Park District
LOCATION:Thousand Oaks Community Center
CATEGORIES:QuickScores, Basketball - Adult Game
TRANSP:OPAQUE
BEGIN:VALARM
TRIGGER:-PT2H
ACTION:DISPLAY
DESCRIPTION:Win or Lose vs. Organized Chaos
END:VALARM
END:VEVENT
BEGIN:VEVENT
UID:crpd-72794278-20260226T213000@quickscores.com
DTSTAMP:20260425T144800Z
DTSTART;TZID=America/Los_Angeles:20260226T213000
DURATION:PT1H0M0S
SUMMARY:Box Mambas vs. Organized Chaos
DESCRIPTION:Thursday D - Conejo Recreation and Park District
LOCATION:Thousand Oaks Community Center
CATEGORIES:QuickScores, Basketball - Adult Game
TRANSP:OPAQUE
BEGIN:VALARM
TRIGGER:-PT2H
ACTION:DISPLAY
DESCRIPTION:Box Mambas vs. Organized Chaos
END:VALARM
END:VEVENT
BEGIN:VEVENT
UID:crpd-72794280-20260305T183000@quickscores.com
DTSTAMP:20260425T144800Z
DTSTART;TZID=America/Los_Angeles:20260305T183000
DURATION:PT1H0M0S
SUMMARY:Organized Chaos vs. Blazin' Ballerz
DESCRIPTION:Thursday D - Conejo Recreation and Park District
LOCATION:Thousand Oaks Community Center
CATEGORIES:QuickScores, Basketball - Adult Game
TRANSP:OPAQUE
BEGIN:VALARM
TRIGGER:-PT2H
ACTION:DISPLAY
DESCRIPTION:Organized Chaos vs. Blazin' Ballerz
END:VALARM
END:VEVENT
BEGIN:VEVENT
UID:crpd-72794287-20260312T203000@quickscores.com
DTSTAMP:20260425T144800Z
DTSTART;TZID=America/Los_Angeles:20260312T203000
DURATION:PT1H0M0S
SUMMARY:Organized Chaos vs. Just Another Guy
DESCRIPTION:Thursday D - Conejo Recreation and Park District
LOCATION:Thousand Oaks Community Center
CATEGORIES:QuickScores, Basketball - Adult Game
TRANSP:OPAQUE
BEGIN:VALARM
TRIGGER:-PT2H
ACTION:DISPLAY
DESCRIPTION:Organized Chaos vs. Just Another Guy
END:VALARM
END:VEVENT
BEGIN:VEVENT
UID:crpd-72794296-20260326T193000@quickscores.com
DTSTAMP:20260425T144800Z
DTSTART;TZID=America/Los_Angeles:20260326T193000
DURATION:PT1H0M0S
SUMMARY:Organized Chaos vs. Hot n' Honey
DESCRIPTION:Thursday D - Conejo Recreation and Park District
LOCATION:Thousand Oaks Community Center
CATEGORIES:QuickScores, Basketball - Adult Game
TRANSP:OPAQUE
BEGIN:VALARM
TRIGGER:-PT2H
ACTION:DISPLAY
DESCRIPTION:Organized Chaos vs. Hot n' Honey
END:VALARM
END:VEVENT
BEGIN:VEVENT
UID:crpd-72794307-20260416T203000@quickscores.com
DTSTAMP:20260425T144800Z
DTSTART;TZID=America/Los_Angeles:20260416T203000
DURATION:PT1H0M0S
SUMMARY:Organized Chaos vs. Skyworks
DESCRIPTION:Thursday D - Conejo Recreation and Park District
LOCATION:Thousand Oaks Community Center
CATEGORIES:QuickScores, Basketball - Adult Game
TRANSP:OPAQUE
BEGIN:VALARM
TRIGGER:-PT2H
ACTION:DISPLAY
DESCRIPTION:Organized Chaos vs. Skyworks
END:VALARM
END:VEVENT
BEGIN:VEVENT
UID:crpd-72794313-20260423T213000@quickscores.com
DTSTAMP:20260425T144800Z
DTSTART;TZID=America/Los_Angeles:20260423T213000
DURATION:PT1H0M0S
SUMMARY:Organized Chaos vs. T.O. Soft
DESCRIPTION:Thursday D - Conejo Recreation and Park District
LOCATION:Thousand Oaks Community Center
CATEGORIES:QuickScores, Basketball - Adult Game
TRANSP:OPAQUE
BEGIN:VALARM
TRIGGER:-PT2H
ACTION:DISPLAY
DESCRIPTION:Organized Chaos vs. T.O. Soft
END:VALARM
END:VEVENT
BEGIN:VEVENT
UID:crpd-72794300-20260507T183000@quickscores.com
DTSTAMP:20260425T144800Z
DTSTART;TZID=America/Los_Angeles:20260507T183000
DURATION:PT1H0M0S
SUMMARY:Skillz That Killz vs. Organized Chaos
DESCRIPTION:Thursday D - Conejo Recreation and Park District
LOCATION:Thousand Oaks Community Center
CATEGORIES:QuickScores, Basketball - Adult Game
TRANSP:OPAQUE
BEGIN:VALARM
TRIGGER:-PT2H
ACTION:DISPLAY
DESCRIPTION:Skillz That Killz vs. Organized Chaos
END:VALARM
END:VEVENT
END:VCALENDAR
