BEGIN:VCALENDAR
VERSION:2.0
PRODID:-//QuickScores.com//BQ Dynamic iCal Creator//EN
METHOD:PUBLISH
X-WR-CALNAME:Serves You Right - Sunday C3 - 2026 Winter Volleyball League
X-WR-CALDESC:QuickScores game calendar
X-PUBLISHED-TTL:PT24H
REFRESH-INTERVAL;VALUE=DURATION:PT24H
CALSCALE:GREGORIAN
BEGIN:VTIMEZONE
TZID:America/Los_Angeles
X-LIC-LOCATION:America/Los_Angeles
BEGIN:DAYLIGHT
TZNAME:PDT
TZOFFSETFROM:-0800
TZOFFSETTO:-0700
DTSTART:19700308T020000
RRULE:FREQ=YEARLY;BYMONTH=3;BYDAY=2SU
END:DAYLIGHT
BEGIN:STANDARD
TZNAME:PST
TZOFFSETFROM:-0700
TZOFFSETTO:-0800
DTSTART:19701101T020000
RRULE:FREQ=YEARLY;BYMONTH=11;BYDAY=1SU
END:STANDARD
END:VTIMEZONE
BEGIN:VEVENT
UID:crpd-72480187-20260111T170000@quickscores.com
DTSTAMP:20260424T031200Z
DTSTART;TZID=America/Los_Angeles:20260111T170000
DURATION:PT1H0M0S
SUMMARY:Serves You Right vs. Shanksters
DESCRIPTION:Sunday C3 - Conejo Recreation and Park District
LOCATION:Thousand Oaks Community Center Court #2
CATEGORIES:QuickScores, Volleyball - Adult Game
TRANSP:OPAQUE
BEGIN:VALARM
TRIGGER:-PT2H
ACTION:DISPLAY
DESCRIPTION:Serves You Right vs. Shanksters
END:VALARM
END:VEVENT
BEGIN:VEVENT
UID:crpd-72480189-20260118T160000@quickscores.com
DTSTAMP:20260424T031200Z
DTSTART;TZID=America/Los_Angeles:20260118T160000
DURATION:PT1H0M0S
SUMMARY:Serves You Right vs. Balldiggers
DESCRIPTION:Sunday C3 - Conejo Recreation and Park District
LOCATION:Thousand Oaks Community Center Court #1
CATEGORIES:QuickScores, Volleyball - Adult Game
TRANSP:OPAQUE
BEGIN:VALARM
TRIGGER:-PT2H
ACTION:DISPLAY
DESCRIPTION:Serves You Right vs. Balldiggers
END:VALARM
END:VEVENT
BEGIN:VEVENT
UID:crpd-72480193-20260125T160000@quickscores.com
DTSTAMP:20260424T031200Z
DTSTART;TZID=America/Los_Angeles:20260125T160000
DURATION:PT1H0M0S
SUMMARY:Friends In Low Aces vs. Serves You Right
DESCRIPTION:Sunday C3 - Conejo Recreation and Park District
LOCATION:Thousand Oaks Community Center Court #1
CATEGORIES:QuickScores, Volleyball - Adult Game
TRANSP:OPAQUE
BEGIN:VALARM
TRIGGER:-PT2H
ACTION:DISPLAY
DESCRIPTION:Friends In Low Aces vs. Serves You Right
END:VALARM
END:VEVENT
BEGIN:VEVENT
UID:crpd-72480194-20260201T170000@quickscores.com
DTSTAMP:20260424T031200Z
DTSTART;TZID=America/Los_Angeles:20260201T170000
DURATION:PT1H0M0S
SUMMARY:Block & Awe vs. Serves You Right
DESCRIPTION:Sunday C3 - Conejo Recreation and Park District
LOCATION:Thousand Oaks Community Center Court #2
CATEGORIES:QuickScores, Volleyball - Adult Game
TRANSP:OPAQUE
BEGIN:VALARM
TRIGGER:-PT2H
ACTION:DISPLAY
DESCRIPTION:Block & Awe vs. Serves You Right
END:VALARM
END:VEVENT
BEGIN:VEVENT
UID:crpd-72480198-20260222T160000@quickscores.com
DTSTAMP:20260424T031200Z
DTSTART;TZID=America/Los_Angeles:20260222T160000
DURATION:PT1H0M0S
SUMMARY:Thousand Folks vs. Serves You Right
DESCRIPTION:Sunday C3 - Conejo Recreation and Park District
LOCATION:Thousand Oaks Community Center Court #2
CATEGORIES:QuickScores, Volleyball - Adult Game
TRANSP:OPAQUE
BEGIN:VALARM
TRIGGER:-PT2H
ACTION:DISPLAY
DESCRIPTION:Thousand Folks vs. Serves You Right
END:VALARM
END:VEVENT
BEGIN:VEVENT
UID:crpd-72480202-20260301T160000@quickscores.com
DTSTAMP:20260424T031200Z
DTSTART;TZID=America/Los_Angeles:20260301T160000
DURATION:PT1H0M0S
SUMMARY:Shanksters vs. Serves You Right
DESCRIPTION:Sunday C3 - Conejo Recreation and Park District
LOCATION:Thousand Oaks Community Center Court #1
CATEGORIES:QuickScores, Volleyball - Adult Game
TRANSP:OPAQUE
BEGIN:VALARM
TRIGGER:-PT2H
ACTION:DISPLAY
DESCRIPTION:Shanksters vs. Serves You Right
END:VALARM
END:VEVENT
BEGIN:VEVENT
UID:crpd-72480204-20260308T160000@quickscores.com
DTSTAMP:20260424T031200Z
DTSTART;TZID=America/Los_Angeles:20260308T160000
DURATION:PT1H0M0S
SUMMARY:Balldiggers vs. Serves You Right
DESCRIPTION:Sunday C3 - Conejo Recreation and Park District
LOCATION:Thousand Oaks Community Center Court #2
CATEGORIES:QuickScores, Volleyball - Adult Game
TRANSP:OPAQUE
BEGIN:VALARM
TRIGGER:-PT2H
ACTION:DISPLAY
DESCRIPTION:Balldiggers vs. Serves You Right
END:VALARM
END:VEVENT
BEGIN:VEVENT
UID:crpd-72480208-20260315T170000@quickscores.com
DTSTAMP:20260424T031200Z
DTSTART;TZID=America/Los_Angeles:20260315T170000
DURATION:PT1H0M0S
SUMMARY:Serves You Right vs. Friends In Low Aces
DESCRIPTION:Sunday C3 - Conejo Recreation and Park District
LOCATION:Thousand Oaks Community Center Court #2
CATEGORIES:QuickScores, Volleyball - Adult Game
TRANSP:OPAQUE
BEGIN:VALARM
TRIGGER:-PT2H
ACTION:DISPLAY
DESCRIPTION:Serves You Right vs. Friends In Low Aces
END:VALARM
END:VEVENT
BEGIN:VEVENT
UID:crpd-72480209-20260322T170000@quickscores.com
DTSTAMP:20260424T031200Z
DTSTART;TZID=America/Los_Angeles:20260322T170000
DURATION:PT1H0M0S
SUMMARY:Serves You Right vs. Block & Awe
DESCRIPTION:Sunday C3 - Conejo Recreation and Park District
LOCATION:Thousand Oaks Community Center Court #2
CATEGORIES:QuickScores, Volleyball - Adult Game
TRANSP:OPAQUE
BEGIN:VALARM
TRIGGER:-PT2H
ACTION:DISPLAY
DESCRIPTION:Serves You Right vs. Block & Awe
END:VALARM
END:VEVENT
BEGIN:VEVENT
UID:crpd-72480213-20260329T160000@quickscores.com
DTSTAMP:20260424T031200Z
DTSTART;TZID=America/Los_Angeles:20260329T160000
DURATION:PT1H0M0S
SUMMARY:Serves You Right vs. Thousand Folks
DESCRIPTION:Sunday C3 - Conejo Recreation and Park District
LOCATION:Thousand Oaks Community Center Court #2
CATEGORIES:QuickScores, Volleyball - Adult Game
TRANSP:OPAQUE
BEGIN:VALARM
TRIGGER:-PT2H
ACTION:DISPLAY
DESCRIPTION:Serves You Right vs. Thousand Folks
END:VALARM
END:VEVENT
END:VCALENDAR
