BEGIN:VCALENDAR
VERSION:2.0
PRODID:-//QuickScores.com//BQ Dynamic iCal Creator//EN
METHOD:PUBLISH
X-WR-CALNAME:Just Another Guy - Thursday D - 2026 Spring Basketball League
X-WR-CALDESC:QuickScores game calendar
X-PUBLISHED-TTL:PT24H
REFRESH-INTERVAL;VALUE=DURATION:PT24H
CALSCALE:GREGORIAN
BEGIN:VTIMEZONE
TZID:America/Los_Angeles
X-LIC-LOCATION:America/Los_Angeles
BEGIN:DAYLIGHT
TZNAME:PDT
TZOFFSETFROM:-0800
TZOFFSETTO:-0700
DTSTART:19700308T020000
RRULE:FREQ=YEARLY;BYMONTH=3;BYDAY=2SU
END:DAYLIGHT
BEGIN:STANDARD
TZNAME:PST
TZOFFSETFROM:-0700
TZOFFSETTO:-0800
DTSTART:19701101T020000
RRULE:FREQ=YEARLY;BYMONTH=11;BYDAY=1SU
END:STANDARD
END:VTIMEZONE
BEGIN:VEVENT
UID:crpd-72794265-20260212T213000@quickscores.com
DTSTAMP:20260424T104600Z
DTSTART;TZID=America/Los_Angeles:20260212T213000
DURATION:PT1H0M0S
SUMMARY:Hot n' Honey vs. Just Another Guy
DESCRIPTION:Thursday D - Conejo Recreation and Park District
LOCATION:Thousand Oaks Community Center
CATEGORIES:QuickScores, Basketball - Adult Game
TRANSP:OPAQUE
BEGIN:VALARM
TRIGGER:-PT2H
ACTION:DISPLAY
DESCRIPTION:Hot n' Honey vs. Just Another Guy
END:VALARM
END:VEVENT
BEGIN:VEVENT
UID:crpd-72794270-20260219T183000@quickscores.com
DTSTAMP:20260424T104600Z
DTSTART;TZID=America/Los_Angeles:20260219T183000
DURATION:PT1H0M0S
SUMMARY:Just Another Guy vs. Box Mambas
DESCRIPTION:Thursday D - Conejo Recreation and Park District
LOCATION:Thousand Oaks Community Center
CATEGORIES:QuickScores, Basketball - Adult Game
TRANSP:OPAQUE
BEGIN:VALARM
TRIGGER:-PT2H
ACTION:DISPLAY
DESCRIPTION:Just Another Guy vs. Box Mambas
END:VALARM
END:VEVENT
BEGIN:VEVENT
UID:crpd-72794276-20260226T193000@quickscores.com
DTSTAMP:20260424T104600Z
DTSTART;TZID=America/Los_Angeles:20260226T193000
DURATION:PT1H0M0S
SUMMARY:Just Another Guy vs. Skillz That Killz
DESCRIPTION:Thursday D - Conejo Recreation and Park District
LOCATION:Thousand Oaks Community Center
CATEGORIES:QuickScores, Basketball - Adult Game
TRANSP:OPAQUE
BEGIN:VALARM
TRIGGER:-PT2H
ACTION:DISPLAY
DESCRIPTION:Just Another Guy vs. Skillz That Killz
END:VALARM
END:VEVENT
BEGIN:VEVENT
UID:crpd-72794281-20260305T193000@quickscores.com
DTSTAMP:20260424T104600Z
DTSTART;TZID=America/Los_Angeles:20260305T193000
DURATION:PT1H0M0S
SUMMARY:T.O. Soft vs. Just Another Guy
DESCRIPTION:Thursday D - Conejo Recreation and Park District
LOCATION:Thousand Oaks Community Center
CATEGORIES:QuickScores, Basketball - Adult Game
TRANSP:OPAQUE
BEGIN:VALARM
TRIGGER:-PT2H
ACTION:DISPLAY
DESCRIPTION:T.O. Soft vs. Just Another Guy
END:VALARM
END:VEVENT
BEGIN:VEVENT
UID:crpd-72794287-20260312T203000@quickscores.com
DTSTAMP:20260424T104600Z
DTSTART;TZID=America/Los_Angeles:20260312T203000
DURATION:PT1H0M0S
SUMMARY:Organized Chaos vs. Just Another Guy
DESCRIPTION:Thursday D - Conejo Recreation and Park District
LOCATION:Thousand Oaks Community Center
CATEGORIES:QuickScores, Basketball - Adult Game
TRANSP:OPAQUE
BEGIN:VALARM
TRIGGER:-PT2H
ACTION:DISPLAY
DESCRIPTION:Organized Chaos vs. Just Another Guy
END:VALARM
END:VEVENT
BEGIN:VEVENT
UID:crpd-72794292-20260319T203000@quickscores.com
DTSTAMP:20260424T104600Z
DTSTART;TZID=America/Los_Angeles:20260319T203000
DURATION:PT1H0M0S
SUMMARY:Just Another Guy vs. Skyworks
DESCRIPTION:Thursday D - Conejo Recreation and Park District
LOCATION:Thousand Oaks Community Center
CATEGORIES:QuickScores, Basketball - Adult Game
TRANSP:OPAQUE
BEGIN:VALARM
TRIGGER:-PT2H
ACTION:DISPLAY
DESCRIPTION:Just Another Guy vs. Skyworks
END:VALARM
END:VEVENT
BEGIN:VEVENT
UID:crpd-72794298-20260326T213000@quickscores.com
DTSTAMP:20260424T104600Z
DTSTART;TZID=America/Los_Angeles:20260326T213000
DURATION:PT1H0M0S
SUMMARY:Blazin' Ballerz vs. Just Another Guy
DESCRIPTION:Thursday D - Conejo Recreation and Park District
LOCATION:Thousand Oaks Community Center
CATEGORIES:QuickScores, Basketball - Adult Game
TRANSP:OPAQUE
BEGIN:VALARM
TRIGGER:-PT2H
ACTION:DISPLAY
DESCRIPTION:Blazin' Ballerz vs. Just Another Guy
END:VALARM
END:VEVENT
BEGIN:VEVENT
UID:crpd-72794310-20260423T183000@quickscores.com
DTSTAMP:20260424T104600Z
DTSTART;TZID=America/Los_Angeles:20260423T183000
DURATION:PT1H0M0S
SUMMARY:Just Another Guy vs. Hot n' Honey
DESCRIPTION:Thursday D - Conejo Recreation and Park District
LOCATION:Thousand Oaks Community Center
CATEGORIES:QuickScores, Basketball - Adult Game
TRANSP:OPAQUE
BEGIN:VALARM
TRIGGER:-PT2H
ACTION:DISPLAY
DESCRIPTION:Just Another Guy vs. Hot n' Honey
END:VALARM
END:VEVENT
BEGIN:VEVENT
UID:crpd-72794315-20260430T183000@quickscores.com
DTSTAMP:20260424T104600Z
DTSTART;TZID=America/Los_Angeles:20260430T183000
DURATION:PT1H0M0S
SUMMARY:Win or Lose vs. Just Another Guy
DESCRIPTION:Thursday D - Conejo Recreation and Park District
LOCATION:Thousand Oaks Community Center
CATEGORIES:QuickScores, Basketball - Adult Game
TRANSP:OPAQUE
BEGIN:VALARM
TRIGGER:-PT2H
ACTION:DISPLAY
DESCRIPTION:Win or Lose vs. Just Another Guy
END:VALARM
END:VEVENT
BEGIN:VEVENT
UID:crpd-72794303-20260507T213000@quickscores.com
DTSTAMP:20260424T104600Z
DTSTART;TZID=America/Los_Angeles:20260507T213000
DURATION:PT1H0M0S
SUMMARY:Just Another Guy vs. Win or Lose
DESCRIPTION:Thursday D - Conejo Recreation and Park District
LOCATION:Thousand Oaks Community Center
CATEGORIES:QuickScores, Basketball - Adult Game
TRANSP:OPAQUE
BEGIN:VALARM
TRIGGER:-PT2H
ACTION:DISPLAY
DESCRIPTION:Just Another Guy vs. Win or Lose
END:VALARM
END:VEVENT
END:VCALENDAR
