BEGIN:VCALENDAR
VERSION:2.0
PRODID:-//QuickScores.com//BQ Dynamic iCal Creator//EN
METHOD:PUBLISH
X-WR-CALNAME:Diggin &#039;Em - Wednesday Coed C2 - 2025 Fall Volleyball League
X-WR-CALDESC:QuickScores game calendar
X-PUBLISHED-TTL:PT24H
REFRESH-INTERVAL;VALUE=DURATION:PT24H
CALSCALE:GREGORIAN
BEGIN:VTIMEZONE
TZID:America/Los_Angeles
X-LIC-LOCATION:America/Los_Angeles
BEGIN:DAYLIGHT
TZNAME:PDT
TZOFFSETFROM:-0800
TZOFFSETTO:-0700
DTSTART:19700308T020000
RRULE:FREQ=YEARLY;BYMONTH=3;BYDAY=2SU
END:DAYLIGHT
BEGIN:STANDARD
TZNAME:PST
TZOFFSETFROM:-0700
TZOFFSETTO:-0800
DTSTART:19701101T020000
RRULE:FREQ=YEARLY;BYMONTH=11;BYDAY=1SU
END:STANDARD
END:VTIMEZONE
BEGIN:VEVENT
UID:crpd-70283709-20250820T190000@quickscores.com
DTSTAMP:20260425T103900Z
DTSTART;TZID=America/Los_Angeles:20250820T190000
DURATION:PT1H0M0S
SUMMARY:Diggin 'Em vs. Sets Education
DESCRIPTION:Wednesday Coed C2 - Conejo Recreation and Park District
LOCATION:Thousand Oaks Community Center Court #2
CATEGORIES:QuickScores, Volleyball - Adult Game
TRANSP:OPAQUE
BEGIN:VALARM
TRIGGER:-PT2H
ACTION:DISPLAY
DESCRIPTION:Diggin 'Em vs. Sets Education
END:VALARM
END:VEVENT
BEGIN:VEVENT
UID:crpd-70283710-20250827T200000@quickscores.com
DTSTAMP:20260425T103900Z
DTSTART;TZID=America/Los_Angeles:20250827T200000
DURATION:PT1H0M0S
SUMMARY:Ace Holes vs. Diggin 'Em
DESCRIPTION:Wednesday Coed C2 - Conejo Recreation and Park District
LOCATION:Thousand Oaks Community Center Court #2
CATEGORIES:QuickScores, Volleyball - Adult Game
TRANSP:OPAQUE
BEGIN:VALARM
TRIGGER:-PT2H
ACTION:DISPLAY
DESCRIPTION:Ace Holes vs. Diggin 'Em
END:VALARM
END:VEVENT
BEGIN:VEVENT
UID:crpd-70283713-20250903T200000@quickscores.com
DTSTAMP:20260425T103900Z
DTSTART;TZID=America/Los_Angeles:20250903T200000
DURATION:PT1H0M0S
SUMMARY:Bag of Digs vs. Diggin 'Em
DESCRIPTION:Wednesday Coed C2 - Conejo Recreation and Park District
LOCATION:Thousand Oaks Community Center Court #2
CATEGORIES:QuickScores, Volleyball - Adult Game
TRANSP:OPAQUE
BEGIN:VALARM
TRIGGER:-PT2H
ACTION:DISPLAY
DESCRIPTION:Bag of Digs vs. Diggin 'Em
END:VALARM
END:VEVENT
BEGIN:VEVENT
UID:crpd-70283715-20250910T190000@quickscores.com
DTSTAMP:20260425T103900Z
DTSTART;TZID=America/Los_Angeles:20250910T190000
DURATION:PT1H0M0S
SUMMARY:Sets Education vs. Diggin 'Em
DESCRIPTION:Wednesday Coed C2 - Conejo Recreation and Park District
LOCATION:Thousand Oaks Community Center Court #2
CATEGORIES:QuickScores, Volleyball - Adult Game
TRANSP:OPAQUE
BEGIN:VALARM
TRIGGER:-PT2H
ACTION:DISPLAY
DESCRIPTION:Sets Education vs. Diggin 'Em
END:VALARM
END:VEVENT
BEGIN:VEVENT
UID:crpd-70283716-20250917T190000@quickscores.com
DTSTAMP:20260425T103900Z
DTSTART;TZID=America/Los_Angeles:20250917T190000
DURATION:PT1H0M0S
SUMMARY:Diggin 'Em vs. Ace Holes
DESCRIPTION:Wednesday Coed C2 - Conejo Recreation and Park District
LOCATION:Thousand Oaks Community Center Court #2
CATEGORIES:QuickScores, Volleyball - Adult Game
TRANSP:OPAQUE
BEGIN:VALARM
TRIGGER:-PT2H
ACTION:DISPLAY
DESCRIPTION:Diggin 'Em vs. Ace Holes
END:VALARM
END:VEVENT
BEGIN:VEVENT
UID:crpd-70283719-20250924T190000@quickscores.com
DTSTAMP:20260425T103900Z
DTSTART;TZID=America/Los_Angeles:20250924T190000
DURATION:PT1H0M0S
SUMMARY:Diggin 'Em vs. Bag of Digs
DESCRIPTION:Wednesday Coed C2 - Conejo Recreation and Park District
LOCATION:Thousand Oaks Community Center Court #2
CATEGORIES:QuickScores, Volleyball - Adult Game
TRANSP:OPAQUE
BEGIN:VALARM
TRIGGER:-PT2H
ACTION:DISPLAY
DESCRIPTION:Diggin 'Em vs. Bag of Digs
END:VALARM
END:VEVENT
BEGIN:VEVENT
UID:crpd-70283721-20251001T200000@quickscores.com
DTSTAMP:20260425T103900Z
DTSTART;TZID=America/Los_Angeles:20251001T200000
DURATION:PT1H0M0S
SUMMARY:Diggin 'Em vs. Sets Education
DESCRIPTION:Wednesday Coed C2 - Conejo Recreation and Park District
LOCATION:Thousand Oaks Community Center Court #2
CATEGORIES:QuickScores, Volleyball - Adult Game
TRANSP:OPAQUE
BEGIN:VALARM
TRIGGER:-PT2H
ACTION:DISPLAY
DESCRIPTION:Diggin 'Em vs. Sets Education
END:VALARM
END:VEVENT
BEGIN:VEVENT
UID:crpd-70283722-20251008T190000@quickscores.com
DTSTAMP:20260425T103900Z
DTSTART;TZID=America/Los_Angeles:20251008T190000
DURATION:PT1H0M0S
SUMMARY:Diggin 'Em vs. Ace Holes
DESCRIPTION:Wednesday Coed C2 - Conejo Recreation and Park District
LOCATION:Thousand Oaks Community Center Court #2
CATEGORIES:QuickScores, Volleyball - Adult Game
TRANSP:OPAQUE
BEGIN:VALARM
TRIGGER:-PT2H
ACTION:DISPLAY
DESCRIPTION:Diggin 'Em vs. Ace Holes
END:VALARM
END:VEVENT
BEGIN:VEVENT
UID:crpd-70283725-20251015T200000@quickscores.com
DTSTAMP:20260425T103900Z
DTSTART;TZID=America/Los_Angeles:20251015T200000
DURATION:PT1H0M0S
SUMMARY:Bag of Digs vs. Diggin 'Em
DESCRIPTION:Wednesday Coed C2 - Conejo Recreation and Park District
LOCATION:Thousand Oaks Community Center Court #2
CATEGORIES:QuickScores, Volleyball - Adult Game
TRANSP:OPAQUE
BEGIN:VALARM
TRIGGER:-PT2H
ACTION:DISPLAY
DESCRIPTION:Bag of Digs vs. Diggin 'Em
END:VALARM
END:VEVENT
BEGIN:VEVENT
UID:crpd-70283727-20251022T200000@quickscores.com
DTSTAMP:20260425T103900Z
DTSTART;TZID=America/Los_Angeles:20251022T200000
DURATION:PT1H0M0S
SUMMARY:Sets Education vs. Diggin 'Em
DESCRIPTION:Wednesday Coed C2 - Conejo Recreation and Park District
LOCATION:Thousand Oaks Community Center Court #2
CATEGORIES:QuickScores, Volleyball - Adult Game
TRANSP:OPAQUE
BEGIN:VALARM
TRIGGER:-PT2H
ACTION:DISPLAY
DESCRIPTION:Sets Education vs. Diggin 'Em
END:VALARM
END:VEVENT
END:VCALENDAR
