BEGIN:VCALENDAR
VERSION:2.0
PRODID:-//QuickScores.com//BQ Dynamic iCal Creator//EN
METHOD:PUBLISH
X-WR-CALNAME:Kelly & Greg - Wednesday Intermediate Mixed Doubles - 2025 Summer Pickleball League
X-WR-CALDESC:QuickScores game calendar
X-PUBLISHED-TTL:PT24H
REFRESH-INTERVAL;VALUE=DURATION:PT24H
CALSCALE:GREGORIAN
BEGIN:VTIMEZONE
TZID:America/Los_Angeles
X-LIC-LOCATION:America/Los_Angeles
BEGIN:DAYLIGHT
TZNAME:PDT
TZOFFSETFROM:-0800
TZOFFSETTO:-0700
DTSTART:19700308T020000
RRULE:FREQ=YEARLY;BYMONTH=3;BYDAY=2SU
END:DAYLIGHT
BEGIN:STANDARD
TZNAME:PST
TZOFFSETFROM:-0700
TZOFFSETTO:-0800
DTSTART:19701101T020000
RRULE:FREQ=YEARLY;BYMONTH=11;BYDAY=1SU
END:STANDARD
END:VTIMEZONE
BEGIN:VEVENT
UID:crpd-69636784-20250625T183000@quickscores.com
DTSTAMP:20260423T173400Z
DTSTART;TZID=America/Los_Angeles:20250625T183000
DURATION:PT0H45M0S
SUMMARY:Kelly & Greg vs. Laurie & Scott
DESCRIPTION:Wednesday Intermediate Mixed Doubles - Conejo Recreation and Park District
LOCATION:Rancho Conejo Pickleball Court #4
CATEGORIES:QuickScores, Pickleball Game
TRANSP:OPAQUE
BEGIN:VALARM
TRIGGER:-PT2H
ACTION:DISPLAY
DESCRIPTION:Kelly & Greg vs. Laurie & Scott
END:VALARM
END:VEVENT
BEGIN:VEVENT
UID:crpd-69636783-20250625T191500@quickscores.com
DTSTAMP:20260423T173400Z
DTSTART;TZID=America/Los_Angeles:20250625T191500
DURATION:PT0H45M0S
SUMMARY:Edie & Bill vs. Kelly & Greg
DESCRIPTION:Wednesday Intermediate Mixed Doubles - Conejo Recreation and Park District
LOCATION:Rancho Conejo Pickleball Court #6
CATEGORIES:QuickScores, Pickleball Game
TRANSP:OPAQUE
BEGIN:VALARM
TRIGGER:-PT2H
ACTION:DISPLAY
DESCRIPTION:Edie & Bill vs. Kelly & Greg
END:VALARM
END:VEVENT
BEGIN:VEVENT
UID:crpd-69636789-20250702T183000@quickscores.com
DTSTAMP:20260423T173400Z
DTSTART;TZID=America/Los_Angeles:20250702T183000
DURATION:PT0H45M0S
SUMMARY:Michelle & Ken vs. Kelly & Greg
DESCRIPTION:Wednesday Intermediate Mixed Doubles - Conejo Recreation and Park District
LOCATION:Rancho Conejo Pickleball Court #4
CATEGORIES:QuickScores, Pickleball Game
TRANSP:OPAQUE
BEGIN:VALARM
TRIGGER:-PT2H
ACTION:DISPLAY
DESCRIPTION:Michelle & Ken vs. Kelly & Greg
END:VALARM
END:VEVENT
BEGIN:VEVENT
UID:crpd-69636790-20250702T191500@quickscores.com
DTSTAMP:20260423T173400Z
DTSTART;TZID=America/Los_Angeles:20250702T191500
DURATION:PT0H45M0S
SUMMARY:Kelly & Greg vs. Leslie & Bruce
DESCRIPTION:Wednesday Intermediate Mixed Doubles - Conejo Recreation and Park District
LOCATION:Rancho Conejo Pickleball Court #4
CATEGORIES:QuickScores, Pickleball Game
TRANSP:OPAQUE
BEGIN:VALARM
TRIGGER:-PT2H
ACTION:DISPLAY
DESCRIPTION:Kelly & Greg vs. Leslie & Bruce
END:VALARM
END:VEVENT
BEGIN:VEVENT
UID:crpd-69636796-20250709T183000@quickscores.com
DTSTAMP:20260423T173400Z
DTSTART;TZID=America/Los_Angeles:20250709T183000
DURATION:PT0H45M0S
SUMMARY:Liz & Mike vs. Kelly & Greg
DESCRIPTION:Wednesday Intermediate Mixed Doubles - Conejo Recreation and Park District
LOCATION:Rancho Conejo Pickleball Court #5
CATEGORIES:QuickScores, Pickleball Game
TRANSP:OPAQUE
BEGIN:VALARM
TRIGGER:-PT2H
ACTION:DISPLAY
DESCRIPTION:Liz & Mike vs. Kelly & Greg
END:VALARM
END:VEVENT
BEGIN:VEVENT
UID:crpd-69636794-20250709T191500@quickscores.com
DTSTAMP:20260423T173400Z
DTSTART;TZID=America/Los_Angeles:20250709T191500
DURATION:PT0H45M0S
SUMMARY:Kelly & Greg vs. Edie & Bill
DESCRIPTION:Wednesday Intermediate Mixed Doubles - Conejo Recreation and Park District
LOCATION:Rancho Conejo Pickleball Court #5
CATEGORIES:QuickScores, Pickleball Game
TRANSP:OPAQUE
BEGIN:VALARM
TRIGGER:-PT2H
ACTION:DISPLAY
DESCRIPTION:Kelly & Greg vs. Edie & Bill
END:VALARM
END:VEVENT
BEGIN:VEVENT
UID:crpd-69636803-20250716T183000@quickscores.com
DTSTAMP:20260423T173400Z
DTSTART;TZID=America/Los_Angeles:20250716T183000
DURATION:PT0H45M0S
SUMMARY:Kelly & Greg vs. Michelle & Ken
DESCRIPTION:Wednesday Intermediate Mixed Doubles - Conejo Recreation and Park District
LOCATION:Rancho Conejo Pickleball Court #6
CATEGORIES:QuickScores, Pickleball Game
TRANSP:OPAQUE
BEGIN:VALARM
TRIGGER:-PT2H
ACTION:DISPLAY
DESCRIPTION:Kelly & Greg vs. Michelle & Ken
END:VALARM
END:VEVENT
BEGIN:VEVENT
UID:crpd-69636800-20250716T191500@quickscores.com
DTSTAMP:20260423T173400Z
DTSTART;TZID=America/Los_Angeles:20250716T191500
DURATION:PT0H45M0S
SUMMARY:Laurie & Scott vs. Kelly & Greg
DESCRIPTION:Wednesday Intermediate Mixed Doubles - Conejo Recreation and Park District
LOCATION:Rancho Conejo Pickleball Court #6
CATEGORIES:QuickScores, Pickleball Game
TRANSP:OPAQUE
BEGIN:VALARM
TRIGGER:-PT2H
ACTION:DISPLAY
DESCRIPTION:Laurie & Scott vs. Kelly & Greg
END:VALARM
END:VEVENT
BEGIN:VEVENT
UID:crpd-69636806-20250723T183000@quickscores.com
DTSTAMP:20260423T173400Z
DTSTART;TZID=America/Los_Angeles:20250723T183000
DURATION:PT0H45M0S
SUMMARY:Leslie & Bruce vs. Kelly & Greg
DESCRIPTION:Wednesday Intermediate Mixed Doubles - Conejo Recreation and Park District
LOCATION:Rancho Conejo Pickleball Court #6
CATEGORIES:QuickScores, Pickleball Game
TRANSP:OPAQUE
BEGIN:VALARM
TRIGGER:-PT2H
ACTION:DISPLAY
DESCRIPTION:Leslie & Bruce vs. Kelly & Greg
END:VALARM
END:VEVENT
BEGIN:VEVENT
UID:crpd-69636808-20250723T191500@quickscores.com
DTSTAMP:20260423T173400Z
DTSTART;TZID=America/Los_Angeles:20250723T191500
DURATION:PT0H45M0S
SUMMARY:Kelly & Greg vs. Liz & Mike
DESCRIPTION:Wednesday Intermediate Mixed Doubles - Conejo Recreation and Park District
LOCATION:Rancho Conejo Pickleball Court #6
CATEGORIES:QuickScores, Pickleball Game
TRANSP:OPAQUE
BEGIN:VALARM
TRIGGER:-PT2H
ACTION:DISPLAY
DESCRIPTION:Kelly & Greg vs. Liz & Mike
END:VALARM
END:VEVENT
BEGIN:VEVENT
UID:crpd-69636812-20250730T183000@quickscores.com
DTSTAMP:20260423T173400Z
DTSTART;TZID=America/Los_Angeles:20250730T183000
DURATION:PT0H45M0S
SUMMARY:Laurie & Scott vs. Kelly & Greg
DESCRIPTION:Wednesday Intermediate Mixed Doubles - Conejo Recreation and Park District
LOCATION:Rancho Conejo Pickleball Court #5
CATEGORIES:QuickScores, Pickleball Game
TRANSP:OPAQUE
BEGIN:VALARM
TRIGGER:-PT2H
ACTION:DISPLAY
DESCRIPTION:Laurie & Scott vs. Kelly & Greg
END:VALARM
END:VEVENT
BEGIN:VEVENT
UID:crpd-69636815-20250730T191500@quickscores.com
DTSTAMP:20260423T173400Z
DTSTART;TZID=America/Los_Angeles:20250730T191500
DURATION:PT0H45M0S
SUMMARY:Edie & Bill vs. Kelly & Greg
DESCRIPTION:Wednesday Intermediate Mixed Doubles - Conejo Recreation and Park District
LOCATION:Rancho Conejo Pickleball Court #4
CATEGORIES:QuickScores, Pickleball Game
TRANSP:OPAQUE
BEGIN:VALARM
TRIGGER:-PT2H
ACTION:DISPLAY
DESCRIPTION:Edie & Bill vs. Kelly & Greg
END:VALARM
END:VEVENT
BEGIN:VEVENT
UID:crpd-69636819-20250806T183000@quickscores.com
DTSTAMP:20260423T173400Z
DTSTART;TZID=America/Los_Angeles:20250806T183000
DURATION:PT0H45M0S
SUMMARY:Kelly & Greg vs. Michelle & Ken
DESCRIPTION:Wednesday Intermediate Mixed Doubles - Conejo Recreation and Park District
LOCATION:Rancho Conejo Pickleball Court #5
CATEGORIES:QuickScores, Pickleball Game
TRANSP:OPAQUE
BEGIN:VALARM
TRIGGER:-PT2H
ACTION:DISPLAY
DESCRIPTION:Kelly & Greg vs. Michelle & Ken
END:VALARM
END:VEVENT
BEGIN:VEVENT
UID:crpd-69636820-20250806T191500@quickscores.com
DTSTAMP:20260423T173400Z
DTSTART;TZID=America/Los_Angeles:20250806T191500
DURATION:PT0H45M0S
SUMMARY:Kelly & Greg vs. Leslie & Bruce
DESCRIPTION:Wednesday Intermediate Mixed Doubles - Conejo Recreation and Park District
LOCATION:Rancho Conejo Pickleball Court #5
CATEGORIES:QuickScores, Pickleball Game
TRANSP:OPAQUE
BEGIN:VALARM
TRIGGER:-PT2H
ACTION:DISPLAY
DESCRIPTION:Kelly & Greg vs. Leslie & Bruce
END:VALARM
END:VEVENT
BEGIN:VEVENT
UID:crpd-69636823-20250813T183000@quickscores.com
DTSTAMP:20260423T173400Z
DTSTART;TZID=America/Los_Angeles:20250813T183000
DURATION:PT0H45M0S
SUMMARY:Liz & Mike vs. Kelly & Greg
DESCRIPTION:Wednesday Intermediate Mixed Doubles - Conejo Recreation and Park District
LOCATION:Rancho Conejo Pickleball Court #4
CATEGORIES:QuickScores, Pickleball Game
TRANSP:OPAQUE
BEGIN:VALARM
TRIGGER:-PT2H
ACTION:DISPLAY
DESCRIPTION:Liz & Mike vs. Kelly & Greg
END:VALARM
END:VEVENT
BEGIN:VEVENT
UID:crpd-69636827-20250813T191500@quickscores.com
DTSTAMP:20260423T173400Z
DTSTART;TZID=America/Los_Angeles:20250813T191500
DURATION:PT0H45M0S
SUMMARY:Kelly & Greg vs. Edie & Bill
DESCRIPTION:Wednesday Intermediate Mixed Doubles - Conejo Recreation and Park District
LOCATION:Rancho Conejo Pickleball Court #4
CATEGORIES:QuickScores, Pickleball Game
TRANSP:OPAQUE
BEGIN:VALARM
TRIGGER:-PT2H
ACTION:DISPLAY
DESCRIPTION:Kelly & Greg vs. Edie & Bill
END:VALARM
END:VEVENT
END:VCALENDAR
