BEGIN:VCALENDAR
VERSION:2.0
PRODID:-//QuickScores.com//BQ Dynamic iCal Creator//EN
METHOD:PUBLISH
X-WR-CALNAME:BBQ Chicken - Thursday D - 2024 Fall Basketball League
X-WR-CALDESC:QuickScores game calendar
X-PUBLISHED-TTL:PT24H
REFRESH-INTERVAL;VALUE=DURATION:PT24H
CALSCALE:GREGORIAN
BEGIN:VTIMEZONE
TZID:America/Los_Angeles
X-LIC-LOCATION:America/Los_Angeles
BEGIN:DAYLIGHT
TZNAME:PDT
TZOFFSETFROM:-0800
TZOFFSETTO:-0700
DTSTART:19700308T020000
RRULE:FREQ=YEARLY;BYMONTH=3;BYDAY=2SU
END:DAYLIGHT
BEGIN:STANDARD
TZNAME:PST
TZOFFSETFROM:-0700
TZOFFSETTO:-0800
DTSTART:19701101T020000
RRULE:FREQ=YEARLY;BYMONTH=11;BYDAY=1SU
END:STANDARD
END:VTIMEZONE
BEGIN:VEVENT
UID:crpd-64717388-20240829T193000@quickscores.com
DTSTAMP:20260419T134000Z
DTSTART;TZID=America/Los_Angeles:20240829T193000
DURATION:PT1H0M0S
SUMMARY:BBQ Chicken vs. Hot n Honey
DESCRIPTION:Thursday D - Conejo Recreation and Park District
LOCATION:Thousand Oaks Community Center
CATEGORIES:QuickScores, Basketball - Adult Game
TRANSP:OPAQUE
BEGIN:VALARM
TRIGGER:-PT2H
ACTION:DISPLAY
DESCRIPTION:BBQ Chicken vs. Hot n Honey
END:VALARM
END:VEVENT
BEGIN:VEVENT
UID:crpd-64717391-20240905T213000@quickscores.com
DTSTAMP:20260419T134000Z
DTSTART;TZID=America/Los_Angeles:20240905T213000
DURATION:PT1H0M0S
SUMMARY:Kareem of the Crop vs. BBQ Chicken
DESCRIPTION:Thursday D - Conejo Recreation and Park District
LOCATION:Thousand Oaks Community Center
CATEGORIES:QuickScores, Basketball - Adult Game
TRANSP:OPAQUE
BEGIN:VALARM
TRIGGER:-PT2H
ACTION:DISPLAY
DESCRIPTION:Kareem of the Crop vs. BBQ Chicken
END:VALARM
END:VEVENT
BEGIN:VEVENT
UID:crpd-64717397-20240912T203000@quickscores.com
DTSTAMP:20260419T134000Z
DTSTART;TZID=America/Los_Angeles:20240912T203000
DURATION:PT1H0M0S
SUMMARY:BBQ Chicken vs. Skyworks
DESCRIPTION:Thursday D - Conejo Recreation and Park District
LOCATION:Thousand Oaks Community Center
CATEGORIES:QuickScores, Basketball - Adult Game
TRANSP:OPAQUE
BEGIN:VALARM
TRIGGER:-PT2H
ACTION:DISPLAY
DESCRIPTION:BBQ Chicken vs. Skyworks
END:VALARM
END:VEVENT
BEGIN:VEVENT
UID:crpd-64717400-20240919T203000@quickscores.com
DTSTAMP:20260419T134000Z
DTSTART;TZID=America/Los_Angeles:20240919T203000
DURATION:PT1H0M0S
SUMMARY:Flashes vs. BBQ Chicken
DESCRIPTION:Thursday D - Conejo Recreation and Park District
LOCATION:Thousand Oaks Community Center
CATEGORIES:QuickScores, Basketball - Adult Game
TRANSP:OPAQUE
BEGIN:VALARM
TRIGGER:-PT2H
ACTION:DISPLAY
DESCRIPTION:Flashes vs. BBQ Chicken
END:VALARM
END:VEVENT
BEGIN:VEVENT
UID:crpd-64717406-20240926T183000@quickscores.com
DTSTAMP:20260419T134000Z
DTSTART;TZID=America/Los_Angeles:20240926T183000
DURATION:PT1H0M0S
SUMMARY:BBQ Chicken vs. JS Basketball
DESCRIPTION:Thursday D - Conejo Recreation and Park District
LOCATION:Thousand Oaks Community Center
CATEGORIES:QuickScores, Basketball - Adult Game
TRANSP:OPAQUE
BEGIN:VALARM
TRIGGER:-PT2H
ACTION:DISPLAY
DESCRIPTION:BBQ Chicken vs. JS Basketball
END:VALARM
END:VEVENT
BEGIN:VEVENT
UID:crpd-64717409-20241003T213000@quickscores.com
DTSTAMP:20260419T134000Z
DTSTART;TZID=America/Los_Angeles:20241003T213000
DURATION:PT1H0M0S
SUMMARY:BBQ Chicken vs. Rice & Beans
DESCRIPTION:Thursday D - Conejo Recreation and Park District
LOCATION:Thousand Oaks Community Center
CATEGORIES:QuickScores, Basketball - Adult Game
TRANSP:OPAQUE
BEGIN:VALARM
TRIGGER:-PT2H
ACTION:DISPLAY
DESCRIPTION:BBQ Chicken vs. Rice & Beans
END:VALARM
END:VEVENT
BEGIN:VEVENT
UID:crpd-64717414-20241010T213000@quickscores.com
DTSTAMP:20260419T134000Z
DTSTART;TZID=America/Los_Angeles:20241010T213000
DURATION:PT1H0M0S
SUMMARY:Brick House vs. BBQ Chicken
DESCRIPTION:Thursday D - Conejo Recreation and Park District
LOCATION:Thousand Oaks Community Center
CATEGORIES:QuickScores, Basketball - Adult Game
TRANSP:OPAQUE
BEGIN:VALARM
TRIGGER:-PT2H
ACTION:DISPLAY
DESCRIPTION:Brick House vs. BBQ Chicken
END:VALARM
END:VEVENT
BEGIN:VEVENT
UID:crpd-64717416-20241017T193000@quickscores.com
DTSTAMP:20260419T134000Z
DTSTART;TZID=America/Los_Angeles:20241017T193000
DURATION:PT1H0M0S
SUMMARY:Hot n Honey vs. BBQ Chicken
DESCRIPTION:Thursday D - Conejo Recreation and Park District
LOCATION:Thousand Oaks Community Center
CATEGORIES:QuickScores, Basketball - Adult Game
TRANSP:OPAQUE
BEGIN:VALARM
TRIGGER:-PT2H
ACTION:DISPLAY
DESCRIPTION:Hot n Honey vs. BBQ Chicken
END:VALARM
END:VEVENT
BEGIN:VEVENT
UID:crpd-64717419-20241024T183000@quickscores.com
DTSTAMP:20260419T134000Z
DTSTART;TZID=America/Los_Angeles:20241024T183000
DURATION:PT1H0M0S
SUMMARY:BBQ Chicken vs. Kareem of the Crop
DESCRIPTION:Thursday D - Conejo Recreation and Park District
LOCATION:Thousand Oaks Community Center
CATEGORIES:QuickScores, Basketball - Adult Game
TRANSP:OPAQUE
BEGIN:VALARM
TRIGGER:-PT2H
ACTION:DISPLAY
DESCRIPTION:BBQ Chicken vs. Kareem of the Crop
END:VALARM
END:VEVENT
BEGIN:VEVENT
UID:crpd-64717425-20241107T203000@quickscores.com
DTSTAMP:20260419T134000Z
DTSTART;TZID=America/Los_Angeles:20241107T203000
DURATION:PT1H0M0S
SUMMARY:Skyworks vs. BBQ Chicken
DESCRIPTION:Thursday D - Conejo Recreation and Park District
LOCATION:Thousand Oaks Community Center
CATEGORIES:QuickScores, Basketball - Adult Game
TRANSP:OPAQUE
BEGIN:VALARM
TRIGGER:-PT2H
ACTION:DISPLAY
DESCRIPTION:Skyworks vs. BBQ Chicken
END:VALARM
END:VEVENT
END:VCALENDAR
