BEGIN:VCALENDAR
VERSION:2.0
PRODID:-//QuickScores.com//BQ Dynamic iCal Creator//EN
METHOD:PUBLISH
X-WR-CALNAME:LeRec Team - Tuesday C - 2024 Summer Basketball
X-WR-CALDESC:QuickScores game calendar
X-PUBLISHED-TTL:PT24H
REFRESH-INTERVAL;VALUE=DURATION:PT24H
CALSCALE:GREGORIAN
BEGIN:VTIMEZONE
TZID:America/Los_Angeles
X-LIC-LOCATION:America/Los_Angeles
BEGIN:DAYLIGHT
TZNAME:PDT
TZOFFSETFROM:-0800
TZOFFSETTO:-0700
DTSTART:19700308T020000
RRULE:FREQ=YEARLY;BYMONTH=3;BYDAY=2SU
END:DAYLIGHT
BEGIN:STANDARD
TZNAME:PST
TZOFFSETFROM:-0700
TZOFFSETTO:-0800
DTSTART:19701101T020000
RRULE:FREQ=YEARLY;BYMONTH=11;BYDAY=1SU
END:STANDARD
END:VTIMEZONE
BEGIN:VEVENT
UID:crpd-63379949-20240521T203000@quickscores.com
DTSTAMP:20260420T033100Z
DTSTART;TZID=America/Los_Angeles:20240521T203000
DURATION:PT1H0M0S
SUMMARY:LeRec Team vs. Poke Sum
DESCRIPTION:Tuesday C - Conejo Recreation and Park District
LOCATION:Dos Vientos Community Center
CATEGORIES:QuickScores, Basketball - Adult Game
TRANSP:OPAQUE
BEGIN:VALARM
TRIGGER:-PT2H
ACTION:DISPLAY
DESCRIPTION:LeRec Team vs. Poke Sum
END:VALARM
END:VEVENT
BEGIN:VEVENT
UID:crpd-63379952-20240528T193000@quickscores.com
DTSTAMP:20260420T033100Z
DTSTART;TZID=America/Los_Angeles:20240528T193000
DURATION:PT1H0M0S
SUMMARY:Black Beatles vs. LeRec Team
DESCRIPTION:Tuesday C - Conejo Recreation and Park District
LOCATION:Dos Vientos Community Center
CATEGORIES:QuickScores, Basketball - Adult Game
TRANSP:OPAQUE
BEGIN:VALARM
TRIGGER:-PT2H
ACTION:DISPLAY
DESCRIPTION:Black Beatles vs. LeRec Team
END:VALARM
END:VEVENT
BEGIN:VEVENT
UID:crpd-63379957-20240604T203000@quickscores.com
DTSTAMP:20260420T033100Z
DTSTART;TZID=America/Los_Angeles:20240604T203000
DURATION:PT1H0M0S
SUMMARY:Referee's Delight vs. LeRec Team
DESCRIPTION:Tuesday C - Conejo Recreation and Park District
LOCATION:Dos Vientos Community Center
CATEGORIES:QuickScores, Basketball - Adult Game
TRANSP:OPAQUE
BEGIN:VALARM
TRIGGER:-PT2H
ACTION:DISPLAY
DESCRIPTION:Referee's Delight vs. LeRec Team
END:VALARM
END:VEVENT
BEGIN:VEVENT
UID:crpd-63379959-20240611T183000@quickscores.com
DTSTAMP:20260420T033100Z
DTSTART;TZID=America/Los_Angeles:20240611T183000
DURATION:PT1H0M0S
SUMMARY:LeRec Team vs. Conejo Condas
DESCRIPTION:Tuesday C - Conejo Recreation and Park District
LOCATION:Dos Vientos Community Center
CATEGORIES:QuickScores, Basketball - Adult Game
TRANSP:OPAQUE
BEGIN:VALARM
TRIGGER:-PT2H
ACTION:DISPLAY
DESCRIPTION:LeRec Team vs. Conejo Condas
END:VALARM
END:VEVENT
BEGIN:VEVENT
UID:crpd-63379964-20240618T193000@quickscores.com
DTSTAMP:20260420T033100Z
DTSTART;TZID=America/Los_Angeles:20240618T193000
DURATION:PT1H0M0S
SUMMARY:Organized Chaos vs. LeRec Team
DESCRIPTION:Tuesday C - Conejo Recreation and Park District
LOCATION:Dos Vientos Community Center
CATEGORIES:QuickScores, Basketball - Adult Game
TRANSP:OPAQUE
BEGIN:VALARM
TRIGGER:-PT2H
ACTION:DISPLAY
DESCRIPTION:Organized Chaos vs. LeRec Team
END:VALARM
END:VEVENT
BEGIN:VEVENT
UID:crpd-63379972-20240702T183000@quickscores.com
DTSTAMP:20260420T033100Z
DTSTART;TZID=America/Los_Angeles:20240702T183000
DURATION:PT1H0M0S
SUMMARY:Eagle Eddies vs. LeRec Team
DESCRIPTION:Tuesday C - Conejo Recreation and Park District
LOCATION:Dos Vientos Community Center
CATEGORIES:QuickScores, Basketball - Adult Game
TRANSP:OPAQUE
BEGIN:VALARM
TRIGGER:-PT2H
ACTION:DISPLAY
DESCRIPTION:Eagle Eddies vs. LeRec Team
END:VALARM
END:VEVENT
BEGIN:VEVENT
UID:crpd-63379977-20240709T203000@quickscores.com
DTSTAMP:20260420T033100Z
DTSTART;TZID=America/Los_Angeles:20240709T203000
DURATION:PT1H0M0S
SUMMARY:LeRec Team vs. Referee's Delight
DESCRIPTION:Tuesday C - Conejo Recreation and Park District
LOCATION:Dos Vientos Community Center
CATEGORIES:QuickScores, Basketball - Adult Game
TRANSP:OPAQUE
BEGIN:VALARM
TRIGGER:-PT2H
ACTION:DISPLAY
DESCRIPTION:LeRec Team vs. Referee's Delight
END:VALARM
END:VEVENT
BEGIN:VEVENT
UID:crpd-63379979-20240716T183000@quickscores.com
DTSTAMP:20260420T033100Z
DTSTART;TZID=America/Los_Angeles:20240716T183000
DURATION:PT1H0M0S
SUMMARY:Conejo Condas vs. LeRec Team
DESCRIPTION:Tuesday C - Conejo Recreation and Park District
LOCATION:Dos Vientos Community Center
CATEGORIES:QuickScores, Basketball - Adult Game
TRANSP:OPAQUE
BEGIN:VALARM
TRIGGER:-PT2H
ACTION:DISPLAY
DESCRIPTION:Conejo Condas vs. LeRec Team
END:VALARM
END:VEVENT
BEGIN:VEVENT
UID:crpd-63379984-20240723T193000@quickscores.com
DTSTAMP:20260420T033100Z
DTSTART;TZID=America/Los_Angeles:20240723T193000
DURATION:PT1H0M0S
SUMMARY:LeRec Team vs. Organized Chaos
DESCRIPTION:Tuesday C - Conejo Recreation and Park District
LOCATION:Dos Vientos Community Center
CATEGORIES:QuickScores, Basketball - Adult Game
TRANSP:OPAQUE
BEGIN:VALARM
TRIGGER:-PT2H
ACTION:DISPLAY
DESCRIPTION:LeRec Team vs. Organized Chaos
END:VALARM
END:VEVENT
BEGIN:VEVENT
UID:crpd-63379991-20240806T193000@quickscores.com
DTSTAMP:20260420T033100Z
DTSTART;TZID=America/Los_Angeles:20240806T193000
DURATION:PT1H0M0S
SUMMARY:LeRec Team vs. Eagle Eddies
DESCRIPTION:Tuesday C - Conejo Recreation and Park District
LOCATION:Dos Vientos Community Center
CATEGORIES:QuickScores, Basketball - Adult Game
TRANSP:OPAQUE
BEGIN:VALARM
TRIGGER:-PT2H
ACTION:DISPLAY
DESCRIPTION:LeRec Team vs. Eagle Eddies
END:VALARM
END:VEVENT
END:VCALENDAR
