BEGIN:VCALENDAR
VERSION:2.0
PRODID:-//QuickScores.com//BQ Dynamic iCal Creator//EN
METHOD:PUBLISH
X-WR-CALNAME:Black Beatles - Tuesday C - 2024 Summer Basketball
X-WR-CALDESC:QuickScores game calendar
X-PUBLISHED-TTL:PT24H
REFRESH-INTERVAL;VALUE=DURATION:PT24H
CALSCALE:GREGORIAN
BEGIN:VTIMEZONE
TZID:America/Los_Angeles
X-LIC-LOCATION:America/Los_Angeles
BEGIN:DAYLIGHT
TZNAME:PDT
TZOFFSETFROM:-0800
TZOFFSETTO:-0700
DTSTART:19700308T020000
RRULE:FREQ=YEARLY;BYMONTH=3;BYDAY=2SU
END:DAYLIGHT
BEGIN:STANDARD
TZNAME:PST
TZOFFSETFROM:-0700
TZOFFSETTO:-0800
DTSTART:19701101T020000
RRULE:FREQ=YEARLY;BYMONTH=11;BYDAY=1SU
END:STANDARD
END:VTIMEZONE
BEGIN:VEVENT
UID:crpd-63379947-20240521T183000@quickscores.com
DTSTAMP:20260420T014400Z
DTSTART;TZID=America/Los_Angeles:20240521T183000
DURATION:PT1H0M0S
SUMMARY:Conejo Condas vs. Black Beatles
DESCRIPTION:Tuesday C - Conejo Recreation and Park District
LOCATION:Dos Vientos Community Center
CATEGORIES:QuickScores, Basketball - Adult Game
TRANSP:OPAQUE
BEGIN:VALARM
TRIGGER:-PT2H
ACTION:DISPLAY
DESCRIPTION:Conejo Condas vs. Black Beatles
END:VALARM
END:VEVENT
BEGIN:VEVENT
UID:crpd-63379952-20240528T193000@quickscores.com
DTSTAMP:20260420T014400Z
DTSTART;TZID=America/Los_Angeles:20240528T193000
DURATION:PT1H0M0S
SUMMARY:Black Beatles vs. LeRec Team
DESCRIPTION:Tuesday C - Conejo Recreation and Park District
LOCATION:Dos Vientos Community Center
CATEGORIES:QuickScores, Basketball - Adult Game
TRANSP:OPAQUE
BEGIN:VALARM
TRIGGER:-PT2H
ACTION:DISPLAY
DESCRIPTION:Black Beatles vs. LeRec Team
END:VALARM
END:VEVENT
BEGIN:VEVENT
UID:crpd-63379961-20240611T193000@quickscores.com
DTSTAMP:20260420T014400Z
DTSTART;TZID=America/Los_Angeles:20240611T193000
DURATION:PT1H0M0S
SUMMARY:Eagle Eddies vs. Black Beatles
DESCRIPTION:Tuesday C - Conejo Recreation and Park District
LOCATION:Dos Vientos Community Center
CATEGORIES:QuickScores, Basketball - Adult Game
TRANSP:OPAQUE
BEGIN:VALARM
TRIGGER:-PT2H
ACTION:DISPLAY
DESCRIPTION:Eagle Eddies vs. Black Beatles
END:VALARM
END:VEVENT
BEGIN:VEVENT
UID:crpd-63379963-20240618T183000@quickscores.com
DTSTAMP:20260420T014400Z
DTSTART;TZID=America/Los_Angeles:20240618T183000
DURATION:PT1H0M0S
SUMMARY:Black Beatles vs. Poke Sum
DESCRIPTION:Tuesday C - Conejo Recreation and Park District
LOCATION:Dos Vientos Community Center
CATEGORIES:QuickScores, Basketball - Adult Game
TRANSP:OPAQUE
BEGIN:VALARM
TRIGGER:-PT2H
ACTION:DISPLAY
DESCRIPTION:Black Beatles vs. Poke Sum
END:VALARM
END:VEVENT
BEGIN:VEVENT
UID:crpd-63379969-20240625T203000@quickscores.com
DTSTAMP:20260420T014400Z
DTSTART;TZID=America/Los_Angeles:20240625T203000
DURATION:PT1H0M0S
SUMMARY:Black Beatles vs. Organized Chaos
DESCRIPTION:Tuesday C - Conejo Recreation and Park District
LOCATION:Dos Vientos Community Center
CATEGORIES:QuickScores, Basketball - Adult Game
TRANSP:OPAQUE
BEGIN:VALARM
TRIGGER:-PT2H
ACTION:DISPLAY
DESCRIPTION:Black Beatles vs. Organized Chaos
END:VALARM
END:VEVENT
BEGIN:VEVENT
UID:crpd-63379973-20240702T193000@quickscores.com
DTSTAMP:20260420T014400Z
DTSTART;TZID=America/Los_Angeles:20240702T193000
DURATION:PT1H0M0S
SUMMARY:Black Beatles vs. Referee's Delight
DESCRIPTION:Tuesday C - Conejo Recreation and Park District
LOCATION:Dos Vientos Community Center
CATEGORIES:QuickScores, Basketball - Adult Game
TRANSP:OPAQUE
BEGIN:VALARM
TRIGGER:-PT2H
ACTION:DISPLAY
DESCRIPTION:Black Beatles vs. Referee's Delight
END:VALARM
END:VEVENT
BEGIN:VEVENT
UID:crpd-63379981-20240716T203000@quickscores.com
DTSTAMP:20260420T014400Z
DTSTART;TZID=America/Los_Angeles:20240716T203000
DURATION:PT1H0M0S
SUMMARY:Black Beatles vs. Eagle Eddies
DESCRIPTION:Tuesday C - Conejo Recreation and Park District
LOCATION:Dos Vientos Community Center
CATEGORIES:QuickScores, Basketball - Adult Game
TRANSP:OPAQUE
BEGIN:VALARM
TRIGGER:-PT2H
ACTION:DISPLAY
DESCRIPTION:Black Beatles vs. Eagle Eddies
END:VALARM
END:VEVENT
BEGIN:VEVENT
UID:crpd-63379983-20240723T183000@quickscores.com
DTSTAMP:20260420T014400Z
DTSTART;TZID=America/Los_Angeles:20240723T183000
DURATION:PT1H0M0S
SUMMARY:Poke Sum vs. Black Beatles
DESCRIPTION:Tuesday C - Conejo Recreation and Park District
LOCATION:Dos Vientos Community Center
CATEGORIES:QuickScores, Basketball - Adult Game
TRANSP:OPAQUE
BEGIN:VALARM
TRIGGER:-PT2H
ACTION:DISPLAY
DESCRIPTION:Poke Sum vs. Black Beatles
END:VALARM
END:VEVENT
BEGIN:VEVENT
UID:crpd-63379989-20240730T203000@quickscores.com
DTSTAMP:20260420T014400Z
DTSTART;TZID=America/Los_Angeles:20240730T203000
DURATION:PT1H0M0S
SUMMARY:Organized Chaos vs. Black Beatles
DESCRIPTION:Tuesday C - Conejo Recreation and Park District
LOCATION:Dos Vientos Community Center
CATEGORIES:QuickScores, Basketball - Adult Game
TRANSP:OPAQUE
BEGIN:VALARM
TRIGGER:-PT2H
ACTION:DISPLAY
DESCRIPTION:Organized Chaos vs. Black Beatles
END:VALARM
END:VEVENT
BEGIN:VEVENT
UID:crpd-63379992-20240806T183000@quickscores.com
DTSTAMP:20260420T014400Z
DTSTART;TZID=America/Los_Angeles:20240806T183000
DURATION:PT1H0M0S
SUMMARY:Referee's Delight vs. Black Beatles
DESCRIPTION:Tuesday C - Conejo Recreation and Park District
LOCATION:Dos Vientos Community Center
CATEGORIES:QuickScores, Basketball - Adult Game
TRANSP:OPAQUE
BEGIN:VALARM
TRIGGER:-PT2H
ACTION:DISPLAY
DESCRIPTION:Referee's Delight vs. Black Beatles
END:VALARM
END:VEVENT
END:VCALENDAR
