BEGIN:VCALENDAR
VERSION:2.0
PRODID:-//QuickScores.com//BQ Dynamic iCal Creator//EN
METHOD:PUBLISH
X-WR-CALNAME:Block Party - Sunday Coed C4 - 2024 Summer Volleyball
X-WR-CALDESC:QuickScores game calendar
X-PUBLISHED-TTL:PT24H
REFRESH-INTERVAL;VALUE=DURATION:PT24H
CALSCALE:GREGORIAN
BEGIN:VTIMEZONE
TZID:America/Los_Angeles
X-LIC-LOCATION:America/Los_Angeles
BEGIN:DAYLIGHT
TZNAME:PDT
TZOFFSETFROM:-0800
TZOFFSETTO:-0700
DTSTART:19700308T020000
RRULE:FREQ=YEARLY;BYMONTH=3;BYDAY=2SU
END:DAYLIGHT
BEGIN:STANDARD
TZNAME:PST
TZOFFSETFROM:-0700
TZOFFSETTO:-0800
DTSTART:19701101T020000
RRULE:FREQ=YEARLY;BYMONTH=11;BYDAY=1SU
END:STANDARD
END:VTIMEZONE
BEGIN:VEVENT
UID:crpd-62876818-20240421T200000@quickscores.com
DTSTAMP:20260422T212100Z
DTSTART;TZID=America/Los_Angeles:20240421T200000
DURATION:PT1H0M0S
SUMMARY:Hot Flaming Cheetos vs. Block Party
DESCRIPTION:Sunday Coed C4 - Conejo Recreation and Park District
LOCATION:Thousand Oaks Community Center Court #1
CATEGORIES:QuickScores, Volleyball - Adult Game
TRANSP:OPAQUE
BEGIN:VALARM
TRIGGER:-PT2H
ACTION:DISPLAY
DESCRIPTION:Hot Flaming Cheetos vs. Block Party
END:VALARM
END:VEVENT
BEGIN:VEVENT
UID:crpd-62876821-20240428T200000@quickscores.com
DTSTAMP:20260422T212100Z
DTSTART;TZID=America/Los_Angeles:20240428T200000
DURATION:PT1H0M0S
SUMMARY:Kool Arrows vs. Block Party
DESCRIPTION:Sunday Coed C4 - Conejo Recreation and Park District
LOCATION:Thousand Oaks Community Center Court #1
CATEGORIES:QuickScores, Volleyball - Adult Game
TRANSP:OPAQUE
BEGIN:VALARM
TRIGGER:-PT2H
ACTION:DISPLAY
DESCRIPTION:Kool Arrows vs. Block Party
END:VALARM
END:VEVENT
BEGIN:VEVENT
UID:crpd-62876823-20240505T200000@quickscores.com
DTSTAMP:20260422T212100Z
DTSTART;TZID=America/Los_Angeles:20240505T200000
DURATION:PT1H0M0S
SUMMARY:Block Party vs. All Sets Are Off
DESCRIPTION:Sunday Coed C4 - Conejo Recreation and Park District
LOCATION:Thousand Oaks Community Center Court #1
CATEGORIES:QuickScores, Volleyball - Adult Game
TRANSP:OPAQUE
BEGIN:VALARM
TRIGGER:-PT2H
ACTION:DISPLAY
DESCRIPTION:Block Party vs. All Sets Are Off
END:VALARM
END:VEVENT
BEGIN:VEVENT
UID:crpd-62876824-20240519T200000@quickscores.com
DTSTAMP:20260422T212100Z
DTSTART;TZID=America/Los_Angeles:20240519T200000
DURATION:PT1H0M0S
SUMMARY:Block Party vs. Hot Flaming Cheetos
DESCRIPTION:Sunday Coed C4 - Conejo Recreation and Park District
LOCATION:Thousand Oaks Community Center Court #1
CATEGORIES:QuickScores, Volleyball - Adult Game
TRANSP:OPAQUE
BEGIN:VALARM
TRIGGER:-PT2H
ACTION:DISPLAY
DESCRIPTION:Block Party vs. Hot Flaming Cheetos
END:VALARM
END:VEVENT
BEGIN:VEVENT
UID:crpd-62876827-20240602T190000@quickscores.com
DTSTAMP:20260422T212100Z
DTSTART;TZID=America/Los_Angeles:20240602T190000
DURATION:PT1H0M0S
SUMMARY:Block Party vs. Kool Arrows
DESCRIPTION:Sunday Coed C4 - Conejo Recreation and Park District
LOCATION:Thousand Oaks Community Center Court #1
CATEGORIES:QuickScores, Volleyball - Adult Game
TRANSP:OPAQUE
BEGIN:VALARM
TRIGGER:-PT2H
ACTION:DISPLAY
DESCRIPTION:Block Party vs. Kool Arrows
END:VALARM
END:VEVENT
BEGIN:VEVENT
UID:crpd-62876829-20240609T190000@quickscores.com
DTSTAMP:20260422T212100Z
DTSTART;TZID=America/Los_Angeles:20240609T190000
DURATION:PT1H0M0S
SUMMARY:All Sets Are Off vs. Block Party
DESCRIPTION:Sunday Coed C4 - Conejo Recreation and Park District
LOCATION:Thousand Oaks Community Center Court #1
CATEGORIES:QuickScores, Volleyball - Adult Game
TRANSP:OPAQUE
BEGIN:VALARM
TRIGGER:-PT2H
ACTION:DISPLAY
DESCRIPTION:All Sets Are Off vs. Block Party
END:VALARM
END:VEVENT
BEGIN:VEVENT
UID:crpd-62876830-20240623T190000@quickscores.com
DTSTAMP:20260422T212100Z
DTSTART;TZID=America/Los_Angeles:20240623T190000
DURATION:PT1H0M0S
SUMMARY:Hot Flaming Cheetos vs. Block Party
DESCRIPTION:Sunday Coed C4 - Conejo Recreation and Park District
LOCATION:Thousand Oaks Community Center Court #1
CATEGORIES:QuickScores, Volleyball - Adult Game
TRANSP:OPAQUE
BEGIN:VALARM
TRIGGER:-PT2H
ACTION:DISPLAY
DESCRIPTION:Hot Flaming Cheetos vs. Block Party
END:VALARM
END:VEVENT
BEGIN:VEVENT
UID:crpd-62876833-20240630T190000@quickscores.com
DTSTAMP:20260422T212100Z
DTSTART;TZID=America/Los_Angeles:20240630T190000
DURATION:PT1H0M0S
SUMMARY:Kool Arrows vs. Block Party
DESCRIPTION:Sunday Coed C4 - Conejo Recreation and Park District
LOCATION:Thousand Oaks Community Center Court #1
CATEGORIES:QuickScores, Volleyball - Adult Game
TRANSP:OPAQUE
BEGIN:VALARM
TRIGGER:-PT2H
ACTION:DISPLAY
DESCRIPTION:Kool Arrows vs. Block Party
END:VALARM
END:VEVENT
BEGIN:VEVENT
UID:crpd-62876835-20240707T200000@quickscores.com
DTSTAMP:20260422T212100Z
DTSTART;TZID=America/Los_Angeles:20240707T200000
DURATION:PT1H0M0S
SUMMARY:Block Party vs. All Sets Are Off
DESCRIPTION:Sunday Coed C4 - Conejo Recreation and Park District
LOCATION:Thousand Oaks Community Center Court #1
CATEGORIES:QuickScores, Volleyball - Adult Game
TRANSP:OPAQUE
BEGIN:VALARM
TRIGGER:-PT2H
ACTION:DISPLAY
DESCRIPTION:Block Party vs. All Sets Are Off
END:VALARM
END:VEVENT
BEGIN:VEVENT
UID:crpd-62876836-20240714T190000@quickscores.com
DTSTAMP:20260422T212100Z
DTSTART;TZID=America/Los_Angeles:20240714T190000
DURATION:PT1H0M0S
SUMMARY:Block Party vs. Hot Flaming Cheetos
DESCRIPTION:Sunday Coed C4 - Conejo Recreation and Park District
LOCATION:Thousand Oaks Community Center Court #1
CATEGORIES:QuickScores, Volleyball - Adult Game
TRANSP:OPAQUE
BEGIN:VALARM
TRIGGER:-PT2H
ACTION:DISPLAY
DESCRIPTION:Block Party vs. Hot Flaming Cheetos
END:VALARM
END:VEVENT
END:VCALENDAR
