BEGIN:VCALENDAR
VERSION:2.0
PRODID:-//QuickScores.com//BQ Dynamic iCal Creator//EN
METHOD:PUBLISH
X-WR-CALNAME:Carol & Matyas - Wednesday Intermediate Mixed Doubles - 2024 Spring Pickleball Leagues
X-WR-CALDESC:QuickScores game calendar
X-PUBLISHED-TTL:PT24H
REFRESH-INTERVAL;VALUE=DURATION:PT24H
CALSCALE:GREGORIAN
BEGIN:VTIMEZONE
TZID:America/Los_Angeles
X-LIC-LOCATION:America/Los_Angeles
BEGIN:DAYLIGHT
TZNAME:PDT
TZOFFSETFROM:-0800
TZOFFSETTO:-0700
DTSTART:19700308T020000
RRULE:FREQ=YEARLY;BYMONTH=3;BYDAY=2SU
END:DAYLIGHT
BEGIN:STANDARD
TZNAME:PST
TZOFFSETFROM:-0700
TZOFFSETTO:-0800
DTSTART:19701101T020000
RRULE:FREQ=YEARLY;BYMONTH=11;BYDAY=1SU
END:STANDARD
END:VTIMEZONE
BEGIN:VEVENT
UID:crpd-62494124-20240327T183000@quickscores.com
DTSTAMP:20260424T052400Z
DTSTART;TZID=America/Los_Angeles:20240327T183000
DURATION:PT0H45M0S
SUMMARY:Laurie & Scott vs. Carol & Matyas
DESCRIPTION:Wednesday Intermediate Mixed Doubles - Conejo Recreation and Park District
LOCATION:Rancho Conejo Pickleball Court #6
CATEGORIES:QuickScores, Pickleball Game
TRANSP:OPAQUE
BEGIN:VALARM
TRIGGER:-PT2H
ACTION:DISPLAY
DESCRIPTION:Laurie & Scott vs. Carol & Matyas
END:VALARM
END:VEVENT
BEGIN:VEVENT
UID:crpd-62494123-20240327T191500@quickscores.com
DTSTAMP:20260424T052400Z
DTSTART;TZID=America/Los_Angeles:20240327T191500
DURATION:PT0H45M0S
SUMMARY:Karen & Steve vs. Carol & Matyas
DESCRIPTION:Wednesday Intermediate Mixed Doubles - Conejo Recreation and Park District
LOCATION:Rancho Conejo Pickleball Court #5
CATEGORIES:QuickScores, Pickleball Game
TRANSP:OPAQUE
BEGIN:VALARM
TRIGGER:-PT2H
ACTION:DISPLAY
DESCRIPTION:Karen & Steve vs. Carol & Matyas
END:VALARM
END:VEVENT
BEGIN:VEVENT
UID:crpd-62494131-20240410T183000@quickscores.com
DTSTAMP:20260424T052400Z
DTSTART;TZID=America/Los_Angeles:20240410T183000
DURATION:PT0H45M0S
SUMMARY:Carol & Matyas vs. Victoria & Rick
DESCRIPTION:Wednesday Intermediate Mixed Doubles - Conejo Recreation and Park District
LOCATION:Rancho Conejo Pickleball Court #4
CATEGORIES:QuickScores, Pickleball Game
TRANSP:OPAQUE
BEGIN:VALARM
TRIGGER:-PT2H
ACTION:DISPLAY
DESCRIPTION:Carol & Matyas vs. Victoria & Rick
END:VALARM
END:VEVENT
BEGIN:VEVENT
UID:crpd-62494130-20240410T191500@quickscores.com
DTSTAMP:20260424T052400Z
DTSTART;TZID=America/Los_Angeles:20240410T191500
DURATION:PT0H45M0S
SUMMARY:Kelly & Greg vs. Carol & Matyas
DESCRIPTION:Wednesday Intermediate Mixed Doubles - Conejo Recreation and Park District
LOCATION:Rancho Conejo Pickleball Court #6
CATEGORIES:QuickScores, Pickleball Game
TRANSP:OPAQUE
BEGIN:VALARM
TRIGGER:-PT2H
ACTION:DISPLAY
DESCRIPTION:Kelly & Greg vs. Carol & Matyas
END:VALARM
END:VEVENT
BEGIN:VEVENT
UID:crpd-62494140-20240417T183000@quickscores.com
DTSTAMP:20260424T052400Z
DTSTART;TZID=America/Los_Angeles:20240417T183000
DURATION:PT0H45M0S
SUMMARY:Carol & Matyas vs. Edie & Bill
DESCRIPTION:Wednesday Intermediate Mixed Doubles - Conejo Recreation and Park District
LOCATION:Rancho Conejo Pickleball Court #4
CATEGORIES:QuickScores, Pickleball Game
TRANSP:OPAQUE
BEGIN:VALARM
TRIGGER:-PT2H
ACTION:DISPLAY
DESCRIPTION:Carol & Matyas vs. Edie & Bill
END:VALARM
END:VEVENT
BEGIN:VEVENT
UID:crpd-62494135-20240417T191500@quickscores.com
DTSTAMP:20260424T052400Z
DTSTART;TZID=America/Los_Angeles:20240417T191500
DURATION:PT0H45M0S
SUMMARY:Carol & Matyas vs. Karen & Steve
DESCRIPTION:Wednesday Intermediate Mixed Doubles - Conejo Recreation and Park District
LOCATION:Rancho Conejo Pickleball Court #4
CATEGORIES:QuickScores, Pickleball Game
TRANSP:OPAQUE
BEGIN:VALARM
TRIGGER:-PT2H
ACTION:DISPLAY
DESCRIPTION:Carol & Matyas vs. Karen & Steve
END:VALARM
END:VEVENT
BEGIN:VEVENT
UID:crpd-62494145-20240424T183000@quickscores.com
DTSTAMP:20260424T052400Z
DTSTART;TZID=America/Los_Angeles:20240424T183000
DURATION:PT0H45M0S
SUMMARY:Victoria & Rick vs. Carol & Matyas
DESCRIPTION:Wednesday Intermediate Mixed Doubles - Conejo Recreation and Park District
LOCATION:Rancho Conejo Pickleball Court #6
CATEGORIES:QuickScores, Pickleball Game
TRANSP:OPAQUE
BEGIN:VALARM
TRIGGER:-PT2H
ACTION:DISPLAY
DESCRIPTION:Victoria & Rick vs. Carol & Matyas
END:VALARM
END:VEVENT
BEGIN:VEVENT
UID:crpd-62494141-20240424T191500@quickscores.com
DTSTAMP:20260424T052400Z
DTSTART;TZID=America/Los_Angeles:20240424T191500
DURATION:PT0H45M0S
SUMMARY:Carol & Matyas vs. Laurie & Scott
DESCRIPTION:Wednesday Intermediate Mixed Doubles - Conejo Recreation and Park District
LOCATION:Rancho Conejo Pickleball Court #5
CATEGORIES:QuickScores, Pickleball Game
TRANSP:OPAQUE
BEGIN:VALARM
TRIGGER:-PT2H
ACTION:DISPLAY
DESCRIPTION:Carol & Matyas vs. Laurie & Scott
END:VALARM
END:VEVENT
BEGIN:VEVENT
UID:crpd-62494147-20240501T183000@quickscores.com
DTSTAMP:20260424T052400Z
DTSTART;TZID=America/Los_Angeles:20240501T183000
DURATION:PT0H45M0S
SUMMARY:Carol & Matyas vs. Kelly & Greg
DESCRIPTION:Wednesday Intermediate Mixed Doubles - Conejo Recreation and Park District
LOCATION:Rancho Conejo Pickleball Court #5
CATEGORIES:QuickScores, Pickleball Game
TRANSP:OPAQUE
BEGIN:VALARM
TRIGGER:-PT2H
ACTION:DISPLAY
DESCRIPTION:Carol & Matyas vs. Kelly & Greg
END:VALARM
END:VEVENT
BEGIN:VEVENT
UID:crpd-62494152-20240501T191500@quickscores.com
DTSTAMP:20260424T052400Z
DTSTART;TZID=America/Los_Angeles:20240501T191500
DURATION:PT0H45M0S
SUMMARY:Edie & Bill vs. Carol & Matyas
DESCRIPTION:Wednesday Intermediate Mixed Doubles - Conejo Recreation and Park District
LOCATION:Rancho Conejo Pickleball Court #5
CATEGORIES:QuickScores, Pickleball Game
TRANSP:OPAQUE
BEGIN:VALARM
TRIGGER:-PT2H
ACTION:DISPLAY
DESCRIPTION:Edie & Bill vs. Carol & Matyas
END:VALARM
END:VEVENT
BEGIN:VEVENT
UID:crpd-62494153-20240508T183000@quickscores.com
DTSTAMP:20260424T052400Z
DTSTART;TZID=America/Los_Angeles:20240508T183000
DURATION:PT0H45M0S
SUMMARY:Laurie & Scott vs. Carol & Matyas
DESCRIPTION:Wednesday Intermediate Mixed Doubles - Conejo Recreation and Park District
LOCATION:Rancho Conejo Pickleball Court #4
CATEGORIES:QuickScores, Pickleball Game
TRANSP:OPAQUE
BEGIN:VALARM
TRIGGER:-PT2H
ACTION:DISPLAY
DESCRIPTION:Laurie & Scott vs. Carol & Matyas
END:VALARM
END:VEVENT
BEGIN:VEVENT
UID:crpd-62494156-20240508T191500@quickscores.com
DTSTAMP:20260424T052400Z
DTSTART;TZID=America/Los_Angeles:20240508T191500
DURATION:PT0H45M0S
SUMMARY:Karen & Steve vs. Carol & Matyas
DESCRIPTION:Wednesday Intermediate Mixed Doubles - Conejo Recreation and Park District
LOCATION:Rancho Conejo Pickleball Court #6
CATEGORIES:QuickScores, Pickleball Game
TRANSP:OPAQUE
BEGIN:VALARM
TRIGGER:-PT2H
ACTION:DISPLAY
DESCRIPTION:Karen & Steve vs. Carol & Matyas
END:VALARM
END:VEVENT
BEGIN:VEVENT
UID:crpd-62494161-20240515T183000@quickscores.com
DTSTAMP:20260424T052400Z
DTSTART;TZID=America/Los_Angeles:20240515T183000
DURATION:PT0H45M0S
SUMMARY:Carol & Matyas vs. Victoria & Rick
DESCRIPTION:Wednesday Intermediate Mixed Doubles - Conejo Recreation and Park District
LOCATION:Rancho Conejo Pickleball Court #5
CATEGORIES:QuickScores, Pickleball Game
TRANSP:OPAQUE
BEGIN:VALARM
TRIGGER:-PT2H
ACTION:DISPLAY
DESCRIPTION:Carol & Matyas vs. Victoria & Rick
END:VALARM
END:VEVENT
BEGIN:VEVENT
UID:crpd-62494160-20240515T191500@quickscores.com
DTSTAMP:20260424T052400Z
DTSTART;TZID=America/Los_Angeles:20240515T191500
DURATION:PT0H45M0S
SUMMARY:Kelly & Greg vs. Carol & Matyas
DESCRIPTION:Wednesday Intermediate Mixed Doubles - Conejo Recreation and Park District
LOCATION:Rancho Conejo Pickleball Court #4
CATEGORIES:QuickScores, Pickleball Game
TRANSP:OPAQUE
BEGIN:VALARM
TRIGGER:-PT2H
ACTION:DISPLAY
DESCRIPTION:Kelly & Greg vs. Carol & Matyas
END:VALARM
END:VEVENT
BEGIN:VEVENT
UID:crpd-62494167-20240522T183000@quickscores.com
DTSTAMP:20260424T052400Z
DTSTART;TZID=America/Los_Angeles:20240522T183000
DURATION:PT0H45M0S
SUMMARY:Carol & Matyas vs. Edie & Bill
DESCRIPTION:Wednesday Intermediate Mixed Doubles - Conejo Recreation and Park District
LOCATION:Rancho Conejo Pickleball Court #6
CATEGORIES:QuickScores, Pickleball Game
TRANSP:OPAQUE
BEGIN:VALARM
TRIGGER:-PT2H
ACTION:DISPLAY
DESCRIPTION:Carol & Matyas vs. Edie & Bill
END:VALARM
END:VEVENT
BEGIN:VEVENT
UID:crpd-62494168-20240522T191500@quickscores.com
DTSTAMP:20260424T052400Z
DTSTART;TZID=America/Los_Angeles:20240522T191500
DURATION:PT0H45M0S
SUMMARY:Carol & Matyas vs. Karen & Steve
DESCRIPTION:Wednesday Intermediate Mixed Doubles - Conejo Recreation and Park District
LOCATION:Rancho Conejo Pickleball Court #6
CATEGORIES:QuickScores, Pickleball Game
TRANSP:OPAQUE
BEGIN:VALARM
TRIGGER:-PT2H
ACTION:DISPLAY
DESCRIPTION:Carol & Matyas vs. Karen & Steve
END:VALARM
END:VEVENT
END:VCALENDAR
