BEGIN:VCALENDAR
VERSION:2.0
PRODID:-//QuickScores.com//BQ Dynamic iCal Creator//EN
METHOD:PUBLISH
X-WR-CALNAME:WPC - Sunday Coed - 2024 Spring Softball
X-WR-CALDESC:QuickScores game calendar
X-PUBLISHED-TTL:PT24H
REFRESH-INTERVAL;VALUE=DURATION:PT24H
CALSCALE:GREGORIAN
BEGIN:VTIMEZONE
TZID:America/Los_Angeles
X-LIC-LOCATION:America/Los_Angeles
BEGIN:DAYLIGHT
TZNAME:PDT
TZOFFSETFROM:-0800
TZOFFSETTO:-0700
DTSTART:19700308T020000
RRULE:FREQ=YEARLY;BYMONTH=3;BYDAY=2SU
END:DAYLIGHT
BEGIN:STANDARD
TZNAME:PST
TZOFFSETFROM:-0700
TZOFFSETTO:-0800
DTSTART:19701101T020000
RRULE:FREQ=YEARLY;BYMONTH=11;BYDAY=1SU
END:STANDARD
END:VTIMEZONE
BEGIN:VEVENT
UID:crpd-61729047-20240310T181500@quickscores.com
DTSTAMP:20260420T030900Z
DTSTART;TZID=America/Los_Angeles:20240310T181500
DURATION:PT1H15M0S
SUMMARY:WPC vs. Win or Booze
DESCRIPTION:BOR #2 closed-Game moved to 6/9 --- Sunday Coed - Conejo Recreation and Park District
LOCATION:Borchard Park Field #2
CATEGORIES:QuickScores, Softball - Adult Game
TRANSP:OPAQUE
BEGIN:VALARM
TRIGGER:-PT2H
ACTION:DISPLAY
DESCRIPTION:WPC vs. Win or Booze
END:VALARM
END:VEVENT
BEGIN:VEVENT
UID:crpd-61729051-20240317T170000@quickscores.com
DTSTAMP:20260420T030900Z
DTSTART;TZID=America/Los_Angeles:20240317T170000
DURATION:PT1H15M0S
SUMMARY:Bat Intentions vs. WPC
DESCRIPTION:Sunday Coed - Conejo Recreation and Park District
LOCATION:Borchard Park Field #2
CATEGORIES:QuickScores, Softball - Adult Game
TRANSP:OPAQUE
BEGIN:VALARM
TRIGGER:-PT2H
ACTION:DISPLAY
DESCRIPTION:Bat Intentions vs. WPC
END:VALARM
END:VEVENT
BEGIN:VEVENT
UID:crpd-61729059-20240407T170000@quickscores.com
DTSTAMP:20260420T030900Z
DTSTART;TZID=America/Los_Angeles:20240407T170000
DURATION:PT1H15M0S
SUMMARY:WPC vs. Cronies Homies
DESCRIPTION:Sunday Coed - Conejo Recreation and Park District
LOCATION:Borchard Park Field #2
CATEGORIES:QuickScores, Softball - Adult Game
TRANSP:OPAQUE
BEGIN:VALARM
TRIGGER:-PT2H
ACTION:DISPLAY
DESCRIPTION:WPC vs. Cronies Homies
END:VALARM
END:VEVENT
BEGIN:VEVENT
UID:crpd-61729067-20240421T181500@quickscores.com
DTSTAMP:20260420T030900Z
DTSTART;TZID=America/Los_Angeles:20240421T181500
DURATION:PT1H15M0S
SUMMARY:St. Patricks vs. WPC
DESCRIPTION:Sunday Coed - Conejo Recreation and Park District
LOCATION:Borchard Park Field #2
CATEGORIES:QuickScores, Softball - Adult Game
TRANSP:OPAQUE
BEGIN:VALARM
TRIGGER:-PT2H
ACTION:DISPLAY
DESCRIPTION:St. Patricks vs. WPC
END:VALARM
END:VEVENT
BEGIN:VEVENT
UID:crpd-61729071-20240428T170000@quickscores.com
DTSTAMP:20260420T030900Z
DTSTART;TZID=America/Los_Angeles:20240428T170000
DURATION:PT1H15M0S
SUMMARY:Alwayz Down vs. WPC
DESCRIPTION:Sunday Coed - Conejo Recreation and Park District
LOCATION:Borchard Park Field #1
CATEGORIES:QuickScores, Softball - Adult Game
TRANSP:OPAQUE
BEGIN:VALARM
TRIGGER:-PT2H
ACTION:DISPLAY
DESCRIPTION:Alwayz Down vs. WPC
END:VALARM
END:VEVENT
BEGIN:VEVENT
UID:crpd-61729075-20240505T170000@quickscores.com
DTSTAMP:20260420T030900Z
DTSTART;TZID=America/Los_Angeles:20240505T170000
DURATION:PT1H15M0S
SUMMARY:Win or Booze vs. WPC
DESCRIPTION:Sunday Coed - Conejo Recreation and Park District
LOCATION:Borchard Park Field #1
CATEGORIES:QuickScores, Softball - Adult Game
TRANSP:OPAQUE
BEGIN:VALARM
TRIGGER:-PT2H
ACTION:DISPLAY
DESCRIPTION:Win or Booze vs. WPC
END:VALARM
END:VEVENT
BEGIN:VEVENT
UID:crpd-61729039-20240519T181500@quickscores.com
DTSTAMP:20260420T030900Z
DTSTART;TZID=America/Los_Angeles:20240519T181500
DURATION:PT1H15M0S
SUMMARY:WPC vs. St. Patricks
DESCRIPTION:Rescheduled Games From 2/25 --- Sunday Coed - Conejo Recreation and Park District
LOCATION:Borchard Park Field #1
CATEGORIES:QuickScores, Softball - Adult Game
TRANSP:OPAQUE
BEGIN:VALARM
TRIGGER:-PT2H
ACTION:DISPLAY
DESCRIPTION:WPC vs. St. Patricks
END:VALARM
END:VEVENT
BEGIN:VEVENT
UID:crpd-61729043-20240602T170000@quickscores.com
DTSTAMP:20260420T030900Z
DTSTART;TZID=America/Los_Angeles:20240602T170000
DURATION:PT1H15M0S
SUMMARY:WPC vs. Alwayz Down
DESCRIPTION:Rescheduled Games From 3/3 --- Sunday Coed - Conejo Recreation and Park District
LOCATION:Borchard Park Field #2
CATEGORIES:QuickScores, Softball - Adult Game
TRANSP:OPAQUE
BEGIN:VALARM
TRIGGER:-PT2H
ACTION:DISPLAY
DESCRIPTION:WPC vs. Alwayz Down
END:VALARM
END:VEVENT
BEGIN:VEVENT
UID:crpd-62287072-20240609T181500@quickscores.com
DTSTAMP:20260420T030900Z
DTSTART;TZID=America/Los_Angeles:20240609T181500
DURATION:PT1H15M0S
SUMMARY:Win or Booze vs. WPC
DESCRIPTION:Rescheduled Game From 3/10 --- Sunday Coed - Conejo Recreation and Park District
LOCATION:Borchard Park Field #2
CATEGORIES:QuickScores, Softball - Adult Game
TRANSP:OPAQUE
BEGIN:VALARM
TRIGGER:-PT2H
ACTION:DISPLAY
DESCRIPTION:Win or Booze vs. WPC
END:VALARM
END:VEVENT
BEGIN:VEVENT
UID:crpd-61729055-20240623T181500@quickscores.com
DTSTAMP:20260420T030900Z
DTSTART;TZID=America/Los_Angeles:20240623T181500
DURATION:PT1H15M0S
SUMMARY:WPC vs. Flying Turtles
DESCRIPTION:Rescheduled Games From 3/24 --- Sunday Coed - Conejo Recreation and Park District
LOCATION:Borchard Park Field #1
CATEGORIES:QuickScores, Softball - Adult Game
TRANSP:OPAQUE
BEGIN:VALARM
TRIGGER:-PT2H
ACTION:DISPLAY
DESCRIPTION:WPC vs. Flying Turtles
END:VALARM
END:VEVENT
BEGIN:VEVENT
UID:crpd-61729063-20240630T170000@quickscores.com
DTSTAMP:20260420T030900Z
DTSTART;TZID=America/Los_Angeles:20240630T170000
DURATION:PT1H15M0S
SUMMARY:Bat Attitude vs. WPC
DESCRIPTION:Rescheduled Games From 4/14 --- Sunday Coed - Conejo Recreation and Park District
LOCATION:Borchard Park Field #1
CATEGORIES:QuickScores, Softball - Adult Game
TRANSP:OPAQUE
BEGIN:VALARM
TRIGGER:-PT2H
ACTION:DISPLAY
DESCRIPTION:Bat Attitude vs. WPC
END:VALARM
END:VEVENT
END:VCALENDAR
