BEGIN:VCALENDAR
VERSION:2.0
PRODID:-//QuickScores.com//BQ Dynamic iCal Creator//EN
METHOD:PUBLISH
X-WR-CALNAME:Allan & Jennifer - Wednesday Intermediate Mixed - 2023 Fall Pickleball League
X-WR-CALDESC:QuickScores game calendar
X-PUBLISHED-TTL:PT24H
REFRESH-INTERVAL;VALUE=DURATION:PT24H
CALSCALE:GREGORIAN
BEGIN:VTIMEZONE
TZID:America/Los_Angeles
X-LIC-LOCATION:America/Los_Angeles
BEGIN:DAYLIGHT
TZNAME:PDT
TZOFFSETFROM:-0800
TZOFFSETTO:-0700
DTSTART:19700308T020000
RRULE:FREQ=YEARLY;BYMONTH=3;BYDAY=2SU
END:DAYLIGHT
BEGIN:STANDARD
TZNAME:PST
TZOFFSETFROM:-0700
TZOFFSETTO:-0800
DTSTART:19701101T020000
RRULE:FREQ=YEARLY;BYMONTH=11;BYDAY=1SU
END:STANDARD
END:VTIMEZONE
BEGIN:VEVENT
UID:crpd-59953560-20230913T183000@quickscores.com
DTSTAMP:20260420T130600Z
DTSTART;TZID=America/Los_Angeles:20230913T183000
DURATION:PT0H45M0S
SUMMARY:Allan & Jennifer vs. Corinne & Gary
DESCRIPTION:Wednesday Intermediate Mixed - Conejo Recreation and Park District
LOCATION:Rancho Conejo Pickleball Court #9
CATEGORIES:QuickScores, Pickleball Game
TRANSP:OPAQUE
BEGIN:VALARM
TRIGGER:-PT2H
ACTION:DISPLAY
DESCRIPTION:Allan & Jennifer vs. Corinne & Gary
END:VALARM
END:VEVENT
BEGIN:VEVENT
UID:crpd-59953561-20230913T191500@quickscores.com
DTSTAMP:20260420T130600Z
DTSTART;TZID=America/Los_Angeles:20230913T191500
DURATION:PT0H45M0S
SUMMARY:Allan & Jennifer vs. Carol & Diane
DESCRIPTION:Wednesday Intermediate Mixed - Conejo Recreation and Park District
LOCATION:Rancho Conejo Pickleball Court #9
CATEGORIES:QuickScores, Pickleball Game
TRANSP:OPAQUE
BEGIN:VALARM
TRIGGER:-PT2H
ACTION:DISPLAY
DESCRIPTION:Allan & Jennifer vs. Carol & Diane
END:VALARM
END:VEVENT
BEGIN:VEVENT
UID:crpd-59953573-20230920T183000@quickscores.com
DTSTAMP:20260420T130600Z
DTSTART;TZID=America/Los_Angeles:20230920T183000
DURATION:PT0H45M0S
SUMMARY:Allan & Jennifer vs. Carmen & Scott
DESCRIPTION:Wednesday Intermediate Mixed - Conejo Recreation and Park District
LOCATION:Rancho Conejo Pickleball Court #10
CATEGORIES:QuickScores, Pickleball Game
TRANSP:OPAQUE
BEGIN:VALARM
TRIGGER:-PT2H
ACTION:DISPLAY
DESCRIPTION:Allan & Jennifer vs. Carmen & Scott
END:VALARM
END:VEVENT
BEGIN:VEVENT
UID:crpd-59953574-20230920T191500@quickscores.com
DTSTAMP:20260420T130600Z
DTSTART;TZID=America/Los_Angeles:20230920T191500
DURATION:PT0H45M0S
SUMMARY:Shelly & Enos vs. Allan & Jennifer
DESCRIPTION:Wednesday Intermediate Mixed - Conejo Recreation and Park District
LOCATION:Rancho Conejo Pickleball Court #10
CATEGORIES:QuickScores, Pickleball Game
TRANSP:OPAQUE
BEGIN:VALARM
TRIGGER:-PT2H
ACTION:DISPLAY
DESCRIPTION:Shelly & Enos vs. Allan & Jennifer
END:VALARM
END:VEVENT
BEGIN:VEVENT
UID:crpd-59953577-20230927T183000@quickscores.com
DTSTAMP:20260420T130600Z
DTSTART;TZID=America/Los_Angeles:20230927T183000
DURATION:PT0H45M0S
SUMMARY:Cindy & Camron vs. Allan & Jennifer
DESCRIPTION:Wednesday Intermediate Mixed - Conejo Recreation and Park District
LOCATION:Rancho Conejo Pickleball Court #9
CATEGORIES:QuickScores, Pickleball Game
TRANSP:OPAQUE
BEGIN:VALARM
TRIGGER:-PT2H
ACTION:DISPLAY
DESCRIPTION:Cindy & Camron vs. Allan & Jennifer
END:VALARM
END:VEVENT
BEGIN:VEVENT
UID:crpd-59953578-20230927T191500@quickscores.com
DTSTAMP:20260420T130600Z
DTSTART;TZID=America/Los_Angeles:20230927T191500
DURATION:PT0H45M0S
SUMMARY:Edie & Bill vs. Allan & Jennifer
DESCRIPTION:Wednesday Intermediate Mixed - Conejo Recreation and Park District
LOCATION:Rancho Conejo Pickleball Court #9
CATEGORIES:QuickScores, Pickleball Game
TRANSP:OPAQUE
BEGIN:VALARM
TRIGGER:-PT2H
ACTION:DISPLAY
DESCRIPTION:Edie & Bill vs. Allan & Jennifer
END:VALARM
END:VEVENT
BEGIN:VEVENT
UID:crpd-59953584-20231004T183000@quickscores.com
DTSTAMP:20260420T130600Z
DTSTART;TZID=America/Los_Angeles:20231004T183000
DURATION:PT0H45M0S
SUMMARY:Carol & Diane vs. Allan & Jennifer
DESCRIPTION:Wednesday Intermediate Mixed - Conejo Recreation and Park District
LOCATION:Rancho Conejo Pickleball Court #9
CATEGORIES:QuickScores, Pickleball Game
TRANSP:OPAQUE
BEGIN:VALARM
TRIGGER:-PT2H
ACTION:DISPLAY
DESCRIPTION:Carol & Diane vs. Allan & Jennifer
END:VALARM
END:VEVENT
BEGIN:VEVENT
UID:crpd-59953589-20231004T191500@quickscores.com
DTSTAMP:20260420T130600Z
DTSTART;TZID=America/Los_Angeles:20231004T191500
DURATION:PT0H45M0S
SUMMARY:Laurie & Scott vs. Allan & Jennifer
DESCRIPTION:Wednesday Intermediate Mixed - Conejo Recreation and Park District
LOCATION:Rancho Conejo Pickleball Court #9
CATEGORIES:QuickScores, Pickleball Game
TRANSP:OPAQUE
BEGIN:VALARM
TRIGGER:-PT2H
ACTION:DISPLAY
DESCRIPTION:Laurie & Scott vs. Allan & Jennifer
END:VALARM
END:VEVENT
BEGIN:VEVENT
UID:crpd-59953591-20231011T183000@quickscores.com
DTSTAMP:20260420T130600Z
DTSTART;TZID=America/Los_Angeles:20231011T183000
DURATION:PT0H45M0S
SUMMARY:Corinne & Gary vs. Allan & Jennifer
DESCRIPTION:Wednesday Intermediate Mixed - Conejo Recreation and Park District
LOCATION:Rancho Conejo Pickleball Court #8
CATEGORIES:QuickScores, Pickleball Game
TRANSP:OPAQUE
BEGIN:VALARM
TRIGGER:-PT2H
ACTION:DISPLAY
DESCRIPTION:Corinne & Gary vs. Allan & Jennifer
END:VALARM
END:VEVENT
BEGIN:VEVENT
UID:crpd-59953598-20231011T191500@quickscores.com
DTSTAMP:20260420T130600Z
DTSTART;TZID=America/Los_Angeles:20231011T191500
DURATION:PT0H45M0S
SUMMARY:Carmen & Scott vs. Allan & Jennifer
DESCRIPTION:Wednesday Intermediate Mixed - Conejo Recreation and Park District
LOCATION:Rancho Conejo Pickleball Court #8
CATEGORIES:QuickScores, Pickleball Game
TRANSP:OPAQUE
BEGIN:VALARM
TRIGGER:-PT2H
ACTION:DISPLAY
DESCRIPTION:Carmen & Scott vs. Allan & Jennifer
END:VALARM
END:VEVENT
BEGIN:VEVENT
UID:crpd-59953602-20231018T183000@quickscores.com
DTSTAMP:20260420T130600Z
DTSTART;TZID=America/Los_Angeles:20231018T183000
DURATION:PT0H45M0S
SUMMARY:Allan & Jennifer vs. Shelly & Enos
DESCRIPTION:Wednesday Intermediate Mixed - Conejo Recreation and Park District
LOCATION:Rancho Conejo Pickleball Court #7
CATEGORIES:QuickScores, Pickleball Game
TRANSP:OPAQUE
BEGIN:VALARM
TRIGGER:-PT2H
ACTION:DISPLAY
DESCRIPTION:Allan & Jennifer vs. Shelly & Enos
END:VALARM
END:VEVENT
BEGIN:VEVENT
UID:crpd-59953604-20231018T191500@quickscores.com
DTSTAMP:20260420T130600Z
DTSTART;TZID=America/Los_Angeles:20231018T191500
DURATION:PT0H45M0S
SUMMARY:Allan & Jennifer vs. Cindy & Camron
DESCRIPTION:Wednesday Intermediate Mixed - Conejo Recreation and Park District
LOCATION:Rancho Conejo Pickleball Court #7
CATEGORIES:QuickScores, Pickleball Game
TRANSP:OPAQUE
BEGIN:VALARM
TRIGGER:-PT2H
ACTION:DISPLAY
DESCRIPTION:Allan & Jennifer vs. Cindy & Camron
END:VALARM
END:VEVENT
BEGIN:VEVENT
UID:crpd-59953613-20231025T183000@quickscores.com
DTSTAMP:20260420T130600Z
DTSTART;TZID=America/Los_Angeles:20231025T183000
DURATION:PT0H45M0S
SUMMARY:Allan & Jennifer vs. Laurie & Scott
DESCRIPTION:Wednesday Intermediate Mixed - Conejo Recreation and Park District
LOCATION:Rancho Conejo Pickleball Court #8
CATEGORIES:QuickScores, Pickleball Game
TRANSP:OPAQUE
BEGIN:VALARM
TRIGGER:-PT2H
ACTION:DISPLAY
DESCRIPTION:Allan & Jennifer vs. Laurie & Scott
END:VALARM
END:VEVENT
BEGIN:VEVENT
UID:crpd-59953608-20231025T191500@quickscores.com
DTSTAMP:20260420T130600Z
DTSTART;TZID=America/Los_Angeles:20231025T191500
DURATION:PT0H45M0S
SUMMARY:Allan & Jennifer vs. Edie & Bill
DESCRIPTION:Wednesday Intermediate Mixed - Conejo Recreation and Park District
LOCATION:Rancho Conejo Pickleball Court #8
CATEGORIES:QuickScores, Pickleball Game
TRANSP:OPAQUE
BEGIN:VALARM
TRIGGER:-PT2H
ACTION:DISPLAY
DESCRIPTION:Allan & Jennifer vs. Edie & Bill
END:VALARM
END:VEVENT
BEGIN:VEVENT
UID:crpd-59953616-20231101T183000@quickscores.com
DTSTAMP:20260420T130600Z
DTSTART;TZID=America/Los_Angeles:20231101T183000
DURATION:PT0H45M0S
SUMMARY:Corinne & Gary vs. Allan & Jennifer
DESCRIPTION:Wednesday Intermediate Mixed - Conejo Recreation and Park District
LOCATION:Rancho Conejo Pickleball Court #10
CATEGORIES:QuickScores, Pickleball Game
TRANSP:OPAQUE
BEGIN:VALARM
TRIGGER:-PT2H
ACTION:DISPLAY
DESCRIPTION:Corinne & Gary vs. Allan & Jennifer
END:VALARM
END:VEVENT
BEGIN:VEVENT
UID:crpd-59953617-20231101T191500@quickscores.com
DTSTAMP:20260420T130600Z
DTSTART;TZID=America/Los_Angeles:20231101T191500
DURATION:PT0H45M0S
SUMMARY:Allan & Jennifer vs. Carol & Diane
DESCRIPTION:Wednesday Intermediate Mixed - Conejo Recreation and Park District
LOCATION:Rancho Conejo Pickleball Court #10
CATEGORIES:QuickScores, Pickleball Game
TRANSP:OPAQUE
BEGIN:VALARM
TRIGGER:-PT2H
ACTION:DISPLAY
DESCRIPTION:Allan & Jennifer vs. Carol & Diane
END:VALARM
END:VEVENT
END:VCALENDAR
