BEGIN:VCALENDAR
VERSION:2.0
PRODID:-//QuickScores.com//BQ Dynamic iCal Creator//EN
METHOD:PUBLISH
X-WR-CALNAME:Setting Ducks - Wednesday Coed - 2023 Summer Volleyball
X-WR-CALDESC:QuickScores game calendar
X-PUBLISHED-TTL:PT24H
REFRESH-INTERVAL;VALUE=DURATION:PT24H
CALSCALE:GREGORIAN
BEGIN:VTIMEZONE
TZID:America/Los_Angeles
X-LIC-LOCATION:America/Los_Angeles
BEGIN:DAYLIGHT
TZNAME:PDT
TZOFFSETFROM:-0800
TZOFFSETTO:-0700
DTSTART:19700308T020000
RRULE:FREQ=YEARLY;BYMONTH=3;BYDAY=2SU
END:DAYLIGHT
BEGIN:STANDARD
TZNAME:PST
TZOFFSETFROM:-0700
TZOFFSETTO:-0800
DTSTART:19701101T020000
RRULE:FREQ=YEARLY;BYMONTH=11;BYDAY=1SU
END:STANDARD
END:VTIMEZONE
BEGIN:VEVENT
UID:crpd-58434940-20230607T190000@quickscores.com
DTSTAMP:20260419T165400Z
DTSTART;TZID=America/Los_Angeles:20230607T190000
DURATION:PT1H0M0S
SUMMARY:Setting Ducks vs. Negma
DESCRIPTION:Wednesday Coed - Conejo Recreation and Park District
LOCATION:Thousand Oaks Community Center Court #2
CATEGORIES:QuickScores, Volleyball - Adult Game
TRANSP:OPAQUE
BEGIN:VALARM
TRIGGER:-PT2H
ACTION:DISPLAY
DESCRIPTION:Setting Ducks vs. Negma
END:VALARM
END:VEVENT
BEGIN:VEVENT
UID:crpd-58434943-20230621T190000@quickscores.com
DTSTAMP:20260419T165400Z
DTSTART;TZID=America/Los_Angeles:20230621T190000
DURATION:PT1H0M0S
SUMMARY:Setting Ducks vs. Sets and the City
DESCRIPTION:Wednesday Coed - Conejo Recreation and Park District
LOCATION:Thousand Oaks Community Center Court #1
CATEGORIES:QuickScores, Volleyball - Adult Game
TRANSP:OPAQUE
BEGIN:VALARM
TRIGGER:-PT2H
ACTION:DISPLAY
DESCRIPTION:Setting Ducks vs. Sets and the City
END:VALARM
END:VEVENT
BEGIN:VEVENT
UID:crpd-58434948-20230628T200000@quickscores.com
DTSTAMP:20260419T165400Z
DTSTART;TZID=America/Los_Angeles:20230628T200000
DURATION:PT1H0M0S
SUMMARY:Spikological Warfare vs. Setting Ducks
DESCRIPTION:Wednesday Coed - Conejo Recreation and Park District
LOCATION:Thousand Oaks Community Center Court #2
CATEGORIES:QuickScores, Volleyball - Adult Game
TRANSP:OPAQUE
BEGIN:VALARM
TRIGGER:-PT2H
ACTION:DISPLAY
DESCRIPTION:Spikological Warfare vs. Setting Ducks
END:VALARM
END:VEVENT
BEGIN:VEVENT
UID:crpd-58434950-20230705T200000@quickscores.com
DTSTAMP:20260419T165400Z
DTSTART;TZID=America/Los_Angeles:20230705T200000
DURATION:PT1H0M0S
SUMMARY:Setting Ducks vs. De Ja Vu
DESCRIPTION:Wednesday Coed - Conejo Recreation and Park District
LOCATION:Thousand Oaks Community Center Court #2
CATEGORIES:QuickScores, Volleyball - Adult Game
TRANSP:OPAQUE
BEGIN:VALARM
TRIGGER:-PT2H
ACTION:DISPLAY
DESCRIPTION:Setting Ducks vs. De Ja Vu
END:VALARM
END:VEVENT
BEGIN:VEVENT
UID:crpd-58434955-20230712T190000@quickscores.com
DTSTAMP:20260419T165400Z
DTSTART;TZID=America/Los_Angeles:20230712T190000
DURATION:PT1H0M0S
SUMMARY:Setting Ducks vs. You Go!
DESCRIPTION:Wednesday Coed - Conejo Recreation and Park District
LOCATION:Thousand Oaks Community Center Court #1
CATEGORIES:QuickScores, Volleyball - Adult Game
TRANSP:OPAQUE
BEGIN:VALARM
TRIGGER:-PT2H
ACTION:DISPLAY
DESCRIPTION:Setting Ducks vs. You Go!
END:VALARM
END:VEVENT
BEGIN:VEVENT
UID:crpd-58434957-20230719T200000@quickscores.com
DTSTAMP:20260419T165400Z
DTSTART;TZID=America/Los_Angeles:20230719T200000
DURATION:PT1H0M0S
SUMMARY:Ace Holes vs. Setting Ducks
DESCRIPTION:Wednesday Coed - Conejo Recreation and Park District
LOCATION:Thousand Oaks Community Center Court #1
CATEGORIES:QuickScores, Volleyball - Adult Game
TRANSP:OPAQUE
BEGIN:VALARM
TRIGGER:-PT2H
ACTION:DISPLAY
DESCRIPTION:Ace Holes vs. Setting Ducks
END:VALARM
END:VEVENT
BEGIN:VEVENT
UID:crpd-58434962-20230726T190000@quickscores.com
DTSTAMP:20260419T165400Z
DTSTART;TZID=America/Los_Angeles:20230726T190000
DURATION:PT1H0M0S
SUMMARY:Dinks vs. Setting Ducks
DESCRIPTION:Wednesday Coed - Conejo Recreation and Park District
LOCATION:Thousand Oaks Community Center Court #2
CATEGORIES:QuickScores, Volleyball - Adult Game
TRANSP:OPAQUE
BEGIN:VALARM
TRIGGER:-PT2H
ACTION:DISPLAY
DESCRIPTION:Dinks vs. Setting Ducks
END:VALARM
END:VEVENT
BEGIN:VEVENT
UID:crpd-58434968-20230802T200000@quickscores.com
DTSTAMP:20260419T165400Z
DTSTART;TZID=America/Los_Angeles:20230802T200000
DURATION:PT1H0M0S
SUMMARY:Negma vs. Setting Ducks
DESCRIPTION:Wednesday Coed - Conejo Recreation and Park District
LOCATION:Thousand Oaks Community Center Court #2
CATEGORIES:QuickScores, Volleyball - Adult Game
TRANSP:OPAQUE
BEGIN:VALARM
TRIGGER:-PT2H
ACTION:DISPLAY
DESCRIPTION:Negma vs. Setting Ducks
END:VALARM
END:VEVENT
BEGIN:VEVENT
UID:crpd-58434971-20230809T200000@quickscores.com
DTSTAMP:20260419T165400Z
DTSTART;TZID=America/Los_Angeles:20230809T200000
DURATION:PT1H0M0S
SUMMARY:Sets and the City vs. Setting Ducks
DESCRIPTION:Wednesday Coed - Conejo Recreation and Park District
LOCATION:Thousand Oaks Community Center Court #1
CATEGORIES:QuickScores, Volleyball - Adult Game
TRANSP:OPAQUE
BEGIN:VALARM
TRIGGER:-PT2H
ACTION:DISPLAY
DESCRIPTION:Sets and the City vs. Setting Ducks
END:VALARM
END:VEVENT
BEGIN:VEVENT
UID:crpd-58434976-20230816T200000@quickscores.com
DTSTAMP:20260419T165400Z
DTSTART;TZID=America/Los_Angeles:20230816T200000
DURATION:PT1H0M0S
SUMMARY:Setting Ducks vs. Spikological Warfare
DESCRIPTION:Wednesday Coed - Conejo Recreation and Park District
LOCATION:Thousand Oaks Community Center Court #2
CATEGORIES:QuickScores, Volleyball - Adult Game
TRANSP:OPAQUE
BEGIN:VALARM
TRIGGER:-PT2H
ACTION:DISPLAY
DESCRIPTION:Setting Ducks vs. Spikological Warfare
END:VALARM
END:VEVENT
END:VCALENDAR
