BEGIN:VCALENDAR
VERSION:2.0
PRODID:-//QuickScores.com//BQ Dynamic iCal Creator//EN
METHOD:PUBLISH
X-WR-CALNAME:Dinks - Wednesday Coed - 2023 Summer Volleyball
X-WR-CALDESC:QuickScores game calendar
X-PUBLISHED-TTL:PT24H
REFRESH-INTERVAL;VALUE=DURATION:PT24H
CALSCALE:GREGORIAN
BEGIN:VTIMEZONE
TZID:America/Los_Angeles
X-LIC-LOCATION:America/Los_Angeles
BEGIN:DAYLIGHT
TZNAME:PDT
TZOFFSETFROM:-0800
TZOFFSETTO:-0700
DTSTART:19700308T020000
RRULE:FREQ=YEARLY;BYMONTH=3;BYDAY=2SU
END:DAYLIGHT
BEGIN:STANDARD
TZNAME:PST
TZOFFSETFROM:-0700
TZOFFSETTO:-0800
DTSTART:19701101T020000
RRULE:FREQ=YEARLY;BYMONTH=11;BYDAY=1SU
END:STANDARD
END:VTIMEZONE
BEGIN:VEVENT
UID:crpd-58434939-20230607T190000@quickscores.com
DTSTAMP:20260419T165400Z
DTSTART;TZID=America/Los_Angeles:20230607T190000
DURATION:PT1H0M0S
SUMMARY:Spikological Warfare vs. Dinks
DESCRIPTION:Wednesday Coed - Conejo Recreation and Park District
LOCATION:Thousand Oaks Community Center Court #1
CATEGORIES:QuickScores, Volleyball - Adult Game
TRANSP:OPAQUE
BEGIN:VALARM
TRIGGER:-PT2H
ACTION:DISPLAY
DESCRIPTION:Spikological Warfare vs. Dinks
END:VALARM
END:VEVENT
BEGIN:VEVENT
UID:crpd-58434944-20230621T200000@quickscores.com
DTSTAMP:20260419T165400Z
DTSTART;TZID=America/Los_Angeles:20230621T200000
DURATION:PT1H0M0S
SUMMARY:Negma vs. Dinks
DESCRIPTION:Wednesday Coed - Conejo Recreation and Park District
LOCATION:Thousand Oaks Community Center Court #2
CATEGORIES:QuickScores, Volleyball - Adult Game
TRANSP:OPAQUE
BEGIN:VALARM
TRIGGER:-PT2H
ACTION:DISPLAY
DESCRIPTION:Negma vs. Dinks
END:VALARM
END:VEVENT
BEGIN:VEVENT
UID:crpd-58434946-20230628T200000@quickscores.com
DTSTAMP:20260419T165400Z
DTSTART;TZID=America/Los_Angeles:20230628T200000
DURATION:PT1H0M0S
SUMMARY:You Go! vs. Dinks
DESCRIPTION:Wednesday Coed - Conejo Recreation and Park District
LOCATION:Thousand Oaks Community Center Court #1
CATEGORIES:QuickScores, Volleyball - Adult Game
TRANSP:OPAQUE
BEGIN:VALARM
TRIGGER:-PT2H
ACTION:DISPLAY
DESCRIPTION:You Go! vs. Dinks
END:VALARM
END:VEVENT
BEGIN:VEVENT
UID:crpd-58434952-20230705T190000@quickscores.com
DTSTAMP:20260419T165400Z
DTSTART;TZID=America/Los_Angeles:20230705T190000
DURATION:PT1H0M0S
SUMMARY:Dinks vs. Sets and the City
DESCRIPTION:Wednesday Coed - Conejo Recreation and Park District
LOCATION:Thousand Oaks Community Center Court #2
CATEGORIES:QuickScores, Volleyball - Adult Game
TRANSP:OPAQUE
BEGIN:VALARM
TRIGGER:-PT2H
ACTION:DISPLAY
DESCRIPTION:Dinks vs. Sets and the City
END:VALARM
END:VEVENT
BEGIN:VEVENT
UID:crpd-58434953-20230712T200000@quickscores.com
DTSTAMP:20260419T165400Z
DTSTART;TZID=America/Los_Angeles:20230712T200000
DURATION:PT1H0M0S
SUMMARY:Ace Holes vs. Dinks
DESCRIPTION:Wednesday Coed - Conejo Recreation and Park District
LOCATION:Thousand Oaks Community Center Court #2
CATEGORIES:QuickScores, Volleyball - Adult Game
TRANSP:OPAQUE
BEGIN:VALARM
TRIGGER:-PT2H
ACTION:DISPLAY
DESCRIPTION:Ace Holes vs. Dinks
END:VALARM
END:VEVENT
BEGIN:VEVENT
UID:crpd-58434959-20230719T190000@quickscores.com
DTSTAMP:20260419T165400Z
DTSTART;TZID=America/Los_Angeles:20230719T190000
DURATION:PT1H0M0S
SUMMARY:De Ja Vu vs. Dinks
DESCRIPTION:Wednesday Coed - Conejo Recreation and Park District
LOCATION:Thousand Oaks Community Center Court #1
CATEGORIES:QuickScores, Volleyball - Adult Game
TRANSP:OPAQUE
BEGIN:VALARM
TRIGGER:-PT2H
ACTION:DISPLAY
DESCRIPTION:De Ja Vu vs. Dinks
END:VALARM
END:VEVENT
BEGIN:VEVENT
UID:crpd-58434962-20230726T190000@quickscores.com
DTSTAMP:20260419T165400Z
DTSTART;TZID=America/Los_Angeles:20230726T190000
DURATION:PT1H0M0S
SUMMARY:Dinks vs. Setting Ducks
DESCRIPTION:Wednesday Coed - Conejo Recreation and Park District
LOCATION:Thousand Oaks Community Center Court #2
CATEGORIES:QuickScores, Volleyball - Adult Game
TRANSP:OPAQUE
BEGIN:VALARM
TRIGGER:-PT2H
ACTION:DISPLAY
DESCRIPTION:Dinks vs. Setting Ducks
END:VALARM
END:VEVENT
BEGIN:VEVENT
UID:crpd-58434967-20230802T200000@quickscores.com
DTSTAMP:20260419T165400Z
DTSTART;TZID=America/Los_Angeles:20230802T200000
DURATION:PT1H0M0S
SUMMARY:Dinks vs. Spikological Warfare
DESCRIPTION:Wednesday Coed - Conejo Recreation and Park District
LOCATION:Thousand Oaks Community Center Court #1
CATEGORIES:QuickScores, Volleyball - Adult Game
TRANSP:OPAQUE
BEGIN:VALARM
TRIGGER:-PT2H
ACTION:DISPLAY
DESCRIPTION:Dinks vs. Spikological Warfare
END:VALARM
END:VEVENT
BEGIN:VEVENT
UID:crpd-58434972-20230809T190000@quickscores.com
DTSTAMP:20260419T165400Z
DTSTART;TZID=America/Los_Angeles:20230809T190000
DURATION:PT1H0M0S
SUMMARY:Dinks vs. Negma
DESCRIPTION:Wednesday Coed - Conejo Recreation and Park District
LOCATION:Thousand Oaks Community Center Court #1
CATEGORIES:QuickScores, Volleyball - Adult Game
TRANSP:OPAQUE
BEGIN:VALARM
TRIGGER:-PT2H
ACTION:DISPLAY
DESCRIPTION:Dinks vs. Negma
END:VALARM
END:VEVENT
BEGIN:VEVENT
UID:crpd-58434974-20230816T190000@quickscores.com
DTSTAMP:20260419T165400Z
DTSTART;TZID=America/Los_Angeles:20230816T190000
DURATION:PT1H0M0S
SUMMARY:Dinks vs. You Go!
DESCRIPTION:Wednesday Coed - Conejo Recreation and Park District
LOCATION:Thousand Oaks Community Center Court #2
CATEGORIES:QuickScores, Volleyball - Adult Game
TRANSP:OPAQUE
BEGIN:VALARM
TRIGGER:-PT2H
ACTION:DISPLAY
DESCRIPTION:Dinks vs. You Go!
END:VALARM
END:VEVENT
END:VCALENDAR
