BEGIN:VCALENDAR
VERSION:2.0
PRODID:-//QuickScores.com//BQ Dynamic iCal Creator//EN
METHOD:PUBLISH
X-WR-CALNAME:Negma - Wednesday Coed - 2023 Summer Volleyball
X-WR-CALDESC:QuickScores game calendar
X-PUBLISHED-TTL:PT24H
REFRESH-INTERVAL;VALUE=DURATION:PT24H
CALSCALE:GREGORIAN
BEGIN:VTIMEZONE
TZID:America/Los_Angeles
X-LIC-LOCATION:America/Los_Angeles
BEGIN:DAYLIGHT
TZNAME:PDT
TZOFFSETFROM:-0800
TZOFFSETTO:-0700
DTSTART:19700308T020000
RRULE:FREQ=YEARLY;BYMONTH=3;BYDAY=2SU
END:DAYLIGHT
BEGIN:STANDARD
TZNAME:PST
TZOFFSETFROM:-0700
TZOFFSETTO:-0800
DTSTART:19701101T020000
RRULE:FREQ=YEARLY;BYMONTH=11;BYDAY=1SU
END:STANDARD
END:VTIMEZONE
BEGIN:VEVENT
UID:crpd-58434940-20230607T190000@quickscores.com
DTSTAMP:20260419T215300Z
DTSTART;TZID=America/Los_Angeles:20230607T190000
DURATION:PT1H0M0S
SUMMARY:Setting Ducks vs. Negma
DESCRIPTION:Wednesday Coed - Conejo Recreation and Park District
LOCATION:Thousand Oaks Community Center Court #2
CATEGORIES:QuickScores, Volleyball - Adult Game
TRANSP:OPAQUE
BEGIN:VALARM
TRIGGER:-PT2H
ACTION:DISPLAY
DESCRIPTION:Setting Ducks vs. Negma
END:VALARM
END:VEVENT
BEGIN:VEVENT
UID:crpd-58434944-20230621T200000@quickscores.com
DTSTAMP:20260419T215300Z
DTSTART;TZID=America/Los_Angeles:20230621T200000
DURATION:PT1H0M0S
SUMMARY:Negma vs. Dinks
DESCRIPTION:Wednesday Coed - Conejo Recreation and Park District
LOCATION:Thousand Oaks Community Center Court #2
CATEGORIES:QuickScores, Volleyball - Adult Game
TRANSP:OPAQUE
BEGIN:VALARM
TRIGGER:-PT2H
ACTION:DISPLAY
DESCRIPTION:Negma vs. Dinks
END:VALARM
END:VEVENT
BEGIN:VEVENT
UID:crpd-58434947-20230628T190000@quickscores.com
DTSTAMP:20260419T215300Z
DTSTART;TZID=America/Los_Angeles:20230628T190000
DURATION:PT1H0M0S
SUMMARY:De Ja Vu vs. Negma
DESCRIPTION:Wednesday Coed - Conejo Recreation and Park District
LOCATION:Thousand Oaks Community Center Court #1
CATEGORIES:QuickScores, Volleyball - Adult Game
TRANSP:OPAQUE
BEGIN:VALARM
TRIGGER:-PT2H
ACTION:DISPLAY
DESCRIPTION:De Ja Vu vs. Negma
END:VALARM
END:VEVENT
BEGIN:VEVENT
UID:crpd-58434951-20230705T190000@quickscores.com
DTSTAMP:20260419T215300Z
DTSTART;TZID=America/Los_Angeles:20230705T190000
DURATION:PT1H0M0S
SUMMARY:You Go! vs. Negma
DESCRIPTION:Wednesday Coed - Conejo Recreation and Park District
LOCATION:Thousand Oaks Community Center Court #1
CATEGORIES:QuickScores, Volleyball - Adult Game
TRANSP:OPAQUE
BEGIN:VALARM
TRIGGER:-PT2H
ACTION:DISPLAY
DESCRIPTION:You Go! vs. Negma
END:VALARM
END:VEVENT
BEGIN:VEVENT
UID:crpd-58434954-20230712T200000@quickscores.com
DTSTAMP:20260419T215300Z
DTSTART;TZID=America/Los_Angeles:20230712T200000
DURATION:PT1H0M0S
SUMMARY:Sets and the City vs. Negma
DESCRIPTION:Wednesday Coed - Conejo Recreation and Park District
LOCATION:Thousand Oaks Community Center Court #1
CATEGORIES:QuickScores, Volleyball - Adult Game
TRANSP:OPAQUE
BEGIN:VALARM
TRIGGER:-PT2H
ACTION:DISPLAY
DESCRIPTION:Sets and the City vs. Negma
END:VALARM
END:VEVENT
BEGIN:VEVENT
UID:crpd-58434958-20230719T190000@quickscores.com
DTSTAMP:20260419T215300Z
DTSTART;TZID=America/Los_Angeles:20230719T190000
DURATION:PT1H0M0S
SUMMARY:Negma vs. Spikological Warfare
DESCRIPTION:Wednesday Coed - Conejo Recreation and Park District
LOCATION:Thousand Oaks Community Center Court #2
CATEGORIES:QuickScores, Volleyball - Adult Game
TRANSP:OPAQUE
BEGIN:VALARM
TRIGGER:-PT2H
ACTION:DISPLAY
DESCRIPTION:Negma vs. Spikological Warfare
END:VALARM
END:VEVENT
BEGIN:VEVENT
UID:crpd-58434961-20230726T200000@quickscores.com
DTSTAMP:20260419T215300Z
DTSTART;TZID=America/Los_Angeles:20230726T200000
DURATION:PT1H0M0S
SUMMARY:Negma vs. Ace Holes
DESCRIPTION:Wednesday Coed - Conejo Recreation and Park District
LOCATION:Thousand Oaks Community Center Court #1
CATEGORIES:QuickScores, Volleyball - Adult Game
TRANSP:OPAQUE
BEGIN:VALARM
TRIGGER:-PT2H
ACTION:DISPLAY
DESCRIPTION:Negma vs. Ace Holes
END:VALARM
END:VEVENT
BEGIN:VEVENT
UID:crpd-58434968-20230802T200000@quickscores.com
DTSTAMP:20260419T215300Z
DTSTART;TZID=America/Los_Angeles:20230802T200000
DURATION:PT1H0M0S
SUMMARY:Negma vs. Setting Ducks
DESCRIPTION:Wednesday Coed - Conejo Recreation and Park District
LOCATION:Thousand Oaks Community Center Court #2
CATEGORIES:QuickScores, Volleyball - Adult Game
TRANSP:OPAQUE
BEGIN:VALARM
TRIGGER:-PT2H
ACTION:DISPLAY
DESCRIPTION:Negma vs. Setting Ducks
END:VALARM
END:VEVENT
BEGIN:VEVENT
UID:crpd-58434972-20230809T190000@quickscores.com
DTSTAMP:20260419T215300Z
DTSTART;TZID=America/Los_Angeles:20230809T190000
DURATION:PT1H0M0S
SUMMARY:Dinks vs. Negma
DESCRIPTION:Wednesday Coed - Conejo Recreation and Park District
LOCATION:Thousand Oaks Community Center Court #1
CATEGORIES:QuickScores, Volleyball - Adult Game
TRANSP:OPAQUE
BEGIN:VALARM
TRIGGER:-PT2H
ACTION:DISPLAY
DESCRIPTION:Dinks vs. Negma
END:VALARM
END:VEVENT
BEGIN:VEVENT
UID:crpd-58434975-20230816T200000@quickscores.com
DTSTAMP:20260419T215300Z
DTSTART;TZID=America/Los_Angeles:20230816T200000
DURATION:PT1H0M0S
SUMMARY:Negma vs. De Ja Vu
DESCRIPTION:Wednesday Coed - Conejo Recreation and Park District
LOCATION:Thousand Oaks Community Center Court #1
CATEGORIES:QuickScores, Volleyball - Adult Game
TRANSP:OPAQUE
BEGIN:VALARM
TRIGGER:-PT2H
ACTION:DISPLAY
DESCRIPTION:Negma vs. De Ja Vu
END:VALARM
END:VEVENT
END:VCALENDAR
